BEGIN:VCALENDAR
VERSION:2.0
PRODID:-//SISSCO - ECPv6.15.20//NONSGML v1.0//EN
CALSCALE:GREGORIAN
METHOD:PUBLISH
X-WR-CALNAME:SISSCO
X-ORIGINAL-URL:https://www.sissco.it
X-WR-CALDESC:Eventi per SISSCO
REFRESH-INTERVAL;VALUE=DURATION:PT1H
X-Robots-Tag:noindex
X-PUBLISHED-TTL:PT1H
BEGIN:VTIMEZONE
TZID:Europe/Rome
BEGIN:DAYLIGHT
TZOFFSETFROM:+0100
TZOFFSETTO:+0200
TZNAME:CEST
DTSTART:20250330T010000
END:DAYLIGHT
BEGIN:STANDARD
TZOFFSETFROM:+0200
TZOFFSETTO:+0100
TZNAME:CET
DTSTART:20251026T010000
END:STANDARD
BEGIN:DAYLIGHT
TZOFFSETFROM:+0100
TZOFFSETTO:+0200
TZNAME:CEST
DTSTART:20260329T010000
END:DAYLIGHT
BEGIN:STANDARD
TZOFFSETFROM:+0200
TZOFFSETTO:+0100
TZNAME:CET
DTSTART:20261025T010000
END:STANDARD
BEGIN:DAYLIGHT
TZOFFSETFROM:+0100
TZOFFSETTO:+0200
TZNAME:CEST
DTSTART:20270328T010000
END:DAYLIGHT
BEGIN:STANDARD
TZOFFSETFROM:+0200
TZOFFSETTO:+0100
TZNAME:CET
DTSTART:20271031T010000
END:STANDARD
END:VTIMEZONE
BEGIN:VEVENT
DTSTART;TZID=Europe/Rome:20260421T123000
DTEND;TZID=Europe/Rome:20260421T143000
DTSTAMP:20260421T015129
CREATED:20260416T123524Z
LAST-MODIFIED:20260416T123536Z
UID:10003480-1776774600-1776781800@www.sissco.it
SUMMARY:Global Revolution(s) in the Long 1960s: Seminar Series 2026-2027
DESCRIPTION:Global Revolution(s) in the Long 1960s\nConnected Histories of Decolonisation\, Third Worldism\, and the New Radical Left \nSeminar series  2026-2027 \nThe GLOBALREV seminar series will produce a comprehensive map of the connected histories of decolonisation\, Third Worldism\, and the New Radical Left in Western Europe. Its main hypothesis is that Third Worldism had a defining impact on the new political cultures that flourished during the long 1960s (mid-1950s to mid-1970s)\, associating a renewed anti-fascism with anti-colonial struggles and a brand new theorisation of feminism. Moving beyond standard histories of political parties or international relations\, GLOBALREV aims at addressing the ‘cultural history of politics’ in a global perspective\, encompassing local\, national and transnational events\, actors and networks. \nProgetti di ricerca di Ateneo (PI Andrea Brazzoduro) \nhttps://www.unior.it/it/eventi/global-revolutions-long-1960s-seminar-series-2026-2027  \nUniversità di Napoli L’Orientale – Dipartimento di scienze umane e sociali  \n21 April\, 12:30-2:30pm – Aula 2.1\nLuca Peretti (Cambridge)\nLa battaglia di Algeri e il cinema anticoloniale italiano: micro e macrostorie \n4 May 2026\, 12:30-2:30pm – Aula dottorato\nSune Haugbolle (Roskilde)\nThe European New Left and the Emergence of Palestine Solidarity in the Long 1960s\n(In collaborazione con il Seminario permanente Global Palestine)  \n12 May 2026\, 12:30-2:30pm – Aula dottorato\nDamiano Matasci (Genève)\nI ‘Settanta sovversivi’ dell’attivismo educativo. Il Consiglio ecumenico delle Chiese\, la decolonizzazione e la genesi dell’antirazzismo globale \nTeams link: contattare andrea.brazzoduro@unior.it   \nNell’ambito dei corsi di\nStoria sociale (prof Andrea Brazzoduro)\nStoria contemporanea (prof Alessandra Gissi)  \nProgetto in collaborazione con\nUniversity of Cambridge – Faculty of Modern and Medieval Languages and Linguistics\nCentro Nazionale delle Ricerche – Istituto di studi sul Mediterraneo
URL:https://www.sissco.it/calendario/global-revolutions-in-the-long-1960s-seminar-series-2026-2027/
ORGANIZER;CN="Andrea Brazzoduro":MAILTO:andrea.brazzoduro@unior.it
END:VEVENT
BEGIN:VEVENT
DTSTART;TZID=Europe/Rome:20260421T180000
DTEND;TZID=Europe/Rome:20260421T193000
DTSTAMP:20260421T015129
CREATED:20260415T132539Z
LAST-MODIFIED:20260415T132539Z
UID:10003479-1776794400-1776799800@www.sissco.it
SUMMARY:Fare storia nel mondo globalizzato. Studi in onore di Agostino Giovagnoli
DESCRIPTION:Presentazione del volume “Fare storia nel mondo globalizzato. Studi in onore di Agostino Giovagnoli”\, Il Mulino\, Bologna 2025\, a cura di G. Del Zanna\, E. Giunipero\, D. Preda\, A. Roccucci. \nUniversità Cattolica di Milano\, 21 aprile ore 18 aula G.014 Negri da Oleggio \nIl volume raccoglie una serie di saggi che riflettono sulla storiografia di Agostino Giovagnoli. \nSaluti del Rettore dell’Università Cattolica del Sacro Cuore di Milano\, prof.ssa Elena Beccalli \nIntroduce e modera:\nPaolo Borruso\, Università Cattolica del Sacro Cuore di Milano \nPresentano:\nGiorgio Del Zanna\, Università Cattolica del Sacro Cuore di Milano\nElisa Giunipero\, Università Cattolica del Sacro Cuore di Milano \nIntervengono:\nAngelo Bianchi\, Università Cattolica del Sacro Cuore di Milano\nBeatrice Nicolini\, Università Cattolica del Sacro Cuore di Milano\nLuciano Pazzaglia\, Università Cattolica del Sacro Cuore di Milano\nGiuseppe Zecchini\, Università Cattolica del Sacro Cuore di Milano \nSarà presente Agostino Giovagnoli
URL:https://www.sissco.it/calendario/fare-storia-nel-mondo-globalizzato-studi-in-onore-di-agostino-giovagnoli/
END:VEVENT
END:VCALENDAR