BEGIN:VCALENDAR
VERSION:2.0
PRODID:-//SISSCO - ECPv6.15.20//NONSGML v1.0//EN
CALSCALE:GREGORIAN
METHOD:PUBLISH
X-WR-CALNAME:SISSCO
X-ORIGINAL-URL:https://www.sissco.it
X-WR-CALDESC:Eventi per SISSCO
REFRESH-INTERVAL;VALUE=DURATION:PT1H
X-Robots-Tag:noindex
X-PUBLISHED-TTL:PT1H
BEGIN:VTIMEZONE
TZID:Europe/Rome
BEGIN:DAYLIGHT
TZOFFSETFROM:+0100
TZOFFSETTO:+0200
TZNAME:CEST
DTSTART:20250330T010000
END:DAYLIGHT
BEGIN:STANDARD
TZOFFSETFROM:+0200
TZOFFSETTO:+0100
TZNAME:CET
DTSTART:20251026T010000
END:STANDARD
BEGIN:DAYLIGHT
TZOFFSETFROM:+0100
TZOFFSETTO:+0200
TZNAME:CEST
DTSTART:20260329T010000
END:DAYLIGHT
BEGIN:STANDARD
TZOFFSETFROM:+0200
TZOFFSETTO:+0100
TZNAME:CET
DTSTART:20261025T010000
END:STANDARD
BEGIN:DAYLIGHT
TZOFFSETFROM:+0100
TZOFFSETTO:+0200
TZNAME:CEST
DTSTART:20270328T010000
END:DAYLIGHT
BEGIN:STANDARD
TZOFFSETFROM:+0200
TZOFFSETTO:+0100
TZNAME:CET
DTSTART:20271031T010000
END:STANDARD
END:VTIMEZONE
BEGIN:VEVENT
DTSTART;VALUE=DATE:20260423
DTEND;VALUE=DATE:20260424
DTSTAMP:20260423T021947
CREATED:20260418T065726Z
LAST-MODIFIED:20260418T065726Z
UID:10003485-1776902400-1776988799@www.sissco.it
SUMMARY:GIUSTIZIA STRAORDINARIA\, ARCHIVI STRAORDINARI. Le carte delle Corti di assise straordinarie fra mediazione archivistica e ricerca storica
DESCRIPTION:L’incontro\, inserito nelle celebrazioni del 25 aprile del Comune di Parma\, intende favorire il confronto tra archivisti e storici sull’ordinamento e l’interpretazione dei fondi documentari prodotti dalla giustizia straordinaria nel secondo dopoguerra\, arricchito dalle recenti acquisizioni dell’Archivio di Stato di Parma.
URL:https://www.sissco.it/calendario/giustizia-straordinaria-archivi-straordinari-le-carte-delle-corti-di-assise-straordinarie-fra-mediazione-archivistica-e-ricerca-storica/
ATTACH;FMTTYPE=image/png:https://www.sissco.it/wp-content/uploads/2026/04/Parma-Arc-St-23-aprile-2026.png
END:VEVENT
BEGIN:VEVENT
DTSTART;TZID=Europe/Rome:20260423T150000
DTEND;TZID=Europe/Rome:20260423T170000
DTSTAMP:20260423T021947
CREATED:20260408T134408Z
LAST-MODIFIED:20260408T134540Z
UID:10003470-1776956400-1776963600@www.sissco.it
SUMMARY:Pietro Tacchi Venturi s.j. e il soccorso agli ebrei (1938-1943). Nuovi documenti e prospettive di ricerca
DESCRIPTION:Università di Genova\, Via Balbi 2\, Aula 7\nGiovedì 23 aprile\, alle ore 15:00\, nell’ambito delle attività del Dottorato STARCH (UNIGE) si terrà il seminario di \nRAFFAELLA PERIN (Università Cattolica del Sacro Cuore)\, Pietro Tacchi Venturi s.j. e il soccorso agli ebrei (1938-1943). Nuovi documenti e prospettive di ricerca. \nL’evento\, organizzato in collaborazione con il CENTRA (Centre for the History of Racism and Anti-Racism in Modern Italy\, DAFIST)\, si svolgerà in formato ibrido.\nÈ possibile partecipare da remoto su Teams\, scrivendo all’indirizzo centrastudies@gmail.com
URL:https://www.sissco.it/calendario/pietro-tacchi-venturi-s-j-e-il-soccorso-agli-ebrei-1938-1943-nuovi-documenti-e-prospettive-di-ricerca/
ATTACH;FMTTYPE=image/jpeg:https://www.sissco.it/wp-content/uploads/2026/04/Locandina-Perin-2026.jpg
ORGANIZER;CN="Dottorato in Storia%2C Storia dell%E2%80%99Arte e Archeologia (STARCH)%2C Universit%C3%A0 di Genova - CENTRA (Centre for the History of Racism and Anti-Racism in Modern Italy%2C DAFIST)":MAILTO:centrastudies@gmail.com
END:VEVENT
BEGIN:VEVENT
DTSTART;TZID=Europe/Rome:20260423T170000
DTEND;TZID=Europe/Rome:20260423T190000
DTSTAMP:20260423T021947
CREATED:20260417T170648Z
LAST-MODIFIED:20260420T073734Z
UID:10003483-1776963600-1776970800@www.sissco.it
SUMMARY:Meglio poter scegliere. I referendum del 1995 e la battaglia per la televisione commerciale
DESCRIPTION:Giovedì 23 alle 16.30 presso la sede della Domus Mazziniana (via Massimo d’Azeglio 14)\, secondo appuntamento del ciclo dedicato agli 80 anni della Repubblica.\nL’incontro affronterà la nascita della TV commerciale e i referendum del 1995.\nA parlarne Alberto Mingardi\, docente allo IULM di Milano e direttore dell’Istituto Bruno Leoni\, autore di Meglio poter scegliere. I referendum del 1995 e la battaglia per la televisione commerciale (Milano\, Monddori\, 2025).\nPer l’autore quella delle tv commerciali fu ‘«unica rivoluzione liberale che c’è stata» in Italia\, nonostante l’ostilità della politica e il peso del monopolio pubblico. Una rivoluzione i cui effetti sarebbero stati permanenti sulla società e sui costumi italiani ma anche sulla politica segnando il passaggio dalla prima alla seconda repubblica.\nA discutere con Mingardi Antonio Masala\, docente di Filosofia Politica all’Università di Pisa\, e il direttore della Domus Mazziniana\, Pietro Finelli.\nL’evento è pienamente accessibile libero e gratuito fino ad esaurimento dei post.\nDiretta streaming sui canali social della Domus Mazziniana (youtube e facebook).\nPer informazioni e contatti: eventi@domusmazziniana.it
URL:https://www.sissco.it/calendario/meglio-poter-scegliere-i-referendum-del-1995-e-la-battaglia-per-la-televisione-commerciale/
ATTACH;FMTTYPE=image/jpeg:https://www.sissco.it/wp-content/uploads/2026/04/tv-referendum-02-1-1.jpg
ORGANIZER;CN="Domus Mazziniana":MAILTO:eventi@domusmazziniana.it
END:VEVENT
END:VCALENDAR