BEGIN:VCALENDAR
VERSION:2.0
PRODID:-//SISSCO - ECPv6.15.20//NONSGML v1.0//EN
CALSCALE:GREGORIAN
METHOD:PUBLISH
X-WR-CALNAME:SISSCO
X-ORIGINAL-URL:https://www.sissco.it
X-WR-CALDESC:Eventi per SISSCO
REFRESH-INTERVAL;VALUE=DURATION:PT1H
X-Robots-Tag:noindex
X-PUBLISHED-TTL:PT1H
BEGIN:VTIMEZONE
TZID:Europe/Rome
BEGIN:DAYLIGHT
TZOFFSETFROM:+0100
TZOFFSETTO:+0200
TZNAME:CEST
DTSTART:20170326T010000
END:DAYLIGHT
BEGIN:STANDARD
TZOFFSETFROM:+0200
TZOFFSETTO:+0100
TZNAME:CET
DTSTART:20171029T010000
END:STANDARD
BEGIN:DAYLIGHT
TZOFFSETFROM:+0100
TZOFFSETTO:+0200
TZNAME:CEST
DTSTART:20180325T010000
END:DAYLIGHT
BEGIN:STANDARD
TZOFFSETFROM:+0200
TZOFFSETTO:+0100
TZNAME:CET
DTSTART:20181028T010000
END:STANDARD
BEGIN:DAYLIGHT
TZOFFSETFROM:+0100
TZOFFSETTO:+0200
TZNAME:CEST
DTSTART:20190331T010000
END:DAYLIGHT
BEGIN:STANDARD
TZOFFSETFROM:+0200
TZOFFSETTO:+0100
TZNAME:CET
DTSTART:20191027T010000
END:STANDARD
END:VTIMEZONE
BEGIN:VEVENT
DTSTART;TZID=Europe/Rome:20181005T180000
DTEND;TZID=Europe/Rome:20181005T235900
DTSTAMP:20260424T225917
CREATED:20180922T135653Z
LAST-MODIFIED:20180922T135802Z
UID:10001842-1538762400-1538783940@www.sissco.it
SUMMARY:Premio nazionale di Storia contemporanea Friuli Storia
DESCRIPTION:PREMIO NAZIONALE DI STORIA CONTEMPORANEA FRIULI STORIA\nCerimonia di premiazione della V edizione \nVENERDÌ 5 OTTOBRE 2018\nORE 18.00\nSala Ajace\, palazzo D’Aronco\, Udine\nIngresso libero fino ad esaurimento posti\nInfo: segreteria@friulistoria.it \nIntroduce: Omar Monestier\, Direttore del Messaggero Veneto \nSaluto del Sindaco di Udine\, Pietro Fontanini \nPresentazione dei finalisti a cura della Redazione del Messaggero Veneto scuola.\nLetture di Giovanni Nistri \nEmanuele Ertola\, In terra d’Africa. Gli italiani che colonizzarono l’impero (Laterza)\nMarco Mondini\, Il Capo. La Grande Guerra del generale Luigi Cadorna (Il Mulino)\nMarco Monte\, La grande carestia del 1813-1817 in Friuli. L’ultima grande crisi di sussistenza del mondo occidentale (Gaspari) \nConsegnano il premio: Giulio Giustiniani (Presidente dell’Associazione Friuli Storia) e Tommaso Piffer (Presidente della giuria scientifica)
URL:https://www.sissco.it/calendario/premio-nazionale-di-storia-contemporanea-friuli-storia/
LOCATION:Sala Ajace di palazzo D’Aronco\, Udine\, Udine\, Italia
CATEGORIES:Altro
ORGANIZER;CN="Tommaso Piffer":MAILTO:tp364@cam.ac.uk
END:VEVENT
BEGIN:VEVENT
DTSTART;VALUE=DATE:20181023
DTEND;VALUE=DATE:20181028
DTSTAMP:20260424T225917
CREATED:20181015T090938Z
LAST-MODIFIED:20181015T091446Z
UID:10000602-1540252800-1540684799@www.sissco.it
SUMMARY:Quando infuriava il rock – Il ’68 all’Est – Dissenso e controcultura
DESCRIPTION:Dal 23al 27 ottobre l’Università degli Studi di Milano ospita la mostra Quando infuriava il rock. Il ‘68 all’est. Dissenso e controcultura\, a cura di Carla Tonini\, docente di Storia dell’Europa Orientale all’Università di Bologna\, progetto grafico di Martino Gasparini.\nLa mostra offre al pubblico italiano un quadro inedito della realtà dell’opposizione culturale nell’Europa dell’Est e delle forme da essa assunte negli anni ’60. \nNel 1968 l’URSS e alcuni paesi dell’ex Blocco sovietico furono scossi da eventi drammatici come la primavera di Praga e le proteste studentesche in Polonia e in Jugoslavia. Il ’68 non fu solo un anno di repressioni\, propaganda aggressiva e violente proteste\, ma divenne l’apice di una vivace controcultura di cui furono protagonisti gruppi dissidenti e pacifisti e movimenti artistici e musicali\, che ebbero diffusione anche in stati in cui il controllo e la repressione del dissenso politico erano particolarmente efficaci. Gli influssi occidentali si fusero con le tradizioni dei singoli paesi\, dando vita a esperimenti innovativi. \nLa mostra presenta immagini e documenti che illustrano gli eventi salienti della scena politica e culturale est-europea nel 1968 e negli anni immediatamente successivi. \n  \n\n\n\n\n\n\n\n\nInaugurazione 23 ottobre 2018 ore 11\,00\nIntervengono: Laura Rossi (Università degli Studi di Milano)\, Carlo Montalbetti (Direttore generale Comieco)\,\nCarla Tonini (Università degli Studi di Bologna). \nLa mostra è la seconda tappa del progetto: La libertà viaggia con la carta\, sponsorizzato da Memorial Italia e Comieco.\nI materiali provengono dai seguenti archivi:\nMemorial\, Mosca\nRobert-Havemann-Gesellschaft\, Berlin\nHungarian Rockmuzeum\, Budapest\nFondo Jiří Pelikán\, Archivio storico della Camera dei Deputati\, Roma \nLa mostra è organizzata da \n\n\n\n\n\n\n\n\n\n\n\n\n\n\n\n\n\n \n\n\n\n\n\n\n\n\n \n\n\n\n\n\n\n\n\n 
URL:https://www.sissco.it/calendario/quando-infuriava-il-rock-il-68-allest-dissenso-e-controcultura/
LOCATION:Università degli Studi di Milano-Atrio Aula Magna\, Via Festa del Perdono 7\, Milano\, 20122\, Italia
CATEGORIES:Altro
END:VEVENT
END:VCALENDAR