BEGIN:VCALENDAR
VERSION:2.0
PRODID:-//SISSCO - ECPv6.15.20//NONSGML v1.0//EN
CALSCALE:GREGORIAN
METHOD:PUBLISH
X-WR-CALNAME:SISSCO
X-ORIGINAL-URL:https://www.sissco.it
X-WR-CALDESC:Eventi per SISSCO
REFRESH-INTERVAL;VALUE=DURATION:PT1H
X-Robots-Tag:noindex
X-PUBLISHED-TTL:PT1H
BEGIN:VTIMEZONE
TZID:Europe/Rome
BEGIN:DAYLIGHT
TZOFFSETFROM:+0100
TZOFFSETTO:+0200
TZNAME:CEST
DTSTART:20180325T010000
END:DAYLIGHT
BEGIN:STANDARD
TZOFFSETFROM:+0200
TZOFFSETTO:+0100
TZNAME:CET
DTSTART:20181028T010000
END:STANDARD
BEGIN:DAYLIGHT
TZOFFSETFROM:+0100
TZOFFSETTO:+0200
TZNAME:CEST
DTSTART:20190331T010000
END:DAYLIGHT
BEGIN:STANDARD
TZOFFSETFROM:+0200
TZOFFSETTO:+0100
TZNAME:CET
DTSTART:20191027T010000
END:STANDARD
BEGIN:DAYLIGHT
TZOFFSETFROM:+0100
TZOFFSETTO:+0200
TZNAME:CEST
DTSTART:20200329T010000
END:DAYLIGHT
BEGIN:STANDARD
TZOFFSETFROM:+0200
TZOFFSETTO:+0100
TZNAME:CET
DTSTART:20201025T010000
END:STANDARD
END:VTIMEZONE
BEGIN:VEVENT
DTSTART;VALUE=DATE:20190912
DTEND;VALUE=DATE:20190913
DTSTAMP:20260424T030601
CREATED:20190912T061640Z
LAST-MODIFIED:20190912T061640Z
UID:10002022-1568246400-1568332799@www.sissco.it
SUMMARY:Premio Galasso 2019
DESCRIPTION:La Società Napoletana di Storia Patria bandisce il Premio Giuseppe Galasso 2019
URL:https://www.sissco.it/calendario/premio-galasso-2019/
LOCATION:Napoli\,  Castel Nuovo (Maschio Angioino)\, Via Vittorio Emanule III\, Napoli\, 80131\, Italia
CATEGORIES:Altro
ORGANIZER;CN="Renata De Lorenzo":MAILTO:deloren@unina.it
END:VEVENT
BEGIN:VEVENT
DTSTART;TZID=Europe/Rome:20190918T160000
DTEND;TZID=Europe/Rome:20190918T235900
DTSTAMP:20260424T030601
CREATED:20190910T151021Z
LAST-MODIFIED:20190910T151021Z
UID:10002019-1568822400-1568851140@www.sissco.it
SUMMARY:Open day ISEC per la scuola 2019/2020
DESCRIPTION:Fondazione ISEC vi invita all’incontro di presentazione delle nostre attività didattiche e formative per l’anno scolastico 2019/2020.Monica Di Barbora\, responsabile della sezione didattica\, introduce e presenta le iniziative.Sarà presente lo staff della Fondazione per illustrare le caratteristiche e le potenzialità del patrimonio per la didattica.\nPotete vedere i resoconti delle attività svolte negli scorsi anni scolastici sulla nostra pagina dedicata alla didattica.E potete scaricare l’ultimo Annual report dedicato all’anno scolastico 2018/2019.
URL:https://www.sissco.it/calendario/open-day-isec-per-la-scuola-20192020/
LOCATION:Fondazione ISEC\, Largo La Marmora 17\, Sesto San Giovanni\, 20146\, Italia
CATEGORIES:Altro
ORGANIZER;CN="sara zanisi":MAILTO:comunicazione@fondazioneisec.it
END:VEVENT
END:VCALENDAR