BEGIN:VCALENDAR
VERSION:2.0
PRODID:-//SISSCO - ECPv6.15.20//NONSGML v1.0//EN
CALSCALE:GREGORIAN
METHOD:PUBLISH
X-WR-CALNAME:SISSCO
X-ORIGINAL-URL:https://www.sissco.it
X-WR-CALDESC:Eventi per SISSCO
REFRESH-INTERVAL;VALUE=DURATION:PT1H
X-Robots-Tag:noindex
X-PUBLISHED-TTL:PT1H
BEGIN:VTIMEZONE
TZID:Europe/Rome
BEGIN:DAYLIGHT
TZOFFSETFROM:+0100
TZOFFSETTO:+0200
TZNAME:CEST
DTSTART:20190331T010000
END:DAYLIGHT
BEGIN:STANDARD
TZOFFSETFROM:+0200
TZOFFSETTO:+0100
TZNAME:CET
DTSTART:20191027T010000
END:STANDARD
BEGIN:DAYLIGHT
TZOFFSETFROM:+0100
TZOFFSETTO:+0200
TZNAME:CEST
DTSTART:20200329T010000
END:DAYLIGHT
BEGIN:STANDARD
TZOFFSETFROM:+0200
TZOFFSETTO:+0100
TZNAME:CET
DTSTART:20201025T010000
END:STANDARD
BEGIN:DAYLIGHT
TZOFFSETFROM:+0100
TZOFFSETTO:+0200
TZNAME:CEST
DTSTART:20210328T010000
END:DAYLIGHT
BEGIN:STANDARD
TZOFFSETFROM:+0200
TZOFFSETTO:+0100
TZNAME:CET
DTSTART:20211031T010000
END:STANDARD
END:VTIMEZONE
BEGIN:VEVENT
DTSTART;TZID=Europe/Rome:20201113T100000
DTEND;TZID=Europe/Rome:20201113T235900
DTSTAMP:20260423T003018
CREATED:20201106T164548Z
LAST-MODIFIED:20201106T164548Z
UID:10000876-1605261600-1605311940@www.sissco.it
SUMMARY:I confini della storia. Un dialogo fra storici e letterati
DESCRIPTION:BOOKCITY 2020 \nNella pratica scolastica corrente\, gli insegnamenti della letteratura e della storia convivono in uno spazio didattico ibrido\, per certi aspetti scomodo\, per altri portatore di utili prospettive: dove finisce la storia e dove comincia la letteratura? \nCon \nAngela Borghesi (Università Milano Bicocca) \nMassimo De Giuseppe (Università IULM) \nPaolo Giovannetti (UniversitàIULM)\, \nSilvia Salvatici (Università degli Studi di Milano) \nPer iscrizioni: https://www.surveygizmo.eu/s3/90281744/IULM-per-Bookcity-Milano-2020
URL:https://www.sissco.it/calendario/i-confini-della-storia-un-dialogo-fra-storici-e-letterati/
LOCATION:Università IULM  (aula virtuale)\, Via Carlo Bo\, 1\, Milano\, 20143\, Italia
CATEGORIES:Altro
END:VEVENT
END:VCALENDAR