BEGIN:VCALENDAR
VERSION:2.0
PRODID:-//SISSCO - ECPv6.15.20//NONSGML v1.0//EN
CALSCALE:GREGORIAN
METHOD:PUBLISH
X-WR-CALNAME:SISSCO
X-ORIGINAL-URL:https://www.sissco.it
X-WR-CALDESC:Eventi per SISSCO
REFRESH-INTERVAL;VALUE=DURATION:PT1H
X-Robots-Tag:noindex
X-PUBLISHED-TTL:PT1H
BEGIN:VTIMEZONE
TZID:Europe/Rome
BEGIN:DAYLIGHT
TZOFFSETFROM:+0100
TZOFFSETTO:+0200
TZNAME:CEST
DTSTART:20200329T010000
END:DAYLIGHT
BEGIN:STANDARD
TZOFFSETFROM:+0200
TZOFFSETTO:+0100
TZNAME:CET
DTSTART:20201025T010000
END:STANDARD
BEGIN:DAYLIGHT
TZOFFSETFROM:+0100
TZOFFSETTO:+0200
TZNAME:CEST
DTSTART:20210328T010000
END:DAYLIGHT
BEGIN:STANDARD
TZOFFSETFROM:+0200
TZOFFSETTO:+0100
TZNAME:CET
DTSTART:20211031T010000
END:STANDARD
BEGIN:DAYLIGHT
TZOFFSETFROM:+0100
TZOFFSETTO:+0200
TZNAME:CEST
DTSTART:20220327T010000
END:DAYLIGHT
BEGIN:STANDARD
TZOFFSETFROM:+0200
TZOFFSETTO:+0100
TZNAME:CET
DTSTART:20221030T010000
END:STANDARD
END:VTIMEZONE
BEGIN:VEVENT
DTSTART;TZID=Europe/Rome:20210206T143000
DTEND;TZID=Europe/Rome:20210207T235900
DTSTAMP:20260422T190110
CREATED:20210201T224952Z
LAST-MODIFIED:20210201T232019Z
UID:10002142-1612621800-1612742340@www.sissco.it
SUMMARY:Vite che non sono la tua. Quattro intellettuali in fuga dall’Italia fascista
DESCRIPTION:Rai Radio 3\, Silvia Bencivelli presenta quattro storie di vita dal portale di Patrizia Guarnieri http://intellettualinfuga.fupress.com.\nSabato 6 febbraio: Giacomo Ancona\, domenica 7 febbraio: Giselda Biancalani. Dalle 14.30 alle 15.00.\nA cura di Paola Tagliolini\, regia di Ornella Bellucci
URL:https://www.sissco.it/calendario/vite-che-non-sono-la-tua-quattro-intellettuali-in-fuga-dallitalia-fascista/
CATEGORIES:Altro
END:VEVENT
BEGIN:VEVENT
DTSTART;TZID=Europe/Rome:20210213T143000
DTEND;TZID=Europe/Rome:20210214T235900
DTSTAMP:20260422T190110
CREATED:20210208T174804Z
LAST-MODIFIED:20210208T174924Z
UID:10000894-1613226600-1613347140@www.sissco.it
SUMMARY:Vite che non sono la tua. Quattro intellettuali in fuga dall’Italia fascista
DESCRIPTION:Rai Radio 3\, Silvia Bencivelli presenta quattro storie di vita dal portale di Patrizia Guarnieri http://intellettualinfuga.fupress.com. Sabato 13 febbraio: Vinicio Barocas\, domenica 14 febbraio: Renata Calabresi. Dalle 14.30 alle 15.00. A cura di Paola Tagliolini\, regia di Ornella Bellucci
URL:https://www.sissco.it/calendario/vite-che-non-sono-la-tua-quattro-intellettuali-in-fuga-dallitalia-fascista-2/
LOCATION:Milano\, Italia
CATEGORIES:Altro
END:VEVENT
END:VCALENDAR