BEGIN:VCALENDAR
VERSION:2.0
PRODID:-//SISSCO - ECPv6.15.20//NONSGML v1.0//EN
CALSCALE:GREGORIAN
METHOD:PUBLISH
X-ORIGINAL-URL:https://www.sissco.it
X-WR-CALDESC:Eventi per SISSCO
REFRESH-INTERVAL;VALUE=DURATION:PT1H
X-Robots-Tag:noindex
X-PUBLISHED-TTL:PT1H
BEGIN:VTIMEZONE
TZID:Europe/Rome
BEGIN:DAYLIGHT
TZOFFSETFROM:+0100
TZOFFSETTO:+0200
TZNAME:CEST
DTSTART:20150329T010000
END:DAYLIGHT
BEGIN:STANDARD
TZOFFSETFROM:+0200
TZOFFSETTO:+0100
TZNAME:CET
DTSTART:20151025T010000
END:STANDARD
BEGIN:DAYLIGHT
TZOFFSETFROM:+0100
TZOFFSETTO:+0200
TZNAME:CEST
DTSTART:20160327T010000
END:DAYLIGHT
BEGIN:STANDARD
TZOFFSETFROM:+0200
TZOFFSETTO:+0100
TZNAME:CET
DTSTART:20161030T010000
END:STANDARD
BEGIN:DAYLIGHT
TZOFFSETFROM:+0100
TZOFFSETTO:+0200
TZNAME:CEST
DTSTART:20170326T010000
END:DAYLIGHT
BEGIN:STANDARD
TZOFFSETFROM:+0200
TZOFFSETTO:+0100
TZNAME:CET
DTSTART:20171029T010000
END:STANDARD
END:VTIMEZONE
BEGIN:VEVENT
DTSTART;TZID=Europe/Rome:20160503T150000
DTEND;TZID=Europe/Rome:20160504T230000
DTSTAMP:20260426T045300
CREATED:20160419T124801Z
LAST-MODIFIED:20160419T124937Z
UID:10001491-1462287600-1462402800@www.sissco.it
SUMMARY:Musei Traumi Memorie del Novecento
DESCRIPTION:Convegno internazionale organizzato da Università di Bologna Dipartimento di Storie Culture Civiltà Scuola Superiore di Studi Umanistici Centro Interuniversitario di Storia Culturale In collaborazione con TraMe Alliance Française
URL:https://www.sissco.it/calendario/musei-traumi-memorie-del-novecento/
LOCATION:Dipartimento di Storia Culture Civiltà – Università di Bologna\, Piazza San Giovanni in Monte\, Bologna\, Italia
CATEGORIES:Convegno
ORGANIZER;CN="Centro Interuniversitario di Storia Culturale (CSC)":MAILTO:federico.mazzini@unipd.it
END:VEVENT
BEGIN:VEVENT
DTSTART;TZID=Europe/Rome:20160505T150000
DTEND;TZID=Europe/Rome:20160506T235900
DTSTAMP:20260426T045300
CREATED:20160428T100702Z
LAST-MODIFIED:20160428T100702Z
UID:10000247-1462460400-1462579140@www.sissco.it
SUMMARY:I Balcani\, la Bulgaria e l’Italia durante la Guerra fredda
DESCRIPTION:Giovedì 5 maggio 2016\, ore 15 \nApertura dei lavori e indirizzi di saluto \nAlberto Basciani\, La diplomazia italiana e la nascita delle Repubbliche popolari nel Sud-est dell’Europa \nFrancesco Guida\, La Bulgaria verso il regime comunista nella visione dei diplomatici italiani \nPausa \nAlexandre Kostov\, I rapporti economici tra la Bulgaria e l’Italia dal 1945 al 1989 \nAntonio D’Alessandri\, Gli esiti della pianificazione economica in Bulgaria e i rapporti commerciali con l’Italia (anni Cinquanta e Sessanta) \nVenerdì 6 maggio 2016\, ore 9.30 \nPenka Danova\, Studi ed edizioni di fonti italiane per la storia bulgara in Bulgaria. Bilancio di un ventennio \nSvetlozar Eldarov\, Παράνοια: Tratti della vita quotidiana nell’Ambasciata bulgara a Roma negli anni Cinquanta del secolo scorso \nLuigi Vittorio Ferraris\, Una esperienza diplomatica a Sofia negli anni Sessanta \nPausa \nRita Tolomeo\, La persecuzione dei cattolici nella Bulgaria comunista \nGiuseppe  Cossuto\, Echi in Italia della persecuzione delle popolazioni musulmane e di lingua turca nella Bulgaria degli anni Cinquanta \nConclusioni
URL:https://www.sissco.it/calendario/i-balcani-la-bulgaria-e-litalia-durante-la-guerra-fredda/
CATEGORIES:Convegno
ORGANIZER;CN="Antonio D'Alessandri":MAILTO:antonio.dalessandri@uniroma3.it
END:VEVENT
BEGIN:VEVENT
DTSTART;TZID=Europe/Rome:20160509T143000
DTEND;TZID=Europe/Rome:20160511T235900
DTSTAMP:20260426T045300
CREATED:20160502T084459Z
LAST-MODIFIED:20160502T084459Z
UID:10001501-1462804200-1463011140@www.sissco.it
SUMMARY:“LA CUCCAGNA”. I MEDIA AUDIOVISIVI E L’ITALIA DEL MIRACOLO
DESCRIPTION: \n“LA CUCCAGNA”\n \nI MEDIA AUDIOVISIVI E L’ITALIA DEL MIRACOLO\n \nConvegno Internazionale di Studi\n \ndedicato alla memoria di Aurelio Lepre\n \na cura di Pietro Cavallo\, Pasquale Iaccio\, Margherita Platania\n \n Aula “G. Imbucci” – DIPSUM – Salerno 9-11 maggio 2016\n 
URL:https://www.sissco.it/calendario/la-cuccagna-i-media-audiovisivi-e-litalia-del-miracolo/
LOCATION:Università degli Studi di Salerno\, Via Giovanni Paolo II\, 132 \, Fisciano (Salerno)\, 84084\, Italia
CATEGORIES:Convegno
ORGANIZER;CN="Elio Frescani":MAILTO:italiadelmiracolo@gmail.com
END:VEVENT
BEGIN:VEVENT
DTSTART;TZID=Europe/Rome:20160510T093000
DTEND;TZID=Europe/Rome:20160510T235900
DTSTAMP:20260426T045300
CREATED:20160503T152655Z
LAST-MODIFIED:20160503T152655Z
UID:10000253-1462872600-1462924740@www.sissco.it
SUMMARY:Il jazz sotto il fascismo: politica\, società e consumi
DESCRIPTION:Convegno presso il Centro Tedesco di Studi Veneziani in collaborazione con l’Università Ca’ Foscari Venezia e Fritz Thyssen Stiftung
URL:https://www.sissco.it/calendario/il-jazz-sotto-il-fascismo-politica-societa-e-consumi/
LOCATION:Centro Tedesco di Studi Veneziani\, Palazzo Barbarigo della Tarrazza\, San Polo\, 2765/A\, Venezia\,  30125\, Italia
CATEGORIES:Convegno
ORGANIZER;CN="Camilla Poesio":MAILTO:camillapoesio@unive.it
END:VEVENT
BEGIN:VEVENT
DTSTART;TZID=Europe/Rome:20160510T100000
DTEND;TZID=Europe/Rome:20160510T235900
DTSTAMP:20260426T045300
CREATED:20160505T071635Z
LAST-MODIFIED:20160505T071635Z
UID:10000258-1462874400-1462924740@www.sissco.it
SUMMARY:L’Italia nella prima guerra mondiale. 1916\, dentro la guerra
DESCRIPTION:Benvenuto\, Flavia Piccoli Nardelli\, Presidente della Commissione Cultura della Camera dei deputati)\nIntroduzione\, Franco Marini\, Presidente del Comitato storico-scientifico per gli anniversari di interesse nazionale \nModera: Michela Ponzani\, storica e consulente Rai\nLo scenario internazionale. Il 1916 (Gustavo Corni\, storico\, Università di Trento)\nLa strafexpedition e la caduta del governo Salandra (Marco Mondini\, storico\, Università di Padova)\nIl fronte interno (Giovanna Procacci\, storica\, Università di Modena e Reggio Emilia)\nI luoghi della Grande guerra: storia e memoria del Carso (Lucio Fabi\, storico e consulente museale) \nLa follia\, la fuga e la psichiatria di guerra (Bruna Bianchi\, storica\, Università di Venezia)
URL:https://www.sissco.it/calendario/litalia-nella-prima-guerra-mondiale-1916-dentro-la-guerra/
LOCATION:Camera dei Deputati\, Montecitorio\, Sala della Regina\, Roma\, Italia
CATEGORIES:Convegno
END:VEVENT
BEGIN:VEVENT
DTSTART;TZID=Europe/Rome:20160512T093000
DTEND;TZID=Europe/Rome:20160512T235900
DTSTAMP:20260426T045300
CREATED:20160505T163406Z
LAST-MODIFIED:20160505T163406Z
UID:10001506-1463045400-1463097540@www.sissco.it
SUMMARY:Il caso Moro: la politica\, la ricerca e la storia. Voltare pagina si può
DESCRIPTION:Ore 9.30\nINTRODUZIONE \nOn. Fabio Lavagno – membro della Commissione\n  \n  \n  \n \nd’inchiesta sul rapimento e la morte di Aldo Moro\nSALUTI \nOn. Giuseppe Fioroni – Presidente della Commissione\n  \n  \n  \n \nd’inchiesta sul rapimento e la morte di Aldo Moro\nRELAZIONI\nPino Casamassima\nGenesi e palingenesi dell’affaire Moro\nMarco Clementi\nIl caso Moro. Critica delle fonti\nNicola Lofoco\nLe alterazioni del caso Moro: metodologia per una ricerca\n \nscientifica corretta della verità\nGianremo Armeni\nLa moto\, l’Alfa e il decennio clandestino\nColonnello Luciano Seno\nDa Pinerolo al caso Moro\nPaolo Persichetti\nGenealogia del movente dietrologico. Il Pci durante il\n \nsequestro Moro\nVladimiro Satta\nLa normativa premiale e il caso Moro\nElisa Santalena\nLe conseguenze del caso Moro sul mondo carcerario\n \nitaliano\nMonica Lanzoni\nCome uscire dalla violenza politica: l’esempio della\n \npacificazione “alla francese”\nOre 14.30\nManlio Milani\nPresidente Associazione\n \nCasa della memoria 28 maggio 1974\nPiergiorgio Morosini\nPresidente commissione riforme del CSM\nGiovanni Ricci\nPresidente associazione caduti di Via Fani\nGiampaolo Sechi\nGenerale Corpo di Armata dei Carabinieri\nAnnachiara Valle\nGiornalista Famiglia Cristiana\n \nConversazione moderata da\nMassimo Bordin\nGiornalista Radio Radicale\n \nPalazzo San Macuto\n \nIngresso principale\nPer motivi organizzativi\, Vi preghiamo di dare conferma\n \ndella Vostra presenza a lavagno_f@camera.it\,\nper informazioni 329.4192793 \n 
URL:https://www.sissco.it/calendario/il-caso-moro-la-politica-la-ricerca-e-la-storia-voltare-pagina-si-puo/
CATEGORIES:Convegno
END:VEVENT
BEGIN:VEVENT
DTSTART;TZID=Europe/Rome:20160512T150000
DTEND;TZID=Europe/Rome:20160514T235900
DTSTAMP:20260426T045300
CREATED:20160510T141053Z
LAST-MODIFIED:20160510T141053Z
UID:10001511-1463065200-1463270340@www.sissco.it
SUMMARY:« Vingt-cinq ans après / Vent’anni dopo » Les femmes au rendezvous de l’histoire\, hier et aujourd’hui
DESCRIPTION:«Vingt-cinq ans après / Vent’anni dopo»\nLes femmes au rendezvous de l’histoire\, hier et\naujourd’hui\nEcole Française de Rome\, 12-14 maggio 2016 \nJeudi\, 12 mai – 15.00-19.00\nCatherine Virlouvet (directrice de l’École\nfrançaise de Rome)\nAndrea Giardina (Président de la Giunta centrale\nper gli studi storici)\nIsabelle Chabot (Présidente de la Società Italiana\ndelle Storiche)\nIntroduction\nMichelle Perrot Les femmes ont une histoire\nTable ronde (1) : “Vingt-cinq ans après / Vent’anni\ndopo”\nPrésidence : Catherine Virlouvet\navec Christiane Klapisch-Zuber\, Michelle Perrot\,\nPauline Schmitt-Pantel\, Françoise Thébaud\,\nMarina D’Amelia\, Michela De Giorgio\,\nAngela Groppi\, Lucetta Scaraffia\, Gabriella\nZarri\, Giuseppe Laterza\, Cecilia Palombelli \nVENDREDI\, 13 MAI – 9.00-13.00\nTable ronde (2) : Europe\, Monde\nPrésidence : Giulia Calvi (Università di Siena-IUE)\nElena Borghi (IUE)\nLa storia delle donne e di genere in India. Fra accademia e militanza\nOdile Goerg (Université Paris Diderot-CESSMA)\nAfrique : quelle histoire pour quelles femmes ?\nPaola Paderni (Università di Napoli-L’Orientale)\nEngendering China: il genere come categoria d’analisi nella storiografia sulla Cina negli ultimi venticinque anni\nAnna Vanzan (Università di Milano)\nWomen\, gender and sexuality in the historiography of the\nMiddle East and North Africa (MENA)\nTable ronde (3) : Circulations\, Métissages\nPrésidence : Manuela Martini (Université Paris\nDiderot-ICT)\nJoselyne Dakhlia (EHESS-CRH)\nMobilités féminines dans la Méditerranée de l’époque\nmoderne : une perspective historiographique récente\nSilvia Salvatici (Università di Milano)\nIl genere\, la storia e i refugee studies\nRaffaella Sarti (Università di Urbino)\nDi casa in casa. Circolazione del personale domestico in\nun’ottica di genere\nNancy Green (EHESS-CRH)\nFemmes\, genre\, migrations. Historiographies en mouvement\nTable ronde (4) : Droits\, Politiques \nVENDREDI 13 mai – 15.00- 19.00\nPrésidence : Isabelle Chabot (SIS)\nViolaine Sebillotte-Cuchet (Université Paris1\nPanthéon Sorbonne-ANHIMA)\nFemmes et droits politiques en Grèce ancienne: le risque de l’anachronisme\nSimona Feci (Università di Palermo)\nSe il diritto costruisce la storia delle donne\nRaffaella Baritono (Università di Bologna)\nGenere\, sfera pubblica\, diritti. Il caso statunitense\nMaria Rosaria Stabili (Università di Roma Tre)\n“Democracia en el país y en la casa”. Donne e dittature nel Cono sud americano. Il caso cileno\nTable ronde (5) : Identités\, Familles\,\nMasculinités\nPrésidence : Enrica Asquer (SIS)\nSylvie Joye (Université de Reims-Champagne\nArdenne-CERHIC)\nLa patriapotestas dal tardo antico all’alto medioevo\nSylvie Steinberg (EHESS-CRH)\nLes frontières des identités sexuées en questions (époque\nmoderne)\nDomenico Rizzo (Università di Napoli-L’Orientale)\nLa storia della maschilità e le sue insidie\nNadia M. Filippini (SIS)\nCorpo e maternità: sfaccettature e traiettorie della storiografia europea \nSAMEDI 14 mai – 9.00-13.00\nTable ronde (6) : Sociétés\, Economies\nPrésidence : Anna Bellavitis (Université de Rouen\nNormandie- GRHis/IUF)\nIda Fazio (Università di Palermo)\nLe risorse economiche delle donne: uno sguardo dall’Italia\nCarmen Sarasua (Universitat Autònoma de\nBarcelona)\nBeyond women’s history. Women’s place in Spanish history\,\n1982-2015\nAlexandra Shepard (University of Glasgow)\n“Active agents” and “history makers”: women in the early\nmodern economy\nElise van Nederveen Meerkerk (Wageningen\nUniversity)\nGender and Empire. Postcolonial perspectives on women and\ngender in the ‘West’ and the ‘East’\, 17th-20th centuries.\nTable ronde (7) : Culture matérielle\nPrésidence : M. Cristina La Rocca (Università di\nPadova)\nIrene Barbiera (Università di Padova)\nMaterial culture\, gender and the life course in early medieval Europe\nRenata Ago (Sapienza-Università di Roma)\nSpazi domestici e spazi urbani: anche lo spazio è questione di genere\nJane Hamlett (Royal Holloway\, University of\nLondon)\nGender and material culture in modern Britain and beyond\nTable ronde conclusive\nPrésidence : Anna Scattigno (Università di Firenze)\navec\nEnrica Asquer\, Anna Bellavitis\, Giulia Calvi\,\nIsabelle Chabot\, Maria Cristina La Rocca\,\nManuela Martini
URL:https://www.sissco.it/calendario/vingt-cinq-ans-apres-ventanni-dopo-les-femmes-au-rendezvous-de-lhistoire-hier-et-aujourdhui/
CATEGORIES:Convegno
ORGANIZER;CN="Unnamed Organizer":MAILTO: secrmod@efrome.it; segreteria@societadellestoriche.it; 
END:VEVENT
BEGIN:VEVENT
DTSTART;TZID=Europe/Rome:20160517T100000
DTEND;TZID=Europe/Rome:20160517T235900
DTSTAMP:20260426T045300
CREATED:20160511T191327Z
LAST-MODIFIED:20160511T191753Z
UID:10000261-1463479200-1463529540@www.sissco.it
SUMMARY:Il mais "miracoloso"
DESCRIPTION:Il mais “miracoloso”. Cosa si nasconde dietro quello che mangiamo? Martedì 17 maggio 2016\, 10.00 – 17.30\nFAO\, Sala Sheik Zayed Viale delle Terme di Caracalla\, Roma  \n10.00.10.30 Saluti Istituzionali Enrique Yeves Direttore Comunicazione FAO; Gino Falleri Vicepresidente Ordine giornalisti Lazio\n10:30.11.00 Emanuele Bernardi Ricercatore in Storia contemporanea\, Sapienza Università di Roma:Il mais “miracoloso”. Storia di un’innovazione\n11.00.11.30 Lorenzo Giovanni Bellù Economista Senior\, Coordinatore dell’Unità Global Perspective Studies della FAO: Sicurezza alimentare e prospettive per il 2060 11.30.12.00 Daniele Donati Vicedirettore\, Divisione Emergenze e Riabilitazione della FAO: la FAO nelle emergenze\n12.00. 12.30 Mario Rebeschlnl Giornalista e fotoreporter nella Giunta del Cnog: Comunicare correttamente l’agroalimentare attraverso la fotografia\n12.30 .14.30 Pausa pranzo\n14.30 .15.00 Catherine Leclercq Nutrizionista\, Divisione Nutrizione e Sistemi Alimentari della FAO: Nutrizione e sistemi alimentari Sostenibili\n15.00.15.30 Wittfrida Mitterer Università di lnnstbruck/Presidente Fondazione Italiana per la Bioarchitettura e l’Antropizzazione Sostenibile dell’Ambiente\n15.30.16.00 Roberto Zalambani Segretario generale Unaga: il Codice unificato della deontologia applicato alle specializzazionl\n16.00.17.00 Tour della FAO\nIl corso è rivolto a giornalisti iscritti all’ordine ed è valido ai fini dell’aggiornamento
URL:https://www.sissco.it/calendario/il-mais-miracoloso-cosa-ce-dietro-quel-che-mangiamo/
LOCATION:FAO\, Sala Sheik Zayed Viale delle Terme di Caracalla\, Roma\, Italia
CATEGORIES:Convegno
END:VEVENT
BEGIN:VEVENT
DTSTART;TZID=Europe/Rome:20160519T093000
DTEND;TZID=Europe/Rome:20160519T235900
DTSTAMP:20260426T045300
CREATED:20160518T155202Z
LAST-MODIFIED:20160518T155202Z
UID:10001520-1463650200-1463702340@www.sissco.it
SUMMARY:Convegno internazionale: Mar Nero. Sfide e prospettive
DESCRIPTION:Conferenza internazionale Mar Nero: sfide e prospettive\, 19 maggio 2016 h 9.30\, Roma\, Senato della Repubblica\, Sala Koch. \nModerano:\nFranco Frattini\nPresidente Istituto di Studi Eurasiatici\nAndrea Giannotti\nDirettore Istituto di Studi Eurasiatici \nIntervengono: \nPier Ferdinando Casini – Maria Grazia Melchionni – Antonello Biagini – AntonGiulio de Robertis – Marco Ricceri – Petar Stojanov\nConclude:\nAngelino Alfano\nMinistro dell’Interno\nRSVP entro il 16 maggio 2016: redazione.rspi@gmail.com\nL’accesso alla Sala Koch sarà consentito dalle ore 9.00 fino a esaurimento dei posti disponibili.\nLa conferenza si svolgerà in italiano e in russo\, ed è prevista la traduzione simultanea.\nAgli uomini è richiesto di indossare giacca e cravatta.
URL:https://www.sissco.it/calendario/convegno-internazionale-mar-nero-sfide-e-prospettive/
CATEGORIES:Convegno
ORGANIZER;CN="Chiara d'Auria":MAILTO:redazione.rspi@gmail.com
END:VEVENT
BEGIN:VEVENT
DTSTART;TZID=Europe/Rome:20160519T100000
DTEND;TZID=Europe/Rome:20160520T170000
DTSTAMP:20260426T045300
CREATED:20160516T154453Z
LAST-MODIFIED:20160516T154453Z
UID:10000270-1463652000-1463763600@www.sissco.it
SUMMARY:Soldati e quotidianità della guerra sul fronte dell'Isonzo
DESCRIPTION:Saluti e introduzione ai lavori Giovanni Luigi Fontana (Università di Padova – presidente del Comitato di Ateneo per il centenario della Grande Guerra) Etienne Boisserie (Inalco) – Catherine Horel (SIRICE) – Marco Mondini (ISIG-FBK / Università di Padova) Il progetto “La Grande Guerra sul fronte italo-austriaco” \nMatteo Caponi (Scuola Normale Superiore\, Pisa) In guerra sull’Isonzo. Memorie di cappellani militari italiani (1919-1940) \nSante Lesti (Scuola Normale Superiore\, Pisa / EHESS) «E l’Isonzo canta stasera… ». L’esperienza di guerra di don Carmine Cortese (1916-1917) \nMaurizio Rippa Bonati (Università di Padova) Un medico in prima linea nel corso della Grande Guerra Maria \nMarcella Rizzo (Università del Salento) Tra «violenze» ed «eroismi»: dal diario di un medico al fronte (1915-1919). \nPatrizia Dal Zotto (Ricercatrice indipendente) Scatolette di latta e bottiglie di vetro raccontano il quotidiano \nIrene Guerrini – Marco Pluviano (Biblioteca Scienze Sociali dell’Università di Genova – CRID 14-18) Soldati italiani e giustizia militare \nMargherita Sulas (Università di Cagliari) Il crogiuolo della Grande Guerra: l’identità dei sardi in trincea \n  \nTavola rotonda: la storiograﬁa sul primo conﬂitto mondiale tra l’Italia e i paesi successori della Duplice Monarchia Partecipano Petra Svolijsak (ZRC – Accademia Slovena delle Scienze ed Arti) – Nicola Labanca (Università di Siena) – Catherine Horel (SIRICE) \nFabio Ecca (Università di Roma Tor Vergata) Scandali sul fronte dell’Isonzo. Speculazioni e sovrapproﬁtti nella Grande guerra italiana \nUgo Pavan Dalla Torre (Ricercatore indipendente) I migliori erano rimasti oltre l’Isonzo: i mutilati di guerra dopo l’ottobre 1917 \nRok Stergar (Università di Ljubljana) Eating Cats and Dogs: The Rations of Austro-Hungarian Soldiers on the Italian Front \nLuciano Zani (Università di Roma La Sapienza) L’esperienza della ritirata. La brigata “Emilia” dall’Isonzo al Piave (1917) \nMarco Mondini (FBK – Università di Padova) Scritture dall’apocalisse. Morte e degradazione nelle trincee sull’Isonzo nella scrittura di testimonianza italiana \nEtienne Boisserie (Inalco\, CREE) Contribution to the study of soldiers’ daily life on the Carso through Czech war memoirs (1916-1917)
URL:https://www.sissco.it/calendario/soldati-e-quotidianita-della-guerra-sul-fronte-dellisonzo-2/
LOCATION:Aula Nievo\, Palazzo del Bo\, Via VIII febbraio 2\, Padova
CATEGORIES:Convegno
ORGANIZER;CN="Comitato d'Ateneo dell'Universit%C3%A0 di Padova per il centenario della Grande Guerra":MAILTO:grande100guerra@gmail.com
END:VEVENT
BEGIN:VEVENT
DTSTART;TZID=Europe/Rome:20160520T153000
DTEND;TZID=Europe/Rome:20160520T170000
DTSTAMP:20260426T045300
CREATED:20160516T153916Z
LAST-MODIFIED:20160516T154558Z
UID:10000269-1463758200-1463763600@www.sissco.it
SUMMARY:Immagini in trincea
DESCRIPTION:La lunga vita dei filmati e delle stereoscopie della Grande Guerra
URL:https://www.sissco.it/calendario/immagini-in-trincea/
LOCATION:Sala Rossini\, Stabilimento Pedrocchi\, via	VIII	Febbraio 15\, Padova
CATEGORIES:Convegno
END:VEVENT
BEGIN:VEVENT
DTSTART;TZID=Europe/Rome:20160523T100000
DTEND;TZID=Europe/Rome:20160523T235900
DTSTAMP:20260426T045300
CREATED:20160517T103417Z
LAST-MODIFIED:20160517T103417Z
UID:10001517-1463997600-1464047940@www.sissco.it
SUMMARY:1916/2016 Centenario di Legautonomie
DESCRIPTION:1916/2016 – Centenario di Legautonomie\n            Si terrà la mattina del 23 maggio\, presso la Sala della Regina alla Camera dei deputati\, il primo appuntamento per le celebrazioni del Centenario della fondazione di Legautonomie.\n            Al convegno partecipano tra gli altri: Marco Filippeschi\, sindaco di Pisa e presidente di Legautonomie; Maria Elena Boschi\, Ministro delle Riforme costituzionali e Rapporti con il Parlamento; Marina Sereni\, vicepresidente della Camera dei deputati; Luciano Vandelli\, professore ordinario Università di Bologna; Maurizio Degl’Innocenti\, presidente Fondazione studi storici Turati. \n            Lo stesso giorno sarà aperta una mostra documentaria\, organizzata dal Servizio Biblioteca della Camera dei deputati\, allestita presso Palazzo San Macuto dedicata al Centenario di Legautonomie 1916-2016. \n            E’ in corso la pubblicazione\, con le edizioni “Il Mulino” di Bologna\, del libro sui cento anni di storia dell’Associazione.
URL:https://www.sissco.it/calendario/19162016-centenario-di-legautonomie/
CATEGORIES:Convegno
ORGANIZER;CN="Oscar Gaspari":MAILTO:oscggasp@gmail.com
END:VEVENT
BEGIN:VEVENT
DTSTART;TZID=Europe/Rome:20160525T110000
DTEND;TZID=Europe/Rome:20160527T230000
DTSTAMP:20260426T045300
CREATED:20160511T161209Z
LAST-MODIFIED:20160514T133412Z
UID:10001514-1464174000-1464390000@www.sissco.it
SUMMARY:Il lavoro\, le guerre. Europa 1914-1945
DESCRIPTION:La Società italiana di storia del lavoro (SISLav) promuove un convegno internazionale sul lavoro nelle due guerre mondiali con l’intenzione di proporre uno sguardo comparato sui due conflitti mondiali del Novecento. L’obiettivo è di interpretare sia i mutamenti occorsi al lavoro\, sia le più generali trasformazioni della società contemporanea attraverso i conflitti. Molti sono infatti i punti che il convegno intende trattare: le forme della produzione e del lavoro\, la mobilitazione del lavoro e del sistema produttivo per sostenere lo sforzo bellico\, le condizioni di vita e di lavoro di uomini e donne\, il disciplinamento del lavoro e le diverse tipologie di lavoro coatto\, le politiche di intervento statale nei diversi settori della mobilitazione (sociale\,economica\, industriale\, civile)\, la militarizzazione del lavoro e della vita civile. A tal fine\, nell’ambito del convegno sono chiamati a presentare le loro riflessioni originali ed a discutere studiosi di varia provenienza nazionale e formazione disciplinare.
URL:https://www.sissco.it/calendario/convegno-il-lavoro-le-guerre-europa-1914-1945/
LOCATION:Aula magna – Università di Modena e Reggio Emilia\, via Allegri 9\, Reggio Emilia\, Italia
CATEGORIES:Convegno
ORGANIZER;CN="segreteria SISLav":MAILTO:storialavoro@gmail.com
END:VEVENT
BEGIN:VEVENT
DTSTART;TZID=Europe/Rome:20160526T090000
DTEND;TZID=Europe/Rome:20160527T235900
DTSTAMP:20260426T045300
CREATED:20160517T175851Z
LAST-MODIFIED:20160517T175851Z
UID:10001518-1464253200-1464393540@www.sissco.it
SUMMARY:2e Conférence Internationale d’Histoire et des Cultures de l’Alimentation
DESCRIPTION:Convegno internazionale organizzato dall’Istituto europeo di storia e culture dell’alimentazione\, con sede a Tours (Francia)
URL:https://www.sissco.it/calendario/2e-conference-internationale-dhistoire-et-des-cultures-de-lalimentation/
LOCATION:Université Francois Rabelais\, 3\, rue des Tanneurs\, Tours\, 37000\, Italia
CATEGORIES:Convegno
ORGANIZER;CN="Paolo Raspadori":MAILTO:paolo.raspadori@unipg.it
END:VEVENT
BEGIN:VEVENT
DTSTART;TZID=Europe/Rome:20160530T093000
DTEND;TZID=Europe/Rome:20160601T235900
DTSTAMP:20260426T045300
CREATED:20160523T162850Z
LAST-MODIFIED:20160523T162850Z
UID:10000275-1464600600-1464825540@www.sissco.it
SUMMARY:The Great Laboratory of Humanity
DESCRIPTION:convegno internazionale \npromosso dal Centro Interuniversitario di Storia Culturale (sezione di Padova) in collaborazione con i dipartimenti di Scienze storiche\, geografiche e dell’antichità\, di Biologia e di Medicina e con l’Associazione ARCA. \n“The Great Laboratory of Humanity. Collection\, Patrimony and the Repatriation of Human Remains” \nIn the 19th century\, the rise of the paradigm of ‘race’ increased the interest of scientists in measuring and comparing human skeletons. Western global domination enabled the collecting of human remains stolen from burial places or battle camps and acquired through commercial transactions; meanwhile\, the remains of the ‘Fathers of Nations’ were transformed into sacred ‘monument-bodies’. This dual process of the patrimonialisation  of ‘evidence-bodies’ and ‘monument-bodies’ began to be challenged in the postcolonial era\, when the affirmative actions of Indigenous peoples took the form of campaigning for the return of ancestral remains housed in Western museums. Human remains have become the site of a symbolic fight and the ‘body-of-proof’ of science’s false neutrality. \nThe conference\, conceived and organized by the Centro Inthruniversitario di Storia Culturale\, aims to address the acquisition\, circulation and treatment of human remains\, from the practices of colonial collecting and their monumentalizing use in the epoch of nation-building\, until the present-day repatriation movement. Through local contexts it will focus on the processes of  patrimonialisation  and the empowering of human remains\, on the relationships between scientific objectification and political sacralization\, and on the chasm that separates the cultural and biological sciences.\n  \n 
URL:https://www.sissco.it/calendario/the-great-laboratory-of-humanity/
LOCATION:Archivio Antico – Palazzo Bo e Sala Conferenze – Orto Botanico\, Padova \, Italia
CATEGORIES:Convegno
ORGANIZER;CN="Unnamed Organizer":MAILTO:centro.storiaculturale@unipd.it
END:VEVENT
END:VCALENDAR