BEGIN:VCALENDAR
VERSION:2.0
PRODID:-//SISSCO - ECPv6.15.20//NONSGML v1.0//EN
CALSCALE:GREGORIAN
METHOD:PUBLISH
X-ORIGINAL-URL:https://www.sissco.it
X-WR-CALDESC:Eventi per SISSCO
REFRESH-INTERVAL;VALUE=DURATION:PT1H
X-Robots-Tag:noindex
X-PUBLISHED-TTL:PT1H
BEGIN:VTIMEZONE
TZID:Europe/Rome
BEGIN:DAYLIGHT
TZOFFSETFROM:+0100
TZOFFSETTO:+0200
TZNAME:CEST
DTSTART:20160327T010000
END:DAYLIGHT
BEGIN:STANDARD
TZOFFSETFROM:+0200
TZOFFSETTO:+0100
TZNAME:CET
DTSTART:20161030T010000
END:STANDARD
BEGIN:DAYLIGHT
TZOFFSETFROM:+0100
TZOFFSETTO:+0200
TZNAME:CEST
DTSTART:20170326T010000
END:DAYLIGHT
BEGIN:STANDARD
TZOFFSETFROM:+0200
TZOFFSETTO:+0100
TZNAME:CET
DTSTART:20171029T010000
END:STANDARD
BEGIN:DAYLIGHT
TZOFFSETFROM:+0100
TZOFFSETTO:+0200
TZNAME:CEST
DTSTART:20180325T010000
END:DAYLIGHT
BEGIN:STANDARD
TZOFFSETFROM:+0200
TZOFFSETTO:+0100
TZNAME:CET
DTSTART:20181028T010000
END:STANDARD
END:VTIMEZONE
BEGIN:VEVENT
DTSTART;TZID=Europe/Rome:20170119T093000
DTEND;TZID=Europe/Rome:20170120T235900
DTSTAMP:20260425T134812
CREATED:20170112T102452Z
LAST-MODIFIED:20170112T102452Z
UID:10001592-1484818200-1484956740@www.sissco.it
SUMMARY:Il cristianesimo al tempo di papa Francesco
DESCRIPTION:Convegno
URL:https://www.sissco.it/calendario/il-cristianesimo-al-tempo-di-papa-francesco/
LOCATION:Società Dante Alighieri\, Piazza di Firenze 27\, Roma\, Italia
CATEGORIES:Convegno
ORGANIZER;CN="Valerio De Cesaris":MAILTO:valerio.decesaris@unistrapg.it
END:VEVENT
BEGIN:VEVENT
DTSTART;TZID=Europe/Rome:20170123T150000
DTEND;TZID=Europe/Rome:20170124T235900
DTSTAMP:20260425T134812
CREATED:20161215T185848Z
LAST-MODIFIED:20161215T185848Z
UID:10000335-1485183600-1485302340@www.sissco.it
SUMMARY:Semantics of Space. Conceptual History Perspectives
DESCRIPTION:Spaces of Expectation è un progetto di ricerca della Södertörn University di Stockholm e dell’Università Ca’ Foscari di Venezia. Il gruppo di studiosi di storia e scienze politiche indaga in chiave comparata gli usi politici delle mappe mentali e delle geografie immaginative della ‘regione mediterranea’ e della ‘regione del Mar Baltico’. Un ruolo centrale spetta alla storia dei concetti\, cui è dedicato il workshop Semantics of Space\, ospitato dall’Istituto Storico Germanico di Roma.
URL:https://www.sissco.it/calendario/semantics-of-space-conceptual-history-perspectives/
CATEGORIES:Convegno
ORGANIZER;CN="Rolf Petri":MAILTO:petri@unive.it
END:VEVENT
BEGIN:VEVENT
DTSTART;TZID=Europe/Rome:20170126T093000
DTEND;TZID=Europe/Rome:20170127T235900
DTSTAMP:20260425T134812
CREATED:20170112T170228Z
LAST-MODIFIED:20170112T170228Z
UID:10001594-1485423000-1485561540@www.sissco.it
SUMMARY:Da Puebla ad Aparecida Chiesa e società in America Latina (1979-2007)
DESCRIPTION:Giovedì 26 gennaio\nSALUTI 9.30\nNicola Antonetti\nPresidente dell’Istituto Luigi Sturzo\nAntonio Iodice\nPresidente dell’Istituto di Studi Politici “S. Pio V”\nGiorgio Malfatti di Monte Tretto\nSegretario generale dell’Istituto Italo-Latino Americano\nMario Giro\nViceministro agli Affari Esteri\nPRIMA SESSIONE 10.15-12.45\nIl nuovo pontificato e i nodi di lungo periodo\nPresiede:\nMaria Rosaria Stabili\nUniversità Roma Tre\nIl cammino di una Chiesa e di un continente (10.30-11.15)\nJean Meyer\nCIDE\, México\nIl crocevia della Conferenza di Puebla (11.15-11.45)\nBerenise Bravo\nEscuela Nacional de Antropología e Historia\nMarco Pérez Iturbe\nArchivo Histórico del Arzobispado de México\, México\nPAUSA CAFFÈ\nLa violenza: rivoluzionaria\, politica\, sociale\, diffusa (12.00-12.15)\nGianni La Bella\nUniversità di Modena e Reggio Emilia\nLa questione indigena (12.15-12.45)\nMassimo De Giuseppe\nUniversità IULM\, Milano\nTrasformazioni educative e culturali.\nChiesa e società in America Latina (12.45-13.15)\nRodrigo Guerra López\nCentro de Investigación Social Avanzada\, México\nPAUSA PRANZO\nSECONDA SESSIONE 15.15-17.30\nDopo le dittature\, le lunghe transizioni\nPresiede:\nMariano Fernández Amunátegui\nAmbasciatore del Cile presso la Santa Sede\nChiesa\, mediazioni e transizioni democratiche (15.30-16.00)\nMarco Gallo\nUniversidad Católica Argentina\, Buenos Aires\nLa diplomazia vaticana e il subcontinente (16.00-16.30)\nPaolo Valvo\nUniversità Cattolica di Milano\nGli anni Novanta: l’età neoliberale (16.30-17.00)\nFausto Trillo\nCIDE\, México\nPluralismo religioso e pentecostalismo in America Latina\n(17.00-17.30)\nRené de la Torre\nCIESAS\, México\nVenerdì 27 gennaio\nTERZA SESSIONE 9.30-16.30\nRicchezza e povertà.\nLa Chiesa latinoamericana nel nuovo millennio\nPresiede:\nMassimo De Giuseppe\nUniversità IULM\, Milano\nLa prospettiva di Aparecida (9.45-10.15)\nLuis Liberti\nUniversidad Católica Argentina\, Buenos Aires\nLa Chiesa e la crisi ecologica (10.15-10.45)\nLucas Cerviño\nUniversidad Católica\, Bolivia\nLa stagione delle sinistre post-rivoluzionarie (10.45-11.15)\nUgo Pipitone\nCIDE\, México\nPAUSA CAFFÈ\nPresiede:\nGianni La Bella\nUniversità di Modena e Reggio Emilia\nL’Argentina: cristiani\, politica e società (11.30-12.00)\nMiranda Lida\nUniversidad Católica Argentina\, Buenos Aires\nLa teologia del popolo (12.00-12.30)\nCarlos Galli\nUniversidad Católica Argentina\, Buenos Aires\nPAUSA PRANZO\nFrancesco\, Methol Ferré e la Chiesa latinoamericana\ncome fonte della Chiesa universale (14.30-15.00)\nAustin Ivereigh\nAutore di El Gran Reformador:\nFrancisco\, Retrato de un Papa Radical\nCONCLUSIONI\nDa Jorge Mario Bergoglio a Papa Francesco:\nle sorprese della storia (15.15-16.30)\nGuzmán Carriquiry Lecour\nComisión Pontificia América Latina\nDirezione scientifica:\nGianni La Bella\nUniversità di Modena e Reggio Emilia\nMassimo De Giuseppe
URL:https://www.sissco.it/calendario/da-puebla-ad-aparecida-chiesa-e-societa-in-america-latina-1979-2007/
LOCATION:Istituto Luigi Sturzo\, via delle Coppelle 35\, Roma \, 00186\, Italia
CATEGORIES:Convegno
ORGANIZER;CN="Massimo De Giuseppe (Universit%C3%A0 IULM)":MAILTO:massimo.degiuseppe@iulm.it
END:VEVENT
BEGIN:VEVENT
DTSTART;VALUE=DATE:20170127
DTEND;VALUE=DATE:20170128
DTSTAMP:20260425T134812
CREATED:20170121T164953Z
LAST-MODIFIED:20170121T164953Z
UID:10000345-1485475200-1485561599@www.sissco.it
SUMMARY:Memorial Pieluigi Porta: una giornata di studi
DESCRIPTION:Milano\, Università Milano-Bicocca\, 27/01/2017\, ore 10
URL:https://www.sissco.it/calendario/memorial-pieluigi-porta-una-giornata-di-studi/
LOCATION:Milano\, Università Milano – Bicocca\, Edificio U7 Via Bicocca degli Arcimboldi\, 8 \, Milano\, 20126\, Italia
CATEGORIES:Convegno
ORGANIZER;CN="Pierangelo Toninelli":MAILTO:pierangelo.toninelli@unimib.it
END:VEVENT
END:VCALENDAR