BEGIN:VCALENDAR
VERSION:2.0
PRODID:-//SISSCO - ECPv6.15.20//NONSGML v1.0//EN
CALSCALE:GREGORIAN
METHOD:PUBLISH
X-ORIGINAL-URL:https://www.sissco.it
X-WR-CALDESC:Eventi per SISSCO
REFRESH-INTERVAL;VALUE=DURATION:PT1H
X-Robots-Tag:noindex
X-PUBLISHED-TTL:PT1H
BEGIN:VTIMEZONE
TZID:Europe/Rome
BEGIN:DAYLIGHT
TZOFFSETFROM:+0100
TZOFFSETTO:+0200
TZNAME:CEST
DTSTART:20160327T010000
END:DAYLIGHT
BEGIN:STANDARD
TZOFFSETFROM:+0200
TZOFFSETTO:+0100
TZNAME:CET
DTSTART:20161030T010000
END:STANDARD
BEGIN:DAYLIGHT
TZOFFSETFROM:+0100
TZOFFSETTO:+0200
TZNAME:CEST
DTSTART:20170326T010000
END:DAYLIGHT
BEGIN:STANDARD
TZOFFSETFROM:+0200
TZOFFSETTO:+0100
TZNAME:CET
DTSTART:20171029T010000
END:STANDARD
BEGIN:DAYLIGHT
TZOFFSETFROM:+0100
TZOFFSETTO:+0200
TZNAME:CEST
DTSTART:20180325T010000
END:DAYLIGHT
BEGIN:STANDARD
TZOFFSETFROM:+0200
TZOFFSETTO:+0100
TZNAME:CET
DTSTART:20181028T010000
END:STANDARD
END:VTIMEZONE
BEGIN:VEVENT
DTSTART;TZID=Europe/Rome:20170605T090000
DTEND;TZID=Europe/Rome:20170620T235900
DTSTAMP:20260425T043753
CREATED:20170604T051308Z
LAST-MODIFIED:20170604T051308Z
UID:10001668-1496653200-1498003140@www.sissco.it
SUMMARY:Aspetti inesplorati del periodo murattiano
DESCRIPTION:Convegno su aspetti inesplorati del periodo murattiano a Napoli
URL:https://www.sissco.it/calendario/aspetti-inesplorati-del-periodo-murattiano/
LOCATION:Villa Doria d’Angri Villa Doria d’AngriVia Petrarca n. 80\, Napoli\, –Via Petrarca n. 80\,\, Napoli\, 80100\, Italia
CATEGORIES:Convegno
ORGANIZER;CN="RENATA DE LORENZO":MAILTO:deloren@unina.it
END:VEVENT
BEGIN:VEVENT
DTSTART;TZID=Europe/Rome:20170605T093000
DTEND;TZID=Europe/Rome:20170605T235900
DTSTAMP:20260425T043753
CREATED:20170523T123502Z
LAST-MODIFIED:20170523T123502Z
UID:10000415-1496655000-1496707140@www.sissco.it
SUMMARY:Arturo Colombo. La cultura dell'impegno tra storia e giornalismo
DESCRIPTION:Giornata di studi in ricordo di Arturo Colombo
URL:https://www.sissco.it/calendario/arturo-colombo-la-cultura-dellimpegno-tra-storia-e-giornalismo/
LOCATION:Pavia\, Università degli Studi\, Aula Foscolo\, Strada Nuova\, 65\, Pavia\, 27100\, Italia
CATEGORIES:Convegno
ORGANIZER;CN="Arianna Arisi Rota":MAILTO:arisi@unipv.it
END:VEVENT
BEGIN:VEVENT
DTSTART;TZID=Europe/Rome:20170605T103000
DTEND;TZID=Europe/Rome:20170605T170000
DTSTAMP:20260425T043753
CREATED:20170524T081257Z
LAST-MODIFIED:20170524T081257Z
UID:10000416-1496658600-1496682000@www.sissco.it
SUMMARY:I mille volti della Grande Guerra
DESCRIPTION:Ricerche e pubblicazioni del Comitato d’Ateneo dell’Università di Padova per il centenario della Grande Guerra. \n  \n 
URL:https://www.sissco.it/calendario/i-mille-volti-della-grande-guerra/
LOCATION:Aula Nievo\, Palazzo del Bo\, Via VIII febbraio 2\, Padova
CATEGORIES:Convegno
ORGANIZER;CN="Comitato d'Ateneo dell'Universit%C3%A0 di Padova per il centenario della Grande Guerra":MAILTO:grande100guerra@gmail.com
END:VEVENT
BEGIN:VEVENT
DTSTART;TZID=Europe/Rome:20170606T090000
DTEND;TZID=Europe/Rome:20170607T235900
DTSTAMP:20260425T043753
CREATED:20170509T084543Z
LAST-MODIFIED:20170509T084633Z
UID:10001650-1496739600-1496879940@www.sissco.it
SUMMARY:On categories and boundaries
DESCRIPTION:Program of the International Historical-Anthropological Conference\n“On categories and boundaries:  Intersections in the history and ethnography of Europe’s Sinti and Roma (19th-21st centuries)” \nFree University of Bolzano\nPiazza del Università 1\nRoom E 2.21\n6 – 7 June 2017 \nThis conference will offer a comparative and interdisciplinary analysis of the relationship between Roma and Sinti and nation-states in European borderlands from 19th to 21th century. How has the territorial definition of national states created structures which require specific rules targeting populations involved in trans-border mobility and cross border practices? Based on a cross disciplinary perspective embracing anthropological and historical approaches\, this conference will analyse the making of categories and their effect on Romani people. Through an analysis of national case studies and through bottom-up approaches\, the conference will focus on the modern definitions of citizenship and nationality and their effect on mobility control and cross-border circulation as a key aspect of continuities and transformation of anti-Gypsy policies in Europe and beyond. Furthermore\, the conference aims to highlight the way Roma and Sinti families in particular have handled these public policies and how they have transmitted or redefined modes of resistance\, conflict\, or invisibility in the face of power exercised by state institutions.\nFind Flyer and Program attached. \nLa conferenza intende offrire un’analisi comparativa e interdisciplinare sulla relazione fra Sinti\, Rom e stati nazione in Europa fra XIX e XXI secolo\, con particolare attenzione alle regioni di confine. Incrociando prospettive storiche e antropologiche\, la conferenza vuole analizzare le diverse costruzioni categoriali a cui Sinti e Rom sono stati sottoposti nei diversi contesti politico-sociali: la scelta è di partire dall’analisi di situazioni concrete per giungere a illustrare i singoli casi nazionali. In che modo la nascita degli stati nazione ha implicato la creazione di un regime di controllo dei confini rivolto\, in particolare\, a quei gruppi che praticavano una mobilità transfrontaliera? A partire dal XIX secolo\, nazionalità e cittadinanza diventano aspetti chiave delle politiche di controllo sulla circolazione transfrontaliera dei Sinti e dei Rom\, a cui spesso si somma una crescente attenzione per la loro mobilità interna: mettere in relazione questi due aspetti delle politiche anti-zingare permette di evidenziarne continuità e trasformazioni secondo i diversi periodi storici. Altrettanto importante è dare rilievo al modo in cui le reti familiari Sinte e Rom abbiano fatto fronte alle politiche anti-zingare\, a come tramandino o ridefiniscano modalità di resistenza\, conflitto o invisibilità rispetto al potere esercitato dalle istituzioni dello stato.\nProgramma e Flyer in allegato. La lingua di lavoro è Inglese.
URL:https://www.sissco.it/calendario/on-categories-and-boundaries/
LOCATION:Università di Bolzano\, Piazza dell'Università 1\, Bolzano\, 39100\, Italia
CATEGORIES:Convegno
ORGANIZER;CN="Elisabeth Tauber":MAILTO:elisabeth.tauber@unibz.it
END:VEVENT
BEGIN:VEVENT
DTSTART;VALUE=DATE:20170608
DTEND;VALUE=DATE:20170610
DTSTAMP:20260425T043753
CREATED:20170521T205035Z
LAST-MODIFIED:20170527T075859Z
UID:10000411-1496880000-1497052799@www.sissco.it
SUMMARY:Educazione\, scuola e consumo. Analisi e prospettive storico-educative
DESCRIPTION:Convegno nell’ambito del Festival “Educazione\, scuola e consumo” (8-11 giugno 2017\, Fortezza Vecchia – Livorno)\, organizzato dal Dipartimento di Scienze della Formazione e Psicologia – Università degli Studi di Firenze. Il programma del convegno è visibile nel sito web indicato.
URL:https://www.sissco.it/calendario/educazione-scuola-e-consumo-analisi-e-prospettive-storico-educative/
LOCATION:Sala Ferretti – Fortezza Vecchia\, Piazzale dei Marmi\, Livorno\, Italia
CATEGORIES:Convegno
ORGANIZER;CN="Prof. Davide Baviello":MAILTO:davide.baviello@unifi.it
END:VEVENT
BEGIN:VEVENT
DTSTART;TZID=Europe/Rome:20170612T100000
DTEND;TZID=Europe/Rome:20170612T235900
DTSTAMP:20260425T043753
CREATED:20170605T001407Z
LAST-MODIFIED:20170605T002235Z
UID:10001669-1497261600-1497311940@www.sissco.it
SUMMARY:Labour\, gender and mines between industrial and post-industrial landscapes: archives and memories
DESCRIPTION:International Conference
URL:https://www.sissco.it/calendario/labour-gender-and-mines-between-industrial-and-post-industrial-landscapes-archives-and-memories/
CATEGORIES:Convegno
ORGANIZER;CN="Luca Tedesco":MAILTO:luca.tedesco@uniroma3.it
END:VEVENT
BEGIN:VEVENT
DTSTART;TZID=Europe/Rome:20170615T093000
DTEND;TZID=Europe/Rome:20170616T235900
DTSTAMP:20260425T043753
CREATED:20170609T162433Z
LAST-MODIFIED:20170609T162633Z
UID:10000421-1497519000-1497657540@www.sissco.it
SUMMARY:Tra una guerra e l’altra. Incroci fra Italia e Ungheria
DESCRIPTION:Il convegno Tra una guerra e l’altra. Incroci tra Italia e Ungheria: storia\, letteratura\, cultura\, mondo delle idee (1921-1945) è organizzato dal Centro Interuniversitario di Studi Ungheresi e sull’Europa Centro – Orientale (CISUECO)\, in collaborazione con il Dipartimento di Scienze Politiche dell’Università Roma Tre e con l’Accademia d’Ungheria in Roma. Si propone di esaminare i rapporti italo-ungheresi dal 1921 al termine della seconda guerra mondiale (1945) analizzati in modo pluridisciplinare e interdisciplinare.\nIl convegno si svolgerà in due giorni e in due sedi diverse (le sedute di giovedì 15 giugno 2017 si terranno presso il Dipartimento di Scienze Politiche dell’Università degli Studi Roma Tre\, mentre quelle di venerdì 16 giugno 2017 presso l’Accademia d’Ungheria in Roma).\nSi veda il programma allegato.
URL:https://www.sissco.it/calendario/tra-una-guerra-e-laltra-incroci-fra-italia-e-ungheria/
CATEGORIES:Convegno
ORGANIZER;CN="Roberto Ruspanti":MAILTO:roberto.ruspanti@uniud.it
END:VEVENT
BEGIN:VEVENT
DTSTART;TZID=Europe/Rome:20170619T090000
DTEND;TZID=Europe/Rome:20170621T235900
DTSTAMP:20260425T043753
CREATED:20170609T071344Z
LAST-MODIFIED:20170609T071344Z
UID:10001674-1497862800-1498089540@www.sissco.it
SUMMARY:Auto/biografia\, polifonia\, plurivocalità
DESCRIPTION:Auto/biografia\, polifonia\, plurivocalità \nDal 19 al 21 giugno p.v. si terrà il XVI incontro dell’\nOsservatorio scientifico della memoria   autobiografica   scritta\,   orale\,   iconografica   e   del   patrimonio\nautobiografico – Associazione culturale Mediapolis. Europa in collaborazione con la Biblioteca di storia moderna e contemporanea\, l’Istituto centrale per i beni sonori e audiovisivi e la Casa della Memoria e della Storia sul tema\nAuto/biografia\, polifonia\, plurivocalità \nGli obiettivi primari del XVI incontro dell’Osservatorio sono: a) riflettere intorno alle molteplici forme del raccontarsi in prima persona attraverso il ricorso o meno a citazioni\, evocazioni ed interferenze con la voce e/o con linguaggi altrui\, in opere scritte\,   orali\,   iconografiche;   b) comprendere   la   funzione   che   queste   strategie assumono nella costruzione dell’immagine della persona\, nonché nel modo in cui\nquesta si rapporta agli altri\, per esempio rappresentando monologicamente la propria esistenza o attuando processi performativi di vario tipo.\nPolifonia\,   plurivocalità\,   dialogo\,   remake\,   quale   ruolo   assumono   nei   racconti autobiografici? La citazione\, il rinvio ad altri testi realizza la celebre e paradossale locuzione di Rimbaud Je est un autre (1871)?\nDue poli – per estremizzare – accompagnano l’uso delle parole o delle immagini prelevate da altri contesti e trapiantate in un proprio corpus testuale: da un lato questi elementi possono essere integrati perché interpretati come ‘portatori di verità’\, o all’opposto utilizzati come strumenti puri e semplici.\nIl Simposio è un progetto dell’ Osservatorio scientifico della memoria autobiografica scritta\, orale\, iconografica e del patrimonio autobiografico.\nL’ingresso al convegno è libero.\nIl programma si può consultare alla voce Symposium 2017\nhttp://mediapoliseuropa.com/\nSedi: Auditorium dell’Istituto centrale per i beni sonori ed audiovisivi – Sala conferenze della Biblioteca di storia moderna e contemporanea (Palazzo Mattei di Giove\, Via Michelangelo Caetani 32) – Sala Tosi della Casa Internazionale delle donne (Palazzo del Buon Pastore – Via della Lungara\, 19) – Casa della Memoria e della Storia (via San Francesco di Sales\, 5).
URL:https://www.sissco.it/calendario/autobiografia-polifonia-plurivocalita/
LOCATION:Istituto centrale beni sonori e audiovisivi – Biblioteca di storia moderna e contemporanea\, Via Michelangelo Caetani\, 32\, Roma\, 00186\, Italia
CATEGORIES:Convegno
ORGANIZER;CN="Gisella Bochicchio":MAILTO:b-stmo.info@beniculturali.it
END:VEVENT
BEGIN:VEVENT
DTSTART;TZID=Europe/Rome:20170621T090000
DTEND;TZID=Europe/Rome:20170621T235900
DTSTAMP:20260425T043753
CREATED:20170616T113941Z
LAST-MODIFIED:20170616T113941Z
UID:10000426-1498035600-1498089540@www.sissco.it
SUMMARY:Giuseppe Di Vittorio e La Voce degli Italiani. Tra fascismo\, antifascismo ed emigrazione
DESCRIPTION:Convegno su Giuseppe di Vittorio e La Voce degli Italiani\, quotidiano dell’Unione Popolare Italiana pubblicato a Parigi tra il 1937 e il 1939
URL:https://www.sissco.it/calendario/giuseppe-di-vittorio-e-la-voce-degli-italiani-tra-fascismo-antifascismo-ed-emigrazione/
CATEGORIES:Convegno
END:VEVENT
BEGIN:VEVENT
DTSTART;TZID=Europe/Rome:20170622T153000
DTEND;TZID=Europe/Rome:20170624T235900
DTSTAMP:20260425T043753
CREATED:20170617T044853Z
LAST-MODIFIED:20170617T044853Z
UID:10000427-1498145400-1498348740@www.sissco.it
SUMMARY:Cibo\, territorio e socialità. L’alimentazione nel territorio campano  fra vita quotidiana e rappresentazioni.
DESCRIPTION:Convegno sull’alimentazione in Campania sul lungo periodo e con diversità di approcci
URL:https://www.sissco.it/calendario/cibo-territorio-e-socialita-lalimentazione-nel-territorio-campano-fra-vita-quotidiana-e-rappresentazioni/
LOCATION:Società Napoletana di Storia Patria – Archivio di Stato di Avellino\, Società Napoletana di Storia Patria- Archivio di Stato di Avellino\, Napoli\, 80133\, Italia
CATEGORIES:Convegno
ORGANIZER;CN="Renata De Lorenzo":MAILTO:deloren@unina.it
END:VEVENT
END:VCALENDAR