BEGIN:VCALENDAR
VERSION:2.0
PRODID:-//SISSCO - ECPv6.15.20//NONSGML v1.0//EN
CALSCALE:GREGORIAN
METHOD:PUBLISH
X-ORIGINAL-URL:https://www.sissco.it
X-WR-CALDESC:Eventi per SISSCO
REFRESH-INTERVAL;VALUE=DURATION:PT1H
X-Robots-Tag:noindex
X-PUBLISHED-TTL:PT1H
BEGIN:VTIMEZONE
TZID:Europe/Rome
BEGIN:DAYLIGHT
TZOFFSETFROM:+0100
TZOFFSETTO:+0200
TZNAME:CEST
DTSTART:20160327T010000
END:DAYLIGHT
BEGIN:STANDARD
TZOFFSETFROM:+0200
TZOFFSETTO:+0100
TZNAME:CET
DTSTART:20161030T010000
END:STANDARD
BEGIN:DAYLIGHT
TZOFFSETFROM:+0100
TZOFFSETTO:+0200
TZNAME:CEST
DTSTART:20170326T010000
END:DAYLIGHT
BEGIN:STANDARD
TZOFFSETFROM:+0200
TZOFFSETTO:+0100
TZNAME:CET
DTSTART:20171029T010000
END:STANDARD
BEGIN:DAYLIGHT
TZOFFSETFROM:+0100
TZOFFSETTO:+0200
TZNAME:CEST
DTSTART:20180325T010000
END:DAYLIGHT
BEGIN:STANDARD
TZOFFSETFROM:+0200
TZOFFSETTO:+0100
TZNAME:CET
DTSTART:20181028T010000
END:STANDARD
END:VTIMEZONE
BEGIN:VEVENT
DTSTART;TZID=Europe/Rome:20171003T093000
DTEND;TZID=Europe/Rome:20171005T235900
DTSTAMP:20260424T210638
CREATED:20170918T155243Z
LAST-MODIFIED:20170918T155243Z
UID:10000436-1507023000-1507247940@www.sissco.it
SUMMARY:Arezzo e la Toscana nell'Italia repubblicana (1946-1990)
DESCRIPTION:Nella nuova Italia nata con la Repubblica e la Costituzione democratica\, il territorio aretino\, sommerso da enormi problemi\, comuni a tutto il Paese\, vive sino agli anni Cinquanta la lunga fase della ricostruzione postbellica. Realizza poi\, in un contesto regionale sempre più definito\, un suo ‘boom’ economico con un’economia che da agricola diventa industriale e commerciale. Profondi sono i cambiamenti culturali e di costume che si registrano\, insieme ai primi effetti della imminente rivoluzione informatica. I rapporti politici e sindacali sono connessi a quelli nazionali ed internazionali\, con due potenze egemoni\, USA e URSS\, a confronto tra “guerra fredda” e distensione\, sino al tramonto di quel bipolarismo. Le vicende aretine\, legate a questo contesto ma con caratteri specifici\, sono oggetto del presente convegno. Ma si analizzano anche aspetti della vita culturale\, religiosa\, associativa e le personalità che definiscono la storia locale del secondo Novecento. La Società Storica Aretina completa così il percorso storiografico concretizzatosi nei tre precedenti convegni su “Arezzo e la Toscana”\, dal 1670 al 1946.
URL:https://www.sissco.it/calendario/arezzo-e-la-toscana-nellitalia-repubblicana-1946-1990/
LOCATION:Archivio di Stato di Arezzo\, Piazza del Commissario 1\, Arezzo\, 52100\, Italia
CATEGORIES:Convegno
ORGANIZER;CN="Societ%C3%A0 Storica Aretina":MAILTO:info@societastoricaretina.org
END:VEVENT
BEGIN:VEVENT
DTSTART;TZID=Europe/Rome:20171004T093000
DTEND;TZID=Europe/Rome:20171004T230000
DTSTAMP:20260424T210638
CREATED:20170918T134011Z
LAST-MODIFIED:20170929T183704Z
UID:10000433-1507109400-1507158000@www.sissco.it
SUMMARY:Milano\, Italia. Deindustrializzazione\, trasformazioni e rigenerazioni
DESCRIPTION:Il Dipartimento di scienze della mediazione linguistica e di studi interculturali dell’Università degli studi di Milano\, Fondazione Aem-Gruppo A2A e Fondazione ISEC promuovono la giornata di studi “Milano\, Italia. Deindustrializzazione\, trasformazioni e rigenerazioni” che si terrà mercoledì 4 ottobre 2017 a Milano presso Casa dell’Energia e dell’Ambiente\, con il patrocinio del Comune di Milano – Urban Center \nÈ crescente l’attenzione per i processi di deindustrializzazione ed è crescente la consapevolezza problematica delle sue molte implicazioni di lungo periodo\, che sono economiche\, sociali\, culturali\, politiche\, ambientali\, e che riguardano direttamente spazi e paesaggi.\nDa qui l’interesse verso i processi di conservazione\, valorizzazione e reinterpretazione degli industrial remains e la constatazione di come\, in questi processi\, estetizzazioni e romanticizzazioni\, si mescolino talvolta a rimozioni o soppressioni\, di come e perché il riconoscimento di alcuni elementi del passato manifatturiero si intrecci alla marginalizzazione di altri\, di come qualcosa sia reso visibile mentre altro diventa invisibile. \nProgramma\n9.30: Welcome Coffee e registrazione partecipanti – \n10.00-13.00 | I sessione\nSaluti: Alberto Martinelli (Fondazione AEM)\, Giorgio Bigatti (Fondazione ISEC)\, Dino Gavinelli (Università degli Studi di Milano)\nPresiede Roberta Garruccio (Università degli Studi di Milano) \nKeynote speech\nVuoti – Angelo Pichierri (Università degli Studi di Torino) \nGilda Zazzara (Università degli Studi di Venezia – Ca’ Foscari): Porto Marghera\, Venezia: deindustrializzazione senza industrial heritage\nEloisa Betti (Università degli Studi di Bologna): Una comunità in lotta contro la deidustrializzazione. Il caso Saeco di Gaggio Montano\nAriella Verrocchio (Istituto Saranz di Trieste): Il patrimonio industriale in Friuli Venezia Giulia. Trasformazioni e possibili rigenerazioni tra assenze e presenze.\nComunicazioni di Cristina Paveri (Ordine degli Ingegneri della Provincia di Pavia) e Giuseppe Corbetta (fotografo). \n13.00-14.00 | Light lunch \n14.00-17.00 | II sessione\nValentina Pacetti (Università degli Studi Milano – Bicocca): La fabbrica come specchio della città. Mirafiori tra reindustrializzazione\, vuoti e metamorfosi tentative \nGiovanni Pietrangeli (Ricercatore indipendente): Il declino dell’elettronica italiana. Il caso della Voxson di Roma.\nElena Dinubila (Ricercatrice indipendente): Una deindustrializzazione elusiva. Crisi e ristrutturazione del comparto automobilistico lucano\nFabrizio Trisoglio (Fondazione AEM): La centrale di piazza Trento a Milano tra passato\, presente e futuro\nComunicazioni di Dino Gavinelli\, Eleonora Mastropietro\, Giacomo Zanolin (Università degli studi di Milano). \nConclusioni │ Keynote speech\nPieni – Gabriele Pasqui (Politecnico di Milano)\nPer informazioni e registrazioni: fondazioneaem@a2a.eu
URL:https://www.sissco.it/calendario/giornata-di-studi-milano-italia-deindustrializzazione-trasformazioni-e-rigenerazioni/
LOCATION:Casa dell’energia e dell’ambiente\, Piazza Po 3\, Milano\, Italia
CATEGORIES:Convegno
ORGANIZER;CN="Sara Zanisi":MAILTO:comunicazione@fondazioneisec.it
END:VEVENT
BEGIN:VEVENT
DTSTART;TZID=Europe/Rome:20171004T170000
DTEND;TZID=Europe/Rome:20171007T235900
DTSTAMP:20260424T210638
CREATED:20170829T103340Z
LAST-MODIFIED:20170829T104528Z
UID:10001677-1507136400-1507420740@www.sissco.it
SUMMARY:900fest - Il Novecento e la Rivoluzione russa
DESCRIPTION:900fest – Festival di Storia del Novecento – IV edizione\n“Libertà e uguaglianza. La Rivoluzione russa e il Novecento”\nForlì\, 4-7 ottobre 2017 \n  \nMERCOLEDÌ 4 OTTOBRE 2017\nApertura 900fest. Salone comunale ore 17.00 \n“Gli altri socialismi” \nAndy Durgan – “Il Poum e la rivoluzione spagnola” \nWlodek Goldkorn – “Il socialismo del Bund polacco” \nPietro Adamo – “I libertari americani e la Rivoluzione russa” \n  \nTeatro Félix Guattari\, ore 21.00\n“Lui non ha scampo”. Recital con Lelia Serra (voce)\, Paola Sabbatani (canto)\, Roberto Bartoli (contrabbasso)\, Daniele Santimone (chitarra). \n  \nGIOVEDÌ 5 OTTOBRE\nSala della Provincia\, ore 10.00-12.00 \n“Gli altri socialisti” \nMarco Bresciani – “Andrea Caffi e la Rivoluzione russa”\nVittorio Giacopini – “Victor Serge\, i bolscevichi\, Stalin”\nLuciano Marrocu – “George Orwell e la Spagna”\nNicola Del Corno – “Carlo Rosselli e il laburismo” \n  \nSala della Provincia\, ore 15.00\n“La rivoluzione bolscevica e la sinistra non comunista”\nInterviene Alfonso Berardinelli \nSala della Provincia\, ore 17.00\n“Avanguardia e rivoluzione dopo l’Ottobre”\nIntervengono Serena Vitale e Gianpiero Piretto \n  \nBiblioteca comunale “A. Saffi”\, ore 21.00\n“La corazzata Potemkin” (1925\, di Sergej Michajlovič Ėjzenštejn)\nIntroduce Gianfranco Miro Gori \n  \nVENERDÌ 6 OTTOBRE\nBiblioteca comunale “A. Saffi”\, ore 9.30-12.30 \n“La scissione di Livorno e la Rivoluzione russa” \nCarlo De Maria – “Alessandro Schiavi”\nGiovanni Scirocco – “Filippo Turati”\nGiovanni Gozzini – “Antonio Gramsci e gli anni Trenta”\nRenato Camurri – “Gaetano Salvemini” \n  \nSalone comunale\, ore 15.00\n“Le rivoluzioni russe del 1917”\nIntervengono Maria Ferretti e Igor Narskij \nSalone comunale\, ore 17.00\n“1917: la rivoluzione dei soldati”\nIntervengono Nicolas Werth e Antonella Salomoni \n  \nBiblioteca comunale “A. Saffi”\, ore 21.00\n“Aleksandr Nevskij” (1938\, di Sergej Michajlovič Ėjzenštejn)\nIntroduce Gianfranco Miro Gori \n  \nSABATO 7 OTTOBRE\nSala della Provincia\, ore 10.00-12.00\n“Tra Utopia e Terrore: giacobini e bolscevichi a confronto”\nIntervengono Antonino De Francesco e Marcello Flores \nSalone comunale\, ore 15.00-18.30\n“Libertà e uguaglianza? E la fratellanza?”\nIntervengono Michael Walzer\, Giancarlo Bosetti\, Michele Salvati \nSalone comunale\, ore 20.30\n“Dal 1917 al 1989. Le rivoluzioni di Polonia\, Ungheria\, Cecoslovacchia”\nIntervengono Adam Michnik\, Gabor Demszky\, Petr Janyska\nCoordina Wlodek Goldkorn \n  \nPer aggiornamenti sul programma e maggiori informazioni: https://900fest.com\nSegreteria organizzativa: Fondazione Alfred Lewin\, info@alfredlewin.org\, tel. 0543.36698. \n900fest è valido per la formazione e l’aggiornamento dei docenti ed è inserito nel Sistema operativo S.O.F.I.A. del MIUR.\nPer sostenere il 900fest è attiva una campagna di crowdfunding. Contribuendo con una piccola donazione\, si potranno ricevere i volumi e i video che raccolgono le principali conferenze della scorsa edizione. Clicca qui per saperne di più.
URL:https://www.sissco.it/calendario/900fest-il-novecento-e-la-rivoluzione-russa/
LOCATION:Salone comunale\, Biblioteca Saffi\, Sala della Provincia e altri luoghi della città\, Forlì\, 47121\, Italia
CATEGORIES:Convegno
ORGANIZER;CN="Segreteria organizzativa%3A Fondazione Alfred Lewin":MAILTO:info@alfredlewin.org
END:VEVENT
BEGIN:VEVENT
DTSTART;TZID=Europe/Rome:20171007T093000
DTEND;TZID=Europe/Rome:20171007T230000
DTSTAMP:20260424T210638
CREATED:20170927T013021Z
LAST-MODIFIED:20170929T183854Z
UID:10001689-1507368600-1507417200@www.sissco.it
SUMMARY:Fu vera gloria? L'eredità napoleonica nel Risorgimento
DESCRIPTION:Convegno sull’eredità napoleonica nel Risorgimento
URL:https://www.sissco.it/calendario/fu-vera-gloria-leredita-napoleonica-nel-risorgimento/
LOCATION:Luogo Senza Nome\, Desenzano del Garda
CATEGORIES:Convegno
ORGANIZER;CN="RENATA DE LORENZO":MAILTO:deloren@unina.it
END:VEVENT
BEGIN:VEVENT
DTSTART;TZID=Europe/Rome:20171010T090000
DTEND;TZID=Europe/Rome:20171010T235900
DTSTAMP:20260424T210638
CREATED:20171008T105827Z
LAST-MODIFIED:20171008T105827Z
UID:10000449-1507626000-1507679940@www.sissco.it
SUMMARY:Culture della valutazione. Università e Terza Missione. Conoscenza\, formazione\, territorio
DESCRIPTION:Affascinante e controverso\, il tema della valutazione percorre l’Università\, la ricerca scientifica\, la formazione accademica nelle sue varie articolazioni\, i modi stessi di produzione e circolazione della cultura. È un tema fermentante\, che genera codici comunicativi\, pratiche discorsive\, atteggiamenti mentali\, comportamenti. Un tema complesso\, che si sviluppa con modalità\, ritmi e impatti diversi alle diverse scale: locale\, nazionale\, globale.
URL:https://www.sissco.it/calendario/culture-della-valutazione-universita-e-terza-missione-conoscenza-formazione-territorio/
LOCATION:Università IULM\, IULM 6\, Sala dei 146\, Via Carlo Bo\, 1\, Milano\, 20143\, Italia
CATEGORIES:Convegno
ORGANIZER;CN="Massimo De Giuseppe":MAILTO:massimo.degiuseppe@iulm.it
END:VEVENT
BEGIN:VEVENT
DTSTART;TZID=Europe/Rome:20171012T093000
DTEND;TZID=Europe/Rome:20171012T235900
DTSTAMP:20260424T210638
CREATED:20170920T203510Z
LAST-MODIFIED:20170920T204124Z
UID:10000438-1507800600-1507852740@www.sissco.it
SUMMARY:Democrazia in pericolo? Germania e Italia tra crisi finanziaria\, immigrazione ed euroscetticismo
DESCRIPTION:Internationale Tagung / Convegno internazionale \nGefährdete Demokratie? Deutschland und Italien zwischen Finanzkrise\, Zuwanderung und Europaskepsis \nDemocrazia in pericolo? Germania e Italia tra crisi finanziaria\, immigrazione ed euroscetticismo \nFreie Universität Bozen / Libera Università di Bolzano \nUniversitätsplatz 1\, Bozen / Piazza Università 1\, Bolzano \nHörsaal / Aula: D1.02 \n12.–13.10.2017 \nDonnerstag / Giovedì\, 12.10.2017 \nBegrüßung und Einführung / Saluti e introduzione (9.30–10.00) \nPaolo Lugli\, Rettore della Libera Università di Bolzano / Rektor der Freien Universität Bozen\nOswald Überegger\, Kompetenzzentrum für Regionalgeschichte unibz / Centro di competenza Storia regionale unibz\nFlorian Huber\, Geschichte und Region / Storia e regione\nHans Woller\, Institut für Zeitgeschichte München-Berlin \nPanel 1: Gefahrenherde: Politisches System und Parteien / Focolai di rischio: il sistema politico e i partiti (10.00–13.00) \nChair: Gianfranco Pasquino (Bologna) \nMassimiliano Livi (Trier): Der Strukturwandel des Parteiensystems und die Erosion der Volksparteien / Il cambio strutturale del sistema dei partiti e l’erosione dei partiti tradizionali \nThomas Schlemmer (München): Reformstau? Die schwierige Modernisierung des politischen Prozesses / Blocco delle riforme? La modernizzazione difficile del processo politico \nMarica Tolomelli (Bologna): Sicurezza interna\, Stato forte e diritti dei cittadini / Innere Sicherheit\, starker Staat und Bürgerrechte \n11.30–12.00 Pause / Pausa \nKommentar / Commento: Christoph Cornelißen (Frankfurt a.M./Trento) \nDiskussion / Discussione \n13.00–14.30 Mittagspause / Pausa pranzo \nPanel 2: Anfechtungen und Resistenzkräfte: Gesellschaft und Öffentlichkeit / Forze anti e forze pro sistema: società e opinione pubblica (14.30–17.30) \nChair: Paolo Pombeni (Bologna) \nMichele Colucci (Roma): Il dibattito su immigrazione e politiche pubbliche tra crisi\, stabilizzazione e trasformazione dei flussi / Die Debatten über Immigration und Zuwanderungspolitik zwischen Krise\, Stabilisierung und Veränderung der Migrantenströme \nMalte König (Ber­lin): Der Islam als Katalysator der innenpolitischen Auseinandersetzung / L’Islam come catalizzatore del confronto in politica interna \nBastian Brandau (Dresden): Der Aufstieg des Populismus / L’ascesa del populismo \n16.00–16.30 Pause / Pausa \nKommentar / Commento: Hans Woller (München) \nDiskussion / Discussione \nPodiumsdiskussion / Tavola rotonda (18.00–20.00) \nScharfmacher oder Aufklärer? Zur Rolle von alten und neuen Medien in der dreifachen Krise / Agitatori o analisti? Sul ruolo dei vecchi e nuovi media nella triplice crisi \nMit /con: Michael Steiner (Moderation / moderazione)\, Angelo Bolaffi\, Hans Heiss\, Jan-Christoph Kitzler\, Christiane Liermann\, Stefan Ulrich \nFreitag / Venerdì\, 13.10.2017 \nPanel 3: Vor der Abkehr? Die Beziehungen zwischen Rom und Berlin / Allontanamento in vista? Le relazioni tra Roma e Berlino (9.00–12.00) \nChair: Stefano Cavazza (Bologna) \nFilippo Focardi (Padova): L’ombra del passato sui rapporti italo-tedeschi: tensioni\, dissidi\, riconciliazioni / Italienisch-deutsche Beziehungen und die Schatten der Vergangenheit: Spannungen\, Auseinandersetzungen und Aussöhnungen \nPeter Hertner (Halle): Wirtschaft und Handel im Zeichen der Finanzkrise / Economia e scambi commerciali nel segno della crisi finanziaria \nGabriele Kreuter-Lenz (Roma): Mehr als Oktoberfest und Teutonengrill? Gegenseitige Wahrnehmung und sozio-kultureller Austausch / Oltre l’Oktoberfest. Percezioni contrapposte e scambi socio-culturali \n10.30–11.00 Pause / Pausa \n(11.00: Grußworte von Arno Kompatscher\, Landeshauptmann von Südtirol / Saluti del Presidente della Provincia autonoma di Bolzano-Alto Adige) \nKommentar / Commento: Alexander Grasse (Gießen) \nDiskussion / Discussione \n12.00–13.30 Mittagspause / Pausa pranzo \nPanel 4: Sündenbock und Hoffnungsträger. Europa zwischen Polemik\, Pragmatismus und Utopie / Capro espiatorio vs. ultima speranza: l‘Europa tra polemiche\, pragmatismo e utopia (13.30–16.30) \nChair: Hans Heiss (Brixen) \nWil­fried Loth (Essen): Rückkehr nach Ventotene. Zukunftsperspektiven für Europa einst und jetzt / Ritorno a Ventotene. Prospettive future per l’Europa\, ieri e oggi \nAndrea Di Michele (Bolzano): Mario Draghi\, l’italiano che salva o distrugge l‘Europa? / Mario Draghi – ein Italiener als Retter oder Zerstörer Europas? \nDominik Geppert (Bonn): Nach dem Brexit. Die Europäische Union als Auslaufmodell? / Dopo la Brexit. L’Unione Europea in liquidazione? \n15.00–15.30 Pause / Pausa \nCommento / Kom­mentar: Antonio Varsori (Padova) \nDiscussione / Diskussion \n16.30–17.00: Abschlussdiskussion / Discussione finale \nDal 2008 Italia e Germania lottano con le conseguenze di una triplice crisi: la crisi dei mercati finanziari\, la crisi legata all’ondata migratoria e la crisi delle istituzioni europee\, culminata con il voto inglese a favore della Brexit. In Italia come in Germania questa triplice crisi ha fatto vacillare la fiducia nelle istituzioni politiche e nei partiti tradizionali\, ha provocato disaccordi politici tra Roma e Berlino e ha promosso l’ascesa di movimenti populisti\, che non si limitano a criticare il “sistema” ma lo pongono in discussione alla radice. Le conseguenze di questa crisi sono il tema del presente convegno\, che pone al centro dell’attenzione il potenziale rischio antidemocratico\, le forze a favore della stabilizzazione del sistema\, le oscillazioni nei rapporti italo-tedeschi. \nDie Tagung ist öffentlich / Il convegno è aperto al pubblico \nTagungssprachen / Lingue del convegno \nDeutsch/Italienisch mit Simultanübersetzung / italiano/tedesco con traduzione simultanea \nInformationen / Informazioni \nKompetenzzentrum für Regionalgeschichte / Centro di competenza Storia regionale \nFreie Universität Bozen / Libera Università di Bolzano \nKreuzgasse 7 Via S. Croce \n39042 Brixen / Bressanone \n+39 0472 014 050\, regional.history@unibz.it\, www.unibz.it \nInstitut für Zeitgeschichte München-Berlin \nLeonrodstraße 46b \n80636 München \n+49 (0)89 126880 \nKontakt: Barbara Schäffler (Organisation): schaeffler@ifz-muenchen.de\, http://www.ifz-muenchen.de/ \nGeschichte und Region / Storia e regione \nArmando-Diaz.Str. 8/B Via Armando Diaz\n39100 Bozen /Bolzano\n+39 0471 411972\, info@geschichteundregion.eu\, www.storiaeregione.eu
URL:https://www.sissco.it/calendario/democrazia-in-pericolo-germania-e-italia-tra-crisi-finanziaria-immigrazione-ed-euroscetticismo/
LOCATION:Bolzano\, Piazza Università 1\, Bolzano\, 39100\, Italia
CATEGORIES:Convegno
ORGANIZER;CN="Andrea Di Michele":MAILTO:andrea.dimichele@unibz.it
END:VEVENT
BEGIN:VEVENT
DTSTART;TZID=Europe/Rome:20171012T093000
DTEND;TZID=Europe/Rome:20171013T235900
DTSTAMP:20260424T210638
CREATED:20171008T080804Z
LAST-MODIFIED:20171008T080850Z
UID:10000450-1507800600-1507939140@www.sissco.it
SUMMARY:Arte e Cultura al tempo di Francesco De Sanctis
DESCRIPTION:In occasione del Bicentenario della nascita dell\’illustre irpino\, il Conservatorio di Avellino organizza un convegno su alcuni aspetti della sua opera.
URL:https://www.sissco.it/calendario/arte-e-cultura-al-tempo-di-francesco-de-sanctis/
LOCATION:Avellino\, Avellino\, Italia
CATEGORIES:Convegno
ORGANIZER;CN="Renata De Lorenzo":MAILTO:deloren@unina.it
END:VEVENT
BEGIN:VEVENT
DTSTART;TZID=Europe/Rome:20171018T090000
DTEND;TZID=Europe/Rome:20171019T235900
DTSTAMP:20260424T210638
CREATED:20171006T133146Z
LAST-MODIFIED:20171009T122429Z
UID:10000445-1508317200-1508457540@www.sissco.it
SUMMARY:Milano\, capitale transnazionale del libro fra le due guerre
DESCRIPTION:Il convegno si articola in due giornate: \n18 ottobre 2017: Civiche Raccolte Storiche Museo del Risorgimento (via Borgonuovo 23\, Milano) \n– Traduzioni e storia della cultura (ore 9-13)\n– Attori editoriali a Milano fra le due guerre mondiali (ore 14-17) \n19 ottobre 2017: Biblioteca Nazionale Braidense (via Brera 28\, Milano) \n– Asse politico\, asse culturale? Germania e Paesi Nordici (ore 9-13)\n– Dalle “plutocrazie” alla “Russia bolscevica” (ore 14-17)
URL:https://www.sissco.it/calendario/milano-capitale-transnazionale-del-libro-fra-le-due-guerre-2/
LOCATION:Museo del Risorgimento e Biblioteca Braidense\, via Borgonuovo 23 e via Brera 28\, Milano\, Italia
CATEGORIES:Convegno
ORGANIZER;CN="Unnamed Organizer":MAILTO:b-brai.comunicazionebeniculturali.it
END:VEVENT
BEGIN:VEVENT
DTSTART;TZID=Europe/Rome:20171018T140000
DTEND;TZID=Europe/Rome:20171020T230000
DTSTAMP:20260424T210638
CREATED:20171013T100855Z
LAST-MODIFIED:20171016T092146Z
UID:10000459-1508335200-1508540400@www.sissco.it
SUMMARY:C'eravamo tanto amati
DESCRIPTION:Convegno Internazionale di Studi\na cura di Pietro Cavallo\, Pasquale Iaccio\, Margherita Platania\nC’ERAVAMO TANTO AMATI\nLA SOCIETÀ ITALIANA DEGLI ANNI SETTANTA TRA STORIA CINEMA MUSICA E TELEVISIONE\n(dedicato alla memoria di Ettore Scola)\n(18-20 0ttobre 2017)\nvedi programma allegato
URL:https://www.sissco.it/calendario/ceravamo-tanto-amati-la-societa-italiana-degli-anni-settanta-tra-storia-cinema-musica-e-televisione/
LOCATION:Università di Salerno – Aula “G. Imbucci” DIPSUM\, via Giovanni Paolo II\, 132\, Fisciano (SALERNO)\, 84084\, Italia
CATEGORIES:Convegno
ORGANIZER;CN="Elio Frescani":MAILTO:efrescani@unisa.it
END:VEVENT
BEGIN:VEVENT
DTSTART;TZID=Europe/Rome:20171018T143000
DTEND;TZID=Europe/Rome:20171019T170000
DTSTAMP:20260424T210638
CREATED:20171009T162301Z
LAST-MODIFIED:20171009T162812Z
UID:10001701-1508337000-1508432400@www.sissco.it
SUMMARY:Scienza\, tecnica e Grande Guerra
DESCRIPTION:
URL:https://www.sissco.it/calendario/scienza-tecnica-e-grande-guerra/
LOCATION:Aula Magna Dipartimento SAGAS\, Via San Gallo 10\, Firenze
CATEGORIES:Convegno
ORGANIZER;CN="Centro Interuniversitario di Storia Culturale (CSC)":MAILTO:centro.storiaculturale@unipd.it 
END:VEVENT
BEGIN:VEVENT
DTSTART;TZID=Europe/Rome:20171024T100000
DTEND;TZID=Europe/Rome:20171024T170000
DTSTAMP:20260424T210638
CREATED:20170926T124830Z
LAST-MODIFIED:20170926T124830Z
UID:10001688-1508839200-1508864400@www.sissco.it
SUMMARY:1917. L'anno della svolta
DESCRIPTION:
URL:https://www.sissco.it/calendario/1917-lanno-della-svolta/
LOCATION:Sala della Lupa – Camera dei Deputati\, Montecitorio\, Roma
CATEGORIES:Convegno
ORGANIZER;CN="Luca Falsini":MAILTO:falsini_l@camera.it
END:VEVENT
BEGIN:VEVENT
DTSTART;TZID=Europe/Rome:20171025T140000
DTEND;TZID=Europe/Rome:20171026T235900
DTSTAMP:20260424T210638
CREATED:20171016T212340Z
LAST-MODIFIED:20171016T213323Z
UID:10000456-1508940000-1509062340@www.sissco.it
SUMMARY:Contesti minerari tra memorie\, lavoro e patrimonio. Una prospettiva trans-locale
DESCRIPTION:Convegno promosso dalla Festa internazionale della Storia e dalla Fondazione Argentina Altobelli\, in collaborazione con il progetto Storie di Vita e di Lavoro nel parco geominerario della Sardegna\, finanziato dal Dipartimento di Scienze della Formazione\, Università Roma Tre
URL:https://www.sissco.it/calendario/contesti-minerari-tra-memorie-lavoro-e-patrimonio-una-prospettiva-trans-locale/
LOCATION:Dipartimento di Scienze Biologiche\, Geologiche e Ambientali dell’Università di Bologna\, Piazza di Porta San Donato 1 \, Bologna\, 40126\, Italia
CATEGORIES:Convegno
ORGANIZER;CN="Eloisa Betti":MAILTO:eloisa.betti2@unibo.it
END:VEVENT
BEGIN:VEVENT
DTSTART;TZID=Europe/Rome:20171025T150000
DTEND;TZID=Europe/Rome:20171028T230000
DTSTAMP:20260424T210638
CREATED:20171015T192230Z
LAST-MODIFIED:20171016T092315Z
UID:10000457-1508943600-1509231600@www.sissco.it
SUMMARY:Per la costruzione dell’identità nazionale: Francesco De Sanctis e Pasquale Stanislao Mancini dalla provincia meridionale all’Europa
DESCRIPTION:Per la costruzione dell’identità nazionale: Francesco De Sanctis e Pasquale Stanislao Mancini dalla provincia meridionale all’Europa Napoli\, 25 -28 ottobre 2017 \nLXVIII CONGRESSO DELL’ISTITUTO PER LA STORIA DEL RISORGIMENTO ITALIANO
URL:https://www.sissco.it/calendario/per-la-costruzione-dellidentita-nazionale-francesco-de-sanctis-e-pasquale-stanislao-mancini-dalla-provincia-meridionale-alleuropa-napoli-25-28-ottobre-2017/
LOCATION:Società Napoletana di Storia Patria\, Maschio Angioino\, NAPOLI\, 80133\, Italia
CATEGORIES:Convegno
ORGANIZER;CN="Renata De Lorenzo":MAILTO:deloren@unina.it
END:VEVENT
BEGIN:VEVENT
DTSTART;TZID=Europe/Rome:20171027T093000
DTEND;TZID=Europe/Rome:20171027T235900
DTSTAMP:20260424T210638
CREATED:20171011T190934Z
LAST-MODIFIED:20171011T191256Z
UID:10001703-1509096600-1509148740@www.sissco.it
SUMMARY:Piero Calamandrei. L'uomo\, il giurista\, l'intellettuale
DESCRIPTION:Convegno di studi\, promosso dall’Istituto storico toscano della Resistenza e dell’età contemporanea\, dall’Ordine degli Avvocati di Firenze\, dalla Fondazione per la formazione degli avvocati di Firenze\, dal Comune di Firenze-Commissione Cultura e sport. \nRelazioni di U. De Siervo\, S. Calamandrei\, S. Neri Serneri\, M. Isnenghi\, S. Grassi\, N. Trocker\, S. Borsacchi\, S. Merlini.
URL:https://www.sissco.it/calendario/piero-calamandrei-luomo-il-giurista-lintellettuale/
LOCATION:Palazzo Vecchio – Salone dei Cinquecento\, piazza della Signoria\, Firenze\, 50121\, Italia
CATEGORIES:Convegno
ORGANIZER;CN="Istituto storico toscano della Resistenza e dell%E2%80%99et%C3%A0 contemporanea":MAILTO:isrt@istoresistenzatoscana.it
END:VEVENT
END:VCALENDAR