BEGIN:VCALENDAR
VERSION:2.0
PRODID:-//SISSCO - ECPv6.15.20//NONSGML v1.0//EN
CALSCALE:GREGORIAN
METHOD:PUBLISH
X-ORIGINAL-URL:https://www.sissco.it
X-WR-CALDESC:Eventi per SISSCO
REFRESH-INTERVAL;VALUE=DURATION:PT1H
X-Robots-Tag:noindex
X-PUBLISHED-TTL:PT1H
BEGIN:VTIMEZONE
TZID:Europe/Rome
BEGIN:DAYLIGHT
TZOFFSETFROM:+0100
TZOFFSETTO:+0200
TZNAME:CEST
DTSTART:20170326T010000
END:DAYLIGHT
BEGIN:STANDARD
TZOFFSETFROM:+0200
TZOFFSETTO:+0100
TZNAME:CET
DTSTART:20171029T010000
END:STANDARD
BEGIN:DAYLIGHT
TZOFFSETFROM:+0100
TZOFFSETTO:+0200
TZNAME:CEST
DTSTART:20180325T010000
END:DAYLIGHT
BEGIN:STANDARD
TZOFFSETFROM:+0200
TZOFFSETTO:+0100
TZNAME:CET
DTSTART:20181028T010000
END:STANDARD
BEGIN:DAYLIGHT
TZOFFSETFROM:+0100
TZOFFSETTO:+0200
TZNAME:CEST
DTSTART:20190331T010000
END:DAYLIGHT
BEGIN:STANDARD
TZOFFSETFROM:+0200
TZOFFSETTO:+0100
TZNAME:CET
DTSTART:20191027T010000
END:STANDARD
END:VTIMEZONE
BEGIN:VEVENT
DTSTART;TZID=Europe/Rome:20180122T093000
DTEND;TZID=Europe/Rome:20180122T235900
DTSTAMP:20260424T153403
CREATED:20171222T092354Z
LAST-MODIFIED:20171222T095842Z
UID:10001730-1516613400-1516665540@www.sissco.it
SUMMARY:Sfogliare la storia. Il passato nei giornali italiani
DESCRIPTION:Convegno promosso dalla Commissione rassegna stampa della SISSCO\, presieduta da Barbara Bracco e organizzato in collaborazione con la Fondazione per il giornalismo “Paolo Murialdi”\, l’Università degli Studi di Milano-Bicocca\, l’Università degli Studi di Milano e il Comune di Milano.
URL:https://www.sissco.it/calendario/sfogliare-la-storia-il-passato-nei-giornali-italiani/
LOCATION:Milano\, Via Sant'Andrea\, 6\, Milano\, Italia
CATEGORIES:Convegno
ORGANIZER;CN="Barbara Bracco":MAILTO:barbara.bracco@unimib.it
END:VEVENT
BEGIN:VEVENT
DTSTART;TZID=Europe/Rome:20180124T153000
DTEND;TZID=Europe/Rome:20180124T235900
DTSTAMP:20260424T153403
CREATED:20180108T101658Z
LAST-MODIFIED:20180108T101658Z
UID:10001734-1516807800-1516838340@www.sissco.it
SUMMARY:Cultura democratica e pratiche del lavoro dall’unità all’autunno caldo
DESCRIPTION:Convegno\n“Cultura democratica e pratiche del lavoro\ndall’Unità all’Autunno Caldo”\n24 GENNAIO 2018 ORE 15:30\nPolo Universitario Piazza Giovanni Ciardi\, 25 – Prato\n– Saluti delle Autorità \n– Manuele Marigolli\, Comitato pratese per la promozione dei valori risorgimentali: Ricordo di Giuseppe Gregori \nPresiede: Marco Palla\, Università degli Studi di Firenze \nIntervengono: \n– Claudio De Boni\, Università degli Studi di Firenze \nL’idea di Stato sociale dopo l’Unità \n– Fabio Bertini\, Coordinamento nazionale per il Risorgimento \nFratellanze artigiane\, associazionismo operaio e camere del lavoro \n– Giorgio Sacchetti\, Università degli Studi di Padova \nMovimento operaio e pensiero anarchico da Bresci alla Grande Guerra \n– Matteo Mazzoni\, Istituto storico toscano della Resistenza e dell’età contemporanea \nOpposizioni\, accettazioni\, adesioni. Antifascismo popolare a Prato e Livorno negli anni del regime fascista \n– Laura Savelli\, Università degli Studi di Pisa \nQuestioni di genere e culture del lavoro dal primo conflitto mondiale alla smobilitazione \n– Danilo Breschi\, Università degli Studi Internazionali di Roma \nMondo del lavoro e movimento studentesco nel ‘68 \nLa giornata sarà dedicata al ricordo di Giuseppe Gregori
URL:https://www.sissco.it/calendario/cultura-democratica-e-pratiche-del-lavoro-dallunita-allautunno-caldo/
LOCATION:Polo universitario\, Piazza Giovanni Ciardi\, 25\, Prato\, Italia
CATEGORIES:Convegno
ORGANIZER;CN="Comitato pratese per la promozione dei valori risorgimentali (Andrea Giaconi)":MAILTO:giaconi19@hotmail.it
END:VEVENT
BEGIN:VEVENT
DTSTART;TZID=Europe/Rome:20180125T093000
DTEND;TZID=Europe/Rome:20180125T235900
DTSTAMP:20260424T153403
CREATED:20180115T164100Z
LAST-MODIFIED:20180115T172530Z
UID:10000483-1516872600-1516924740@www.sissco.it
SUMMARY:Convegno “Emilio Sereni\, uomo politico e studioso\, nella storia d’Italia e di Milano”
DESCRIPTION:La Fondazione ISEC\, l’Istituto Alcide Cervi e l’Istituto nazionale Ferruccio Parri vi invitano al convegno dedicato a Emilio Sereni. \nSaluti istituzionali: \n• Sara Valmaggi\, Consiglio regionale della Lombardia\n• Arianna Censi\, Città metropolitana di Milano\n• Albertina Soliani\, Istituto Alcide Cervi \nInterverranno: \n•Gianni Cervetti\, Fondazione ISEC\n• Andrea Ricciardi\, Università degli studi di Milano\n• Stefano Musso\, Università degli studi di Torino\n• Giorgio Vecchio\, Università degli studi di Parma\n• Michele Nani\, Cnr-Istituto di Studi sulle Società del Mediterraneo di Napoli\n• Alberto De Bernardi\, Università degli studi di Bologna\n• Mauro Agnoletti\, Università degli studi di Firenze\n• Gaia Monticelli\, Politecnico di Torino\n• Giorgio Bigatti\, Fondazione ISEC \nGiovedì 25 gennaio 2018\, ore 11/17 \nFondazione ISEC\, Villa Mylius\, Largo La Marmora 17\, Sesto San Giovanni-Città metropolitana (MM1 Sesto Rondò) \nScarica l’invito \nInfo: comunicazione@fondazioneisec.it
URL:https://www.sissco.it/calendario/convegno-emilio-sereni-uomo-politico-e-studioso-nella-storia-ditalia-e-di-milano/
LOCATION:Fondazione Isec\, Villa Mylius\, Villa Mylius\, Largo La Marmora 17\, Sesto San Giovanni (MI)\, 20099\, Italia
CATEGORIES:Convegno
ORGANIZER;CN="Sara Zanisi":MAILTO:comunicazione@fondazioneisec.it
END:VEVENT
BEGIN:VEVENT
DTSTART;TZID=Europe/Rome:20180125T103000
DTEND;TZID=Europe/Rome:20180125T235900
DTSTAMP:20260424T153403
CREATED:20180113T101108Z
LAST-MODIFIED:20180113T101108Z
UID:10000482-1516876200-1516924740@www.sissco.it
SUMMARY:Emilio Sereni\, uomo politico e studioso\, nella storia d\'Italia e di Milano
DESCRIPTION:Convegno di studi
URL:https://www.sissco.it/calendario/emilio-sereni-uomo-politico-e-studioso-nella-storia-ditalia-e-di-milano/
LOCATION:Sesto S. Giovanni (MI)\, Largo La Marmora 17\, Sesto S. Giovanni (MI)\, Italia
CATEGORIES:Convegno
ORGANIZER;CN="ISEC":MAILTO:comunicazione@fondazioneisec.it
END:VEVENT
END:VCALENDAR