BEGIN:VCALENDAR
VERSION:2.0
PRODID:-//SISSCO - ECPv6.15.20//NONSGML v1.0//EN
CALSCALE:GREGORIAN
METHOD:PUBLISH
X-WR-CALNAME:SISSCO
X-ORIGINAL-URL:https://www.sissco.it
X-WR-CALDESC:Eventi per SISSCO
REFRESH-INTERVAL;VALUE=DURATION:PT1H
X-Robots-Tag:noindex
X-PUBLISHED-TTL:PT1H
BEGIN:VTIMEZONE
TZID:Europe/Rome
BEGIN:DAYLIGHT
TZOFFSETFROM:+0100
TZOFFSETTO:+0200
TZNAME:CEST
DTSTART:20170326T010000
END:DAYLIGHT
BEGIN:STANDARD
TZOFFSETFROM:+0200
TZOFFSETTO:+0100
TZNAME:CET
DTSTART:20171029T010000
END:STANDARD
BEGIN:DAYLIGHT
TZOFFSETFROM:+0100
TZOFFSETTO:+0200
TZNAME:CEST
DTSTART:20180325T010000
END:DAYLIGHT
BEGIN:STANDARD
TZOFFSETFROM:+0200
TZOFFSETTO:+0100
TZNAME:CET
DTSTART:20181028T010000
END:STANDARD
BEGIN:DAYLIGHT
TZOFFSETFROM:+0100
TZOFFSETTO:+0200
TZNAME:CEST
DTSTART:20190331T010000
END:DAYLIGHT
BEGIN:STANDARD
TZOFFSETFROM:+0200
TZOFFSETTO:+0100
TZNAME:CET
DTSTART:20191027T010000
END:STANDARD
END:VTIMEZONE
BEGIN:VEVENT
DTSTART;TZID=Europe/Rome:20180216T090000
DTEND;TZID=Europe/Rome:20180216T235900
DTSTAMP:20260424T134551
CREATED:20180209T172957Z
LAST-MODIFIED:20180209T173223Z
UID:10000499-1518771600-1518825540@www.sissco.it
SUMMARY:A 70 anni dalla morte di Guido Dorso. Capire l’Italia e il Mezzogiorno nella prima metà del Novecento
DESCRIPTION:Venerdì 16 febbraio 2018\, a partire dalle ore 9.00 e fino alle 13\, presso la Sala “G. Grasso” di Palazzo Caracciolo\, in piazza della Libertà\, ad Avellino\, il Centro di Ricerca “Guido Dorso” conclude le iniziative promosse per il settantesimo anniversario della morte di Guido Dorso (1947-2017)\, con un convegno di studi sul tema “Capire l’Italia e il Mezzogiorno nella prima metà del Novecento. Contesti\, aspetti e temi della biografia di un meridionalista”. \nIl convegno\, presieduto e coordinato da Luigi Fiorentino\, presidente del Centro Dorso\, prevede\, dopo un breve saluto di Elisa Dorso e l’introduzione di Mario De Prospo\, ricercatore del Centro Dorso\, gli interventi di Frédéric Attal (Université de Valenciennes et du Hainaut Cambrésis)\, Francesco Barra (Università di Salerno)\, Francesco Saverio Festa (Università di Salerno)\, Daniela La Penna (Reading University\, in videoconferenza)\, Maria Malatesta (Università di Bologna)\, Luigi Musella (Università di Napoli Federico II) e Andrea Ricciardi (Università Statale di Milano).
URL:https://www.sissco.it/calendario/a-70-anni-dalla-morte-di-guido-dorso-capire-litalia-e-il-mezzogiorno-nella-prima-meta-del-novecento/
LOCATION:Avellino\, Piazza della Libertà\, 2\, Avellino\, 83100\, Italia
CATEGORIES:Convegno
ORGANIZER;CN="Unnamed Organizer":MAILTO:info@centrodorso.it
END:VEVENT
BEGIN:VEVENT
DTSTART;TZID=Europe/Rome:20180227T100000
DTEND;TZID=Europe/Rome:20180227T235900
DTSTAMP:20260424T134551
CREATED:20180213T193319Z
LAST-MODIFIED:20180213T213825Z
UID:10001747-1519725600-1519775940@www.sissco.it
SUMMARY:Il Che e Cuba: tra guerra fredda e internazionalismo terzomondista
DESCRIPTION:L’incontro\, che coinvolgerà storici contemporaneisti italiani e stranieri\, esperti di storia latinoamericana e delle relazioni internazionali\, valorizzando fonti d’archivio e ricerche inedite\, si concentrerà sulla collocazione di Cuba nei “lunghi” anni Sessanta\, al crocevia tra guerra fredda e dinamiche terzomondiste conseguenti ai processi di decolonizzazione. \nIl focus principale sarà in particolare dedicato al ruolo di Ernesto Guevara rispetto alla politica estera cubana tra il 1959 e il 1967\, passando per la crisi dei missili che portò il mondo sull’orlo della terza guerra mondiale e la conferenza Tricontinental che cercò di inserire Cuba nell’alveo delle lotte di liberazione internazionali\, anche fuori da uno scenario caribico o latinoamericano. \nSi presterà attenzione anche all’impatto internazionale\, politicamente e culturalmente trasversale\, del mito del Che in quegli anni e alla sua ricaduta su movimenti\, gruppi\, attori e associazioni del terzomondismo\, nelle Americhe\, in Europa e nel mondo. \nPROGRAMMA \n1) Prima parte: dopo la rivoluzione (10-13:30) \n– Antoni Kapcia (University of Nottingham): The Cuban Foreign Policy: 1959-1967 \n– Antonio Annino (Università degli studi di Firenze): Ernesto Guevara ministro dell’industria \n– Luigi Bruti Liberati (Università degli studi di Milano): L’esportazione della rivoluzione cubana e gli Usa: le Frus \n– Eduardo Rey Tristán (Universidad de Santiago de Compostela): Il foquismo guevarista \n– Enrico Palumbo (Università Iulm): Il Che e l’Africa \nModera: Alfonso Botti (Università di Modena e Reggio Emilia) \n2) Seconda parte: la svolta del 1967 (15-18:30) \n– Maria Matilde Benzoni (Università degli studi di Milano): Il Che e la cultura internazionale \n– Onofrio Pappagallo (Università degli studi di Bari): Cuba\, il Che e i partiti comunisti europei \n– Massimo De Giuseppe (Università Iulm): Il Che e i cattolici\, tra Europa e Americhe \n– Giancarlo Monina (La Sapienza/Fondazione Basso): Cuba e il Tribunale Russell II \n– Irina Baijni: Il Che nell’immaginario dei giovani cubani \nModera: Benedetta Calandra (Università degli studi di Bergamo) \nDirezione scientifica: Luigi Bruti Liberati\, Massimo De Giuseppe\, Enrico Palumbo
URL:https://www.sissco.it/calendario/il-che-e-cuba-tra-guerra-fredda-e-internazionalismo-terzomondista/
LOCATION:Fabbrica del Vapore (Sala auditorium primo piano)\, Via Giulio Cesare Procaccini n. 4\, Milano\, 20154\, Italia
CATEGORIES:Convegno
ORGANIZER;CN="Unnamed Organizer":MAILTO:cultura@simmetrico.it
END:VEVENT
END:VCALENDAR