BEGIN:VCALENDAR
VERSION:2.0
PRODID:-//SISSCO - ECPv6.15.20//NONSGML v1.0//EN
CALSCALE:GREGORIAN
METHOD:PUBLISH
X-WR-CALNAME:SISSCO
X-ORIGINAL-URL:https://www.sissco.it
X-WR-CALDESC:Eventi per SISSCO
REFRESH-INTERVAL;VALUE=DURATION:PT1H
X-Robots-Tag:noindex
X-PUBLISHED-TTL:PT1H
BEGIN:VTIMEZONE
TZID:Europe/Rome
BEGIN:DAYLIGHT
TZOFFSETFROM:+0100
TZOFFSETTO:+0200
TZNAME:CEST
DTSTART:20170326T010000
END:DAYLIGHT
BEGIN:STANDARD
TZOFFSETFROM:+0200
TZOFFSETTO:+0100
TZNAME:CET
DTSTART:20171029T010000
END:STANDARD
BEGIN:DAYLIGHT
TZOFFSETFROM:+0100
TZOFFSETTO:+0200
TZNAME:CEST
DTSTART:20180325T010000
END:DAYLIGHT
BEGIN:STANDARD
TZOFFSETFROM:+0200
TZOFFSETTO:+0100
TZNAME:CET
DTSTART:20181028T010000
END:STANDARD
BEGIN:DAYLIGHT
TZOFFSETFROM:+0100
TZOFFSETTO:+0200
TZNAME:CEST
DTSTART:20190331T010000
END:DAYLIGHT
BEGIN:STANDARD
TZOFFSETFROM:+0200
TZOFFSETTO:+0100
TZNAME:CET
DTSTART:20191027T010000
END:STANDARD
END:VTIMEZONE
BEGIN:VEVENT
DTSTART;TZID=Europe/Rome:20180531T150000
DTEND;TZID=Europe/Rome:20180601T235900
DTSTAMP:20260424T060853
CREATED:20180524T080956Z
LAST-MODIFIED:20180524T080956Z
UID:10001812-1527778800-1527897540@www.sissco.it
SUMMARY:Il Sessantotto nella storia
DESCRIPTION:Convegno internazionale “1968-2018. Cinquant’anni dopo. Il Sessantotto nella storia”\, organizzato a Pisa da Unipi e SNS il 31 maggio e il 1 giugno 2018.
URL:https://www.sissco.it/calendario/il-sessantotto-nella-storia/
LOCATION:Gipsoteca Università di Pisa\, piazza S.Paolo all'Orto\, PISA\, Italia
CATEGORIES:Convegno
END:VEVENT
BEGIN:VEVENT
DTSTART;TZID=Europe/Rome:20180605T100000
DTEND;TZID=Europe/Rome:20180605T170000
DTSTAMP:20260424T060853
CREATED:20180515T063534Z
LAST-MODIFIED:20180515T063823Z
UID:10000553-1528192800-1528218000@www.sissco.it
SUMMARY:1918. L'anno della vittoria
DESCRIPTION:
URL:https://www.sissco.it/calendario/1918-lanno-della-vittoria/
LOCATION:Sala della Regina – Camera dei Deputati\, Montecitorio\, Roma\, Italia
CATEGORIES:Convegno
ORGANIZER;CN="Camera dei Deputati":MAILTO:sg_portavoce@camera.it
END:VEVENT
BEGIN:VEVENT
DTSTART;TZID=Europe/Rome:20180605T150000
DTEND;TZID=Europe/Rome:20180605T235900
DTSTAMP:20260424T060853
CREATED:20180531T165911Z
LAST-MODIFIED:20180531T165911Z
UID:10000564-1528210800-1528243140@www.sissco.it
SUMMARY:Italia e Albania durante la Guerra fredda 2° Convegno storico
DESCRIPTION:martedì 5 giugno avrà luogo a Tirana il 2° colloquio scientifico dedicato alla storia delle relazioni italo-albanesi durante la Guerra fredda. I frutti del primo seminario sono stati pubblicati in P. Rago (a cura di)\, Una pace necessaria. I rapporti italiano-albanesi nella prima fase della Guerra fredda\, Roma-bari\, Laterza\, 2017. \nnel corso di questo secondo incontro\, organizzato dall’Ambasciata d’Italia a Tirana\, gli storici italiani albanesi affronteranno le relazioni tra le due sponde dell’adriatico negli anni Sessanta e Settanta. Anche in questo caso è prevista la pubblicazione degli atti alla fine del 2018.
URL:https://www.sissco.it/calendario/italia-e-albania-durante-la-guerra-fredda-2-convegno-storico/
LOCATION:Tirana\, Albania
CATEGORIES:Convegno
ORGANIZER;CN="Alberto Basciani":MAILTO:alberto.basciani@gmail.com
END:VEVENT
BEGIN:VEVENT
DTSTART;VALUE=DATE:20180607
DTEND;VALUE=DATE:20180609
DTSTAMP:20260424T060853
CREATED:20180529T115423Z
LAST-MODIFIED:20180529T115702Z
UID:10001815-1528329600-1528502399@www.sissco.it
SUMMARY:Infanzia e povertà. Storie e narrazioni nell'Italia del dopoguerra (1945-1950)
DESCRIPTION:Convegno organizzato dal  Dipartimento di Studi Umanistici e dal Dams\, Università di Torino nelle giornate del 7 e 8 giugno 2018.
URL:https://www.sissco.it/calendario/infanzia-e-poverta-storie-e-narrazioni-nellitalia-del-dopoguerra-1945-1950/
LOCATION:Auditorium \\, Via Sant\'Ottavio 20\, Torino\, Italia
CATEGORIES:Convegno
END:VEVENT
BEGIN:VEVENT
DTSTART;TZID=Europe/Rome:20180615T101500
DTEND;TZID=Europe/Rome:20180615T235900
DTSTAMP:20260424T060853
CREATED:20180606T101737Z
LAST-MODIFIED:20180606T101737Z
UID:10001818-1529057700-1529107140@www.sissco.it
SUMMARY:“Gli archivi d’impresa: esperienze e prospettive verso il participatory archive” alla seconda conferenza AIPH “Metti la storia al lavoro”
DESCRIPTION:La Fondazione sarà presente alla seconda conferenza AIPH-Associazione italiana di Public History “Metti la storia al lavoro”\, che si terrà a Pisa dall’11 al 15 giugno 2018: ISEC infatti ha proposto e coordina il panel “Gli archivi d’impresa: esperienze e prospettive verso il participatory archive” nella sessione AIPH4- Professioni\, sul tema “La storia nei musei\, nelle biblioteche\, negli archivi\, nelle mostre e nei percorsi espositivi”. \nIntervengono: \n	·         Manuel Tonolini (Fondazione Dalmine\, Bergamo)\, Fondazione Dalmine. Promuovere la cultura industriale \n	·         Susanna Ognibene (OMNIAREM Srl e Anai Liguria\, La Spezia)\, Comunicare l’archivio: fonti orali e teatro come veicolo di emozioni \n	·         Maria Margherita Scotti (Archivio Storico Piaggio\, Pontedera)\, L’archivio d’impresa come strumento di dialogo e di partecipazione \n	·         Sara Zanisi (Fondazione ISEC\, Milano)\, Laboratorio per participatory archive \nCoordina \n	·         Stefano Agnoletto (Fondazione ISEC\, Milano) \n \nVenerdì 15 giugno 2018 ore 10.15-11.45\nUniversità di Pisa\, Dipartimento di civiltà e forme del sapere\, Via Pasquale Paoli 15\, Aula PAO C2\nProgramma\nDove
URL:https://www.sissco.it/calendario/gli-archivi-dimpresa-esperienze-e-prospettive-verso-il-participatory-archive-alla-seconda-conferenza-aiph-metti-la-storia-al-lavoro/
LOCATION:Università di Pisa\, Dipartimento di Civiltà e Forme del Sapere\, Via Pasquale Paoli 15\, Aula PAO C2\, Pisa\, Italia
CATEGORIES:Convegno
ORGANIZER;CN="Sara Zanisi":MAILTO:comunicazione@fondazioneisec.it
END:VEVENT
BEGIN:VEVENT
DTSTART;TZID=Europe/Rome:20180618T090000
DTEND;TZID=Europe/Rome:20180620T235900
DTSTAMP:20260424T060853
CREATED:20180601T080026Z
LAST-MODIFIED:20180609T184248Z
UID:10000566-1529312400-1529539140@www.sissco.it
SUMMARY:Auto/biografia\, disordine\, entropia XVII incontro internazionale dell’Osservatorio scientifico della memoria autobiografica scritta\, orale\, iconografica
DESCRIPTION:Auto/biografia\, disordine\, entropia.\nXVII incontro internazionale dell’Osservatorio scientifico\ndella memoria autobiografica scritta\, orale\, iconografica \nROMA 18-19-20 giugno 2018 \norganizzato da Mediapolis.Europa http://mediapoliseuropa.com/\nin collaborazione con \nl’Istituto Centrale per i Beni Sonori e Audiovisivi\nla Biblioteca di Storia Moderna e Contemporanea\nl’Istituto Storico Italiano per l’età Moderna e Contemporanea\nVia Michelangelo Caetani 32 – 00186 Roma \nIl programma al link\nhttps://drive.google.com/file/d/1JbNhqZV724dlNY8q2FvbJNjktzxmTn9Z/view
URL:https://www.sissco.it/calendario/autobiografia-disordine-entropia-xvii-incontro-internazionale-dellosservatorio-scientifico-della-memoria-autobiografica-scritta-orale-iconografica/
CATEGORIES:Convegno
ORGANIZER;CN="Gisella Bochicchio":MAILTO:b-stmo.info@beniculturali.it
END:VEVENT
BEGIN:VEVENT
DTSTART;TZID=Europe/Rome:20180620T143000
DTEND;TZID=Europe/Rome:20180620T235900
DTSTAMP:20260424T060853
CREATED:20180607T090651Z
LAST-MODIFIED:20180607T090651Z
UID:10001819-1529505000-1529539140@www.sissco.it
SUMMARY:Intellettuali di confine: L'emigrazione intellettuale tra Italia e Stati Uniti e l'avvio della guerra fredda culturale in Italia (1938-1950)
DESCRIPTION:Il Comitato Nazionale per le Celebrazioni del Centenario della nascita di Bruno Zevi \nLa Fondazione Bruno Zevi \nIl Centro Studi Americani \ninvitano alla giornata di studi dedicata a Bruno Zevi: “Intellettuali di confine. L’emigrazione intellettuale tra Italia e Stati Uniti e l’avvio della guerra fredda culturale in Italia (1938-1950)” \nmercoledì 20 giugno 2018 ore 14.30 \nCentro Studi Americani\, Via Michelangelo Caetani\, 32  Roma \nRSVP: event@centrostudiamericani.org \n  \n  \n 
URL:https://www.sissco.it/calendario/intellettuali-di-confine-lemigrazione-intellettuale-tra-italia-e-stati-uniti-e-lavvio-della-guerra-fredda-culturale-in-italia-1938-1950/
LOCATION:Centro Studi Americani\, Via Michelangelo Caetani\, 32\, Roma\, 00186\, Italia
CATEGORIES:Convegno
ORGANIZER;CN="Unnamed Organizer":MAILTO:event@centrostudiamericani.org
END:VEVENT
END:VCALENDAR