BEGIN:VCALENDAR
VERSION:2.0
PRODID:-//SISSCO - ECPv6.15.20//NONSGML v1.0//EN
CALSCALE:GREGORIAN
METHOD:PUBLISH
X-WR-CALNAME:SISSCO
X-ORIGINAL-URL:https://www.sissco.it
X-WR-CALDESC:Eventi per SISSCO
REFRESH-INTERVAL;VALUE=DURATION:PT1H
X-Robots-Tag:noindex
X-PUBLISHED-TTL:PT1H
BEGIN:VTIMEZONE
TZID:Europe/Rome
BEGIN:DAYLIGHT
TZOFFSETFROM:+0100
TZOFFSETTO:+0200
TZNAME:CEST
DTSTART:20170326T010000
END:DAYLIGHT
BEGIN:STANDARD
TZOFFSETFROM:+0200
TZOFFSETTO:+0100
TZNAME:CET
DTSTART:20171029T010000
END:STANDARD
BEGIN:DAYLIGHT
TZOFFSETFROM:+0100
TZOFFSETTO:+0200
TZNAME:CEST
DTSTART:20180325T010000
END:DAYLIGHT
BEGIN:STANDARD
TZOFFSETFROM:+0200
TZOFFSETTO:+0100
TZNAME:CET
DTSTART:20181028T010000
END:STANDARD
BEGIN:DAYLIGHT
TZOFFSETFROM:+0100
TZOFFSETTO:+0200
TZNAME:CEST
DTSTART:20190331T010000
END:DAYLIGHT
BEGIN:STANDARD
TZOFFSETFROM:+0200
TZOFFSETTO:+0100
TZNAME:CET
DTSTART:20191027T010000
END:STANDARD
END:VTIMEZONE
BEGIN:VEVENT
DTSTART;TZID=Europe/Rome:20181203T100000
DTEND;TZID=Europe/Rome:20181205T235900
DTSTAMP:20260423T185151
CREATED:20181130T190359Z
LAST-MODIFIED:20181130T190813Z
UID:10000660-1543831200-1544054340@www.sissco.it
SUMMARY:Le “Leggi razziali” del 1938 e l’Università italiana
DESCRIPTION:Nei giorni 3-5 dicembre 2018 si terrà a Roma Tre un convegno internazionale sulle conseguenze delle “Leggi razziali” del 1938 nelle università italiane. \nIl convegno è promosso dal Master internazionale di II livello in didattica della Shoah\, dal Dipartimento di Filosofia Comunicazione Spettacolo (Filcospe)\, dal Dipartimento di Scienze politiche di Roma Tre e dal Dipartimento di Scienze Umanistiche Comunicazione e Turismo (Disucom) dell’Università della Tuscia. \nAll’iniziativa aderiscono diverse Università e Centri di ricerca italiani ed esteri\, fra cui il Master di Comunicazione storica dell’Università di Bologna\, l’Università di Catania\, il Dipartimento di Storia\, archeologia\, geografia\, arte e spettacolo dell’Università di Firenze\, il Research Institute for Innovation in Education della Hebrew University di Gerusalemme\, l’Università di Messina\, il Dipartimento di Scienze storiche\, geografiche e dell’antichità dell’Università di Padova\, il Dipartimento di Studi umanistici dell’Università di Pavia\, l’Università per stranieri di Perugia\, l’Università di Pisa\, l’Università di Torino\, il Centro romano di studi ebraici dell’Università di Tor Vergata\, l’Università di Castel Sant’Angelo\, l’Associazione Europa Ricerca Onlus\, il Cdec\, la Fondazione Museo della Shoah di Roma\, l’International Unity For Research on Modern Jewish Civilization and Israel Studies\, il Museum of Genocide Victims di Belgrado e numerose altre istituzioni. \nL’iniziativa ha il patrocinio dell’Unione delle Comunità ebraiche italiane (UCEI)\, della Presidenza italiana dell’International Holocaust Remembrance Association (IHRA)\, della Comunità ebraica di Roma (CER). \nIl convegno si propone di mettere a punto lo stato della ricerca su un aspetto rilevante di una delle pagine più tragiche della storia italiana del Novecento. L’inaugurazione del convegno si terrà lunedì 3 dicembre dalle ore 10.00 alle 12.00 nella Sala della Lupa della Camera dei Deputati con i saluti dell’Onorevole Luciano Violante (Presidente emerito della Camera)\, l’Onorevole Ettore Rosato (Vice presidente della Camera)\, il prof. Luca Pietromarchi (Rettore di Roma Tre)\, il Rabbino capo di Roma Dr. Riccardo Di Segni\, la dott.ssa Noemi Di Segni (Presidente Ucei)\, la dott.sa Ruth Dureghello (Presidente Cer)\, l’Ambasciatore Sandro De Bernardin (Presidente della Delegazione italiana IHRA)\, il prof. Paolo D’Angelo (Direttore di Filcospe)\, il prof. Francesco Guida (Direttore del Dipartimento di Scienze politiche). Ai saluti seguiranno le relazioni del prof. David Meghnagi (Direttore del Master di II livello in didattica della Shoah e Assessore alla cultura dell’Unione delle Comunità ebraiche italiane) e del dr. Tommaso dell’Era\, Ricercatore presso l’Università della Tuscia. \nI lavori proseguiranno nel pomeriggio e nei giorni seguenti presso l’Aula Magna del Rettorato di Roma Tre in Via Ostiense\, 159.
URL:https://www.sissco.it/calendario/le-leggi-razziali-del-1938-e-luniversita-italiana/
CATEGORIES:Convegno
ORGANIZER;CN="Tommaso Dell\%E2%80%99Era":MAILTO:tommaso.dellera@unitus.it
END:VEVENT
BEGIN:VEVENT
DTSTART;TZID=Europe/Rome:20181206T091500
DTEND;TZID=Europe/Rome:20181207T235900
DTSTAMP:20260423T185151
CREATED:20181130T152406Z
LAST-MODIFIED:20181130T152515Z
UID:10001900-1544087700-1544227140@www.sissco.it
SUMMARY:L’Azione cattolica italiana nella storia della Chiesa e del Paese (1868-2018)
DESCRIPTION:L’Isacem-Istituto per la storia dell’Azione cattolica e del movimento cattolico in Italia Paolo VI promuove il convegno L’Azione cattolica italiana nella storia del Paese e della Chiesa (1868-2018)\, in programma il 6-7 dicembre a Roma\, presso l’Archivio storico della Presidenza della Repubblica\, Palazzo Sant’Andrea\, Via del Quirinale 30. Il programma vede il coinvolgimento di autorevoli studiosi. L’iniziativa porta a compimento un ampio progetto di ricerca in occasione del 150° anniversario della fondazione dell’Azione cattolica italiana\, che si è snodato attraverso diversi momenti a partire dall’aprile del 2017. L’accesso alla Sala convegni è consentito fino al raggiungimento della capienza massima. Per motivi di sicurezza\, è necessario registrarsi entro e non oltre il 29 novembre\, compilando il modulo di richiesta di iscrizione sul sito web dell’Isacem.
URL:https://www.sissco.it/calendario/lazione-cattolica-italiana-nella-storia-della-chiesa-e-del-paese-1868-2018/
LOCATION:Archivio storico della Presidenza della Repubblica\, Palazzo Sant’Andrea\, Via del Quirinale 30\, Roma\, 00100\, Italia
CATEGORIES:Convegno
ORGANIZER;CN="Paolo Trionfini":MAILTO:info@isacem.it
END:VEVENT
BEGIN:VEVENT
DTSTART;TZID=Europe/Rome:20181207T100000
DTEND;TZID=Europe/Rome:20181207T235900
DTSTAMP:20260423T185151
CREATED:20181111T194900Z
LAST-MODIFIED:20181111T200051Z
UID:10001880-1544176800-1544227140@www.sissco.it
SUMMARY:I Luoghi della Memoria: temi e prospettive
DESCRIPTION:I Luoghi della Memoria: temi e prospettive \nConvegno di studi – Rocca delle Caminate (FC)\, 7 dicembre 2018 \nProgramma\nPrima sessione: 10.00-13.00  \nSaluti istituzionali: Massimo Mezzetti (Assessore alla Cultura della Regione Emilia-Romagna)\, Gian Luca Zattini (Sindaco di Meldola)\, Giorgio Frassineti (Sindaco di Predappio) \nPresiede Luca Alessandrini (Istituto per la storia e le memorie del 900 Parri Emilia-Romagna) \nAlberto Cavaglion (Università di Firenze)\, Sul concetto di luogo di memoria e sulla sua evoluzione. \nMirco Carrattieri (Istituto storico di Reggio Emilia\, Museo di Montefiorino)\, I musei storici italiani sul Novecento: un settore in fermento. \nCarlo De Maria (Università di Bologna\, Istituto storico di Forlì-Cesena)\, Luoghi della memoria e didattica della storia. \nMirco Zanoni (Istituto Cervi)\, Note a margine di un censimento regionale sui luoghi della memoria. \nElena Pirazzoli (ricercatrice indipendente)\, I luoghi della discordia. Il perpetuo presente del dissonant heritage. \nClaudio Silingardi (Istituto nazionale Ferruccio Parri)\, La governance dei luoghi: contrasti e tensioni. \nBuffet\, ore 13.00-14.30 \nSeconda sessione: 14.30-17.00  \nPresiede Carlo De Maria (Università di Bologna\, Istituto storico di Forlì-Cesena) \nRicard Conesa Sanchez (EUROM-European Observatory on Memories\, University of Barcelona)\, Un quadro sui luoghi di memoria del Novecento in Europa. \nFausto Ciuffi (Fondazione Villa Emma)\, Passato e presente nella memoria di un luogo. Tra ricerca e progettazione: il caso Nonantola. \nVladimiro Flamigni (Istituto storico di Forlì-Cesena)\, Da Tavolicci ai Percorsi della solidarietà in guerra. \nElena Paoletti (Istituto storico di Forlì-Cesena)\, L’esperienza di Road Map of Freedom per far vivere i luoghi della memoria. \nLuca Alessandrini (Istituto per la storia e le memorie del 900 Parri Emilia-Romagna)\, Extra monasterium servientes. La nascita e la vita del Museo per la Memoria di Ustica. \nElena Monicelli (Scuola di Pace di Monte Sole)\, “Se solo fosse così semplice”: sfide e opportunità di un discorso sul presente nei luoghi di memoria. \nTavola rotonda conclusiva\, ore 17.00-18.00 \nCoordina Mario Proli (Comune di Forlì) \nPartecipano: Mirco Carrattieri (Paesaggi della memoria)\, Pierluigi Castagnetti (Fondazione Fossoli)\, Davide Drei (Sindaco di Forlì)\, Paolo Lucchi (Sindaco di Cesena)\, Albertina Soliani (Istituto Cervi). \nAgli insegnanti sarà rilasciato attestato valido ai fini della formazione e dell’aggiornamento. \nPromotori: Rete regionale degli Istituti storici emiliano-romagnoli; Coordinamento provinciale per i luoghi della memoria di Forlì-Cesena; Rotta culturale europea ATRIUM; Comune di Meldola; Comune di Predappio. \nIn collaborazione con: Istituto nazionale Ferruccio Parri; Paesaggi della memoria; “E-Review. Rivista degli Istituti storici dell’Emilia-Romagna in Rete”; “Clionet – Per un senso del tempo e dei luoghi. Rivista di Public History”. \nCon il sostegno di SER.IN.AR. E con il patrocinio di: Regione Emilia-Romagna; Provincia di Forlì-Cesena. \nSegreteria organizzativa: Istituto storico di Forlì-Cesena\, tel. 0543.28999\, istorecofo@gmail.com
URL:https://www.sissco.it/calendario/i-luoghi-della-memoria-temi-e-prospettive/
LOCATION:Rocca delle Caminate\, Strada Meldola - San Colombano\, Meldola (FC)\, 47014\, Italia
CATEGORIES:Convegno
ORGANIZER;CN="Istituto storico di Forl%C3%AC-Cesena":MAILTO:istorecofo@gmail.com
END:VEVENT
BEGIN:VEVENT
DTSTART;TZID=Europe/Rome:20181208T093000
DTEND;TZID=Europe/Rome:20181208T235900
DTSTAMP:20260423T185151
CREATED:20181018T093547Z
LAST-MODIFIED:20181018T093547Z
UID:10001859-1544261400-1544313540@www.sissco.it
SUMMARY:Le organizzazioni nazionali del movimento anarchico nell’Italia repubblicana (1943-2018)
DESCRIPTION:La Biblioteca Libertaria “Armando Borghi” (BLAB)\, in collaborazione con la Biblioteca Comunale “Luigi Dal Pane” di Castel Bolognese\, organizza un Convegno di studi sul tema “Le organizzazioni nazionali del movimento anarchico nell’Italia repubblicana (1943-2018)”. Il Convegno avrà luogo a Castel Bolognese\, nel Teatrino del Vecchio Mercato\, via Rondanini 19. La giornata di studi si terrà sabato 8 dicembre 2018\, con inizio alle ore 9:30 e termine verso le ore 18:30.\n* * *\nSono trascorsi cinquant’anni dalla morte di Armando Borghi (1882-1968)\, noto esponente anarchico di rilievo nazionale e internazionale\, nonché dirigente sindacale\, oratore\, scrittore e giornalista. Per celebrare degnamente l’anniversario e rendere omaggio alla sua vita e alla sua attività politica e sindacale\, la Biblioteca Libertaria di Castel Bolognese\, a lui intitolata\, ha programmato di organizzare un Convegno di studi di una giornata sulle organizzazioni nazionali anarchiche italiane dal dopoguerra ad oggi. Il Convegno si terrà a Castel Bolognese\, città che ad Armando Borghi ha dato i natali e dove è sepolto.\nIl tema dell’organizzazione è sempre stato molto dibattuto all’interno del movimento anarchico. Nel\nperiodo successivo alla Seconda guerra mondiale\, in particolare\, l’anarchismo italiano si è confrontato per decenni con modelli organizzativi spesso diversi\, che hanno contribuito a dare vita a reti associative e federazioni alternative tra loro e talvolta in conflitto\, con lacerazioni e polemiche\, pur all’interno di un “sentire comune” di fondo e di un riconoscimento reciproco\, che faceva scattare regolarmente la solidarietà di fronte alle aggressioni esterne e alla repressione del potere istituzionale. La recente pubblicazione di alcuni libri sulla FAI (Con l’amore nel pugno. Federazione Anarchica Italiana (1945-2012)\, Zero in Condotta\, 2018)\, sui GAAP ( Gruppi anarchici d’azione proletaria. Le idee. i fatti\, i militanti\, l’organizzazione: Vol. 1. Dal fronte popolare alla “legge truffa”: la crisi politica e organizzativa dell’anarchismo ; Vol. 2. Dalla rivolta di Berlino all’insurrezione di Budapest: dall’organizzazione libertaria al partito di classe\, a cura di Franco Bertolucci\, BFS-Pantarei\, 2017-18)\, sui GAF (il cui ruolo appare centrale nella ricostruzione tentata da Nico Berti nel suo volume Contro la storia. Cinquant’anni di anarchismo in Italia (1962-2012)\, Biblion\, 2016)\, rende i tempi maturi per provare a tracciare un bilancio storiografico e politico di quelle esperienze. Il Convegno si propone appunto di ricostruire più di settant’anni di vita dell’anarchismo in Italia\,\nattraverso l’ottica privilegiata delle organizzazioni di estensione nazionale espresse dal movimento libertario. Buona parte delle organizzazioni di cui si parlerà non esistono più da tempo (GAAP\, GIA\, GAF…)\, ma esse hanno segnato in qualche modo un’epoca\, una fase della vita del movimento anarchico di lingua italiana. Che cosa resta di loro e della loro esperienza? Quale eredità ci hanno lasciato? La stessa domanda\, in qualche modo\, andrebbe rivolta anche alle sigle ancora in vita (FAI\, Alternativa Libertaria/FdCA\, USI)\, rispetto alle quali ci si può porre anche il quesito del rapporto tra passato e presente\, tra ciò che sono state in altre fasi politiche e ciò che sono ora. Gli organizzatori del Convegno non hanno tesi precostituite da fare prevalere\, e sono interessati a un confronto libero e ad ampio raggio. Ci si propone un livello di riflessione e di dibattito piuttosto alto\, non una semplice celebrazione autoreferenziale. Fermo restando che uno degli scopi del convegno è anche quello di ricordare (pure in questo caso con una riflessione di alto profilo e non con una\ncommemorazione più o meno agiografica) la figura di Armando Borghi. I nomi dei relatori che hanno accettato di partecipare al Convegno\, per la particolare competenza rispetto agli argomenti sui quali interverranno\, nonché per la pluralità e la diversità dei punti di vista e delle loro esperienze\, dovrebbero costituire una garanzia rispetto al raggiungimento di questi obiettivi. Il Convegno è aperto a tutti. \nPROGRAMMA del Convegno.\nSessione del mattino (ore 9:30-13:00):\n— Gianpiero Landi\, Presentazione del Convegno. Saluti di Giovanni Morini\, Assessore alla Cultura del Comune di Castel Bolognese.\n— Pasquale IUSO (Università di Teramo): Gli anarchici nella Repubblica dalla Resistenza al crollo del comunismo.\n— Giorgio SACCHETTI (Università Roma Tre): Federazione Anarchica Italiana: fonti\, metodi\, periodizzazioni per un nuovo soggetto storiografico.\n— Pietro ADAMO (Università di Torino): Cesare Zaccaria\, il momento post-classico e la critica dell’organizzazione.\n— Lorenzo PEZZICA (Centro Studi Libertari – Milano): Appunti per una storia dei Gruppi di Iniziativa Anarchica (1965-1975).\n— Franco SCHIRONE (Associazione Culturale Pietro Gori – Milano): I gruppi giovanili anarchici del dopoguerra: tre esperienze.\nDibattito.\nSessione del pomeriggio (ore 14:30-18:30):\n— Maurizio ANTONIOLI (Prof. emerito Università di Milano): Armando Borghi sindacalista.\n— Franco BERTOLUCCI (Biblioteca Franco Serantini – Pisa): I GAAP (1949-1957): un’esperienza «revisionista» dell’anarchismo di lingua italiana? Problemi e interpretazioni.\n— Francesco CODELLO (Filosofo e Pedagogista): Pensiero e azione: i Gruppi Anarchici Federati (1970-1978).\n— Giulio ANGELI (Alternativa Libertaria/FdCA): Il movimento comunista libertario in Italia dagli anni ’70 del ‘900 ad oggi: una riflessione.\n— Gianfranco CARERI (Archivio Nazionale USI): L’Unione Sindacale Italiana nel secondo dopoguerra. \nPer ulteriori info contattare Gianpiero Landi: tel. 0546-55501.\nE-mail: bibliotecaborghi1916@gmail.com\nSito web BLAB: http://bibliotecaborghi.org\n__________________________________________\nRELATORI\nPietro Adamo: (1959) è professore associato di Storia delle dottrine politiche nell’Università di Torino. Si occupa della cultura politica del protestantesimo radicale\, della storia della tradizione libertaria e del percorso delle controculture. Ha curato le edizioni italiane di opere di John Mitchel\, Paul Goodman\, John Goodwin\, Thomas Jefferson\, Camillo Berneri e John Stuart Mill. Tra i suoi ultimi libri\, la curatela del catalogo della mostra Sex&Revolution (Skira\, 2018); L’anarchismo\namericano del Novecento (FrancoAngeli\, 2016); William Godwin e la società libera (Claudiana\, 2017).\nGiulio Angeli: (1954) lavora presso l’Università di Pisa con l’incarico di tecnico. Collabora con il Centro di Documentazione “Franco Salomone” di Fano. Militante comunista libertario fin dagli anni Settanta\, svolge attività politica e sindacale. Collocato nelle componenti che hanno rivendicato la necessità dell’organizzazione politica degli anarchici ha partecipato\, fin dalla fondazione nel 1986\,all’attività della Federazione dei Comunisti Anarchici (FdCA) poi Alternativa Libertaria/FdCA\, organizzazione politica di cui è tuttora esponente. Collabora con il «Foglio Telematico» di Alternativa Libertaria/FdCA. Tra i redattori di «Comunismo Libertario»\, è autore di documenti e saggi sul mondo del lavoro\, la condizione operaia\, la salute e l’imperialismo.\nMaurizio Antonioli: (1945) già professore ordinario di Storia contemporanea nell’Università degli studi di Milano. Si è occupato principalmente di storia del movimento sindacale nonché di quello anarchico. E’ stato tra i fondatori e redattori della «Rivista Storica dell’Anarchismo» (1994-2004) e condirettore del Dizionario Biografico degli Anarchici Italiani (BFS\, 2003-04). Nel 1990 ha pubblicato il volume Armando Borghi e l’Unione sindacale italiana (Lacaita). Tra le altre numerose sue opere: La Fiom dalle origini al fascismo\, 1901-1924 (con B. Bezza\, De Donato\, 1978); Vieni o\nmaggio: aspetti del Primo Maggio in Italia tra Otto e Novecento (FrancoAngeli\, 1988); Azione diretta e organizzazione operaia. Sindacalismo rivoluzionario e anarchismo tra la fine dell’ottocento e il fascismo (Lacaita\, 1990); Pietro Gori. Il cavaliere errante dell’anarchia (BFS\, 1995); Sentinelle perdute. Gli anarchici\, la morte\, la guerra (BFS\, 2009); Figli dell’officina.Anarchismo\, sindacalismo e movimento operaio tra Ottocento e Novecento (BFS\, 2012).\nFranco Bertolucci: (1957) è bibliotecario e archivista presso la Biblioteca Franco Serantini\, editore e libero ricercatore nelle discipline storiche. Ha collaborato a vari progetti nazionali come la «Rivista Storica dell’Anarchismo» (1994-2004)\, il Dizionario Biografico degli Anarchici Italiani (2003-04) e ha curato alcuni saggi e volumi di ambito storico e biblioteconomico. Gli ultimi lavori sono dedicati alla storia dei GAAP: Gruppi anarchici d’azione proletaria. Le idee\, i militanti\, l’organizzazione\, t. 1-2 (BFS-Pantarei\, 2017-18) e al centenario della Rivoluzione russa: A Oriente sorge il sol dell’avvenire. La rivoluzione russa vista dagli anarchici italiani 1917-1922 (BFS\, 2017).\nGianfranco Careri: (1952) dopo un periodo di militanza anarchica (dal 1969) è tra i riattivatori dell’USI dal 1977. Ricopre la carica di segretario nazionale dell’USI per due volte (1983-1985 e 2002-2005)\, di redattore di «Lotta di Classe» (1985-1992) ed altri incarichi nell’organizzazione anarcosindacalista. Fondatore e responsabile dell’Archivio Nazionale dell’USI (la cui sede e’ ad Ancona). Tra i suoi scritti i libri Il sindacalismo autogestionario: l’USI dalle origini ad oggi (USI\, 1991) e Camillo Berneri\, l’anarcosindacalismo\, la guerra di classe (USI\, 2008). Nel 2012 cura l’edizione dei due volumi sul centenario dell’USI che vedono la collaborazione di studiosi e militanti.Tra i suoi contributi all’opera le biografie di Alceste De Ambris e Umberto Marzocchi e saggi sui combattenti anarcosindacalisti italiani in Spagna e sulle fasi della riattivazione dell’USI dagli anni settanta ad oggi.\nFrancesco Codello: (1953) filosofo e pedagogista\, è stato insegnante e dirigente scolastico. E’ membro dell’International Democratic Education Network\, dell’European Democratic Education Community\, fondatore della «Rete dell’Educazione Libertaria». Già redattore di «Volontà»\, di «Libertaria» e ora di «Elèuthera»\, attivista nell’Ateneo degli Imperfetti di Marghera e nel Centro Studi Libertari/ Archivio G. Pinelli di Milano. È autore di numerosi saggi\, prevalentemente su temi educativi\, storici e sull’anarchismo\, in diverse testate e pubblicazioni e dei seguenti libri: Educazione e anarchismo (Corso\, 1995)\, La Buona educazione (FrancoAngeli\, 2005)\, Vaso creta o fiore? (La Baronata\, 2005)\, Gli anarchismi (La Baronata\, 2009)\, Liberi di imparare\, (con Irene Stella\, Terra Nuova\, 2011)\, La campanella non suona più (La Baronata\, 2015); Né obbedire né comandare\, lessico libertario (Elèuthera\, 2009); La condizione umana nel pensiero libertario (Elèuthera\, 2017). Ha curato la raccolta di saggi di Colin Ward dal titolo L’educazione incidentale (Elèuthera\, 2018).\nPasquale Iuso: (1961) professore di Storia Contemporanea presso la Facoltà di Scienze Politiche dell’Università degli Studi di Teramo. Autore di numerosi saggi di storia sindacale e di storia dell’anarchismo. Condirettore del Dizionario Biografico degli Anarchici Italiani (BFS\, 2003-04). Tra i suoi lavori più recenti: Gli anarchici nell’età Repubblicana (BFS\, 2014); Esercito Guerra e Nazione (Ediesse\, 2009); Le violenze di frontiera. Nazionalismo\, regionalismo e identità nazionale (numero\nmonografico di «Storia e Problemi Contemporanei»\, n.74\, aprile 2017).\nLorenzo Pezzica: (1965) archivista e storico\, vive e lavora a Milano. Collabora con il Centro Studi Libertari /Archivio G. Pinelli e insegna “memoria e archivi digitali” al Master in Public History dell’Università degli studi di Modena e Reggio Emilia. Si occupa di Gender history\, Public history\, storia dell’anarchismo e dei movimenti radicali. Ha recentemente pubblicato: Anarchiche. Donne ribelli del Novecento (Shake\, 2013); Vivere il tempo della Grande guerra. Bergamo durante e\ndopo la Prima guerra mondiale (Lubrina\, 2016); Le magnifiche ribelli 1917-1921 (Elèuthera\, 2017).\nGiorgio Sacchetti: (1951) professore associato abilitato in Storia contemporanea. Attualmente docente a contratto di “Didattica della Storia” presso il dipartimento di Studi Umanistici dell’Università Roma Tre. Si occupa di Labour history\, storia dell’anarchismo e del movimento\noperaio. Ultimi libri pubblicati: Carte di Gabinetto. Gli anarchici italiani nelle fonti di polizia (La\nFiaccola\, 2015); Vite di partito. Traiettorie esistenziali nel PCI togliattiano (ESI\, 2016); Eretiche. Il Novecento di Maria Luisa Berneri e Giovanna Caleffi (Biblion\, 2017); Con l’amore nel pugno. Federazione Anarchica Italiana\, storia e documenti (1945-2012) (Zero in Condotta\, 2018).\nFranco Schirone: (1950) libero ricercatore su tematiche anarchiche e anarcosindacaliste. Autore de La Gioventù Anarchica negli anni delle contestazioni\, 1965-1969 (Zero in Condotta\, 2006). Nel 2012 alcuni suoi saggi sono pubblicati nei due volumi sul centenario dell’USI: Interventismo contro antimilitarismo\, lo scontro interno e la scelta dell’USI; Il biennio rosso e l’occupazione di terre e fabbriche; L’Unione Sindacale Italiana tra esilio e clandestinità (1923-1945); Alibrando Giovannetti (biografia). Tra le ultime sue pubblicazioni I Provos\, i Beatniks e l’Anarchia (1966-1967) (Bruno Alpini-Stella Nera\, 2018) e\, con Mauro de Agostini\, Per la Rivoluzione Sociale. Gli anarchici nella Resistenza a Milano (1943-45) (Zero in Condotta\, 2015).
URL:https://www.sissco.it/calendario/le-organizzazioni-nazionali-del-movimento-anarchico-nellitalia-repubblicana-1943-2018/
LOCATION:Teatrino del Vecchio Mercato\, Via Rondanini\, n. 19\, Castel Bolognese (Ravenna)\, 48014\, Italia
CATEGORIES:Convegno
ORGANIZER;CN="Biblioteca Libertaria 'Armando Borghi'":MAILTO:bibliotecaborghi1916@gmail.com
END:VEVENT
BEGIN:VEVENT
DTSTART;TZID=Europe/Rome:20181212T143000
DTEND;TZID=Europe/Rome:20181212T235900
DTSTAMP:20260423T185151
CREATED:20181126T111730Z
LAST-MODIFIED:20181203T142641Z
UID:10000644-1544625000-1544659140@www.sissco.it
SUMMARY:La Causa Montana a 70 anni dalla Costituzione
DESCRIPTION:“La Causa Montana a 70 anni dalla Costituzione”\, convegno dedicato alla ricostruzione delle ragioni che hanno portato le zone montane nella Costituzione e all’analisi delle prospettive dei territori d’alta quota nell’attuale fase istituzionale\, politica ed economica. \nIl convegno è promosso dall’Università LUMSA\, dall’Associaziona nazionale per gli interessi del Mezzogiorno d’Italia e dal Club Alpino Italiano.
URL:https://www.sissco.it/calendario/la-causa-montana-a-70-anni-dalla-costituzione/
LOCATION:LUMSA\, Borgo Sant’Angelo\, 13\, Roma\, 00100\, Italia
CATEGORIES:Convegno
ORGANIZER;CN="Oscar Gaspari":MAILTO:oscgasp@gmail.com
END:VEVENT
BEGIN:VEVENT
DTSTART;TZID=Europe/Rome:20181213T093000
DTEND;TZID=Europe/Rome:20181213T235900
DTSTAMP:20260423T185151
CREATED:20181203T094326Z
LAST-MODIFIED:20181203T094402Z
UID:10000651-1544693400-1544745540@www.sissco.it
SUMMARY:1948 L'affermazione della rappresentanza
DESCRIPTION:Giornata di studi nell’ambito del progetto Forme e metamorfosi della rappresentanza del Dipartimento di Studi Storici dell’Università di Torino
URL:https://www.sissco.it/calendario/1948-laffermazione-della-rappresentanza/
LOCATION:Fondazione Luigi Einaudi Torino\, via Principe Amedeo 34\, Torino\, 10123\, Italia
CATEGORIES:Convegno
ORGANIZER;CN="Paolo Soddu":MAILTO:paolo.soddu@unito.it
END:VEVENT
BEGIN:VEVENT
DTSTART;TZID=Europe/Rome:20181214T090000
DTEND;TZID=Europe/Rome:20181215T235900
DTSTAMP:20260423T185151
CREATED:20181203T052904Z
LAST-MODIFIED:20181203T052904Z
UID:10000659-1544778000-1544918340@www.sissco.it
SUMMARY:Il "decennio inglese" in Sicilia 1806-1815. Bilancio storiografico e prospettive di ricerca
DESCRIPTION:Convegno internazionale sul “decennio inglese” in Sicilia.
URL:https://www.sissco.it/calendario/il-decennio-inglese-in-sicilia-1806-1815-bilancio-storiografico-e-prospettive-di-ricerca/
LOCATION:Palermo\, villa Malfitano\, via Dante Alighieri 167\, Palermo\, Italia
CATEGORIES:Convegno
ORGANIZER;CN="RENATA DE LORENZO":MAILTO:deloren@unina.it
END:VEVENT
BEGIN:VEVENT
DTSTART;TZID=Europe/Rome:20181220T153000
DTEND;TZID=Europe/Rome:20181220T235900
DTSTAMP:20260423T185151
CREATED:20181214T161937Z
LAST-MODIFIED:20181214T161937Z
UID:10001907-1545319800-1545350340@www.sissco.it
SUMMARY:“Io sò iodìo romano”. Giornata di studi nel Centocinquantesimo della nascita di Crescenzo Del Monte (Roma\, 1868-1936)
DESCRIPTION:Il Centro studi Giuseppe Gioachino Belli\, in collaborazione con la Biblioteca di storia moderna e contemporanea\, l’Unione dell comunità ebraiche italiane e la Casa editrice Il Cubo organizza\, giovedì 20 dicembre\, con inizio alle 15.30\, presso la Biblioteca di storia moderna e contemporanea (Via M. Caetani\, 32 – Roma)\n“Io sò iodìo romano”. Giornata di studi nel Centocinquantesimo della nascita di Crescenzo Del Monte (Roma\, 1868-1936) \nProgramma:\nSaluti di Patrizia Rusciani\, Direttrice della Biblioteca di storia moderna e contemporanea \nInterventi\nMicaela Procaccia\, “Epoca di libertà”. Crescenzo Del Monte e gli ebrei romani dopo il 1870\nMarcello Teodonio\, “E intànt’io\, grazziaddio\, stàe sempre ‘n piede”. La poesia di Crescenzo Del Monte nel quadro della poesia in dialetto tra Ottocento e Novecento\nLuca Lorenzetti\, Lingue\, pseudolingue. Crescenzo Del Monte e il giudeoromanesco\nSara Natale\, Due poeti giudaico-dialettali: il romano Crescenzo Del Monte e il mantovano Annibale Gallico\nAriel Viterbo\, Carte dimenticate: l’Archivio Crescenzo Del Monte alla Biblioteca Nazionale d’Israele\nDavide Spagnoletto\, Ricordi familiari e manoscritti di Crescenzo Del Monte nella collezione del Museo Ebraico di Roma\nCoordina\nRosanna De Longis \nVideo di immagini e ascolto di sonetti di Crescenzo Del Monte interpretati da Giacomo Piperno\, Mirella Calò e Giordana Sermoneta.
URL:https://www.sissco.it/calendario/io-so-iodio-romano-giornata-di-studi-nel-centocinquantesimo-della-nascita-di-crescenzo-del-monte-roma-1868-1936/
CATEGORIES:Convegno
ORGANIZER;CN="Gisella Bochicchio":MAILTO:b-stmo.info@beniculturali.it
END:VEVENT
END:VCALENDAR