BEGIN:VCALENDAR
VERSION:2.0
PRODID:-//SISSCO - ECPv6.15.20//NONSGML v1.0//EN
CALSCALE:GREGORIAN
METHOD:PUBLISH
X-ORIGINAL-URL:https://www.sissco.it
X-WR-CALDESC:Eventi per SISSCO
REFRESH-INTERVAL;VALUE=DURATION:PT1H
X-Robots-Tag:noindex
X-PUBLISHED-TTL:PT1H
BEGIN:VTIMEZONE
TZID:Europe/Rome
BEGIN:DAYLIGHT
TZOFFSETFROM:+0100
TZOFFSETTO:+0200
TZNAME:CEST
DTSTART:20180325T010000
END:DAYLIGHT
BEGIN:STANDARD
TZOFFSETFROM:+0200
TZOFFSETTO:+0100
TZNAME:CET
DTSTART:20181028T010000
END:STANDARD
BEGIN:DAYLIGHT
TZOFFSETFROM:+0100
TZOFFSETTO:+0200
TZNAME:CEST
DTSTART:20190331T010000
END:DAYLIGHT
BEGIN:STANDARD
TZOFFSETFROM:+0200
TZOFFSETTO:+0100
TZNAME:CET
DTSTART:20191027T010000
END:STANDARD
BEGIN:DAYLIGHT
TZOFFSETFROM:+0100
TZOFFSETTO:+0200
TZNAME:CEST
DTSTART:20200329T010000
END:DAYLIGHT
BEGIN:STANDARD
TZOFFSETFROM:+0200
TZOFFSETTO:+0100
TZNAME:CET
DTSTART:20201025T010000
END:STANDARD
END:VTIMEZONE
BEGIN:VEVENT
DTSTART;TZID=Europe/Rome:20190408T100000
DTEND;TZID=Europe/Rome:20190409T235900
DTSTAMP:20260423T110225
CREATED:20190403T163921Z
LAST-MODIFIED:20190403T163921Z
UID:10000724-1554717600-1554854340@www.sissco.it
SUMMARY:"Rosario Villari Storiografia e politica nel secondo dopoguerra"
DESCRIPTION:Rosario Villari\nStoriografia e politica nel secondo dopoguerra\n \nRoma 8-9 aprile 2019 Sapienza Università di Roma – Rettorato – Sala degli organi collegiali\nConvegno internazionale di studi organizzato da: Fondazione Gramsci\, Giunta centrale per gli studi storici\,\n“Sapienza” Università di Roma-Dipartimento di Storia Antropologia Religioni Arte Spettacolo\, “Studi Storici”\, rivista della Fondazione Gramsci\nI SESSIONE\n8 aprile ore 10\,00\nPresiede Giuseppe Vacca\nSaluti\nFrancesco Giasi\, La formazione nella ricostruzione autobiografica\nRino Caputo\, Il fascino della letteratura\nLuigi Masella\, Il rapporto con il Partito comunista italiano\nSilvio Pons\, Il dissenso nei paesi dell’Est\nLeonardo Rapone\,La direzione di “Studi Storici”\n \nII SESSIONE\n8 aprile ore 15\,00\nPresiede Andrea Giardina\nAnna Maria Rao\, “Il Villari”: un famoso manuale\nMaria Antonietta Visceglia\, Il confronto con la storiografia internazionale\nFrancesco Gui\, La guerra dei Trent’anni. Un crinale della storia europea\nFernando Jesus Bouza Alvarez\, Viceré spagnoli tra Madrid e Napoli\nLuis Ribot\, Rivolte: interpretazioni e comparazioni\nLuca Addante\, Da ribelli a rivoluzionari\n \nIII SESSIONE\n9 aprile ore 10\,00\nPresiede Franco Benigno\nPiero Ventura\, La città di Napoli\nElena Valeri\, La storiografia napoletana tra Cinque e Seicento\nJohn Davis\, L’economia del Mezzogiorno dal Settecento all’Unità\nFrancesco Barbagallo\, Mezzogiorno e meridionalismo\nEmanuele Bernardi\, Sud e contadini: il “blocco” agrario\n \nIV SESSIONE\n9 aprile ore 15\,00\nPresiede Giorgio Caredda\nGiovanni Muto\, Territori\, privilegi\, feudi\nMichele Ciliberto\, La dissimulazione\nMarina Formica\,Patria e fedeltà\nUmberto Gentiloni Silveri\, Conservatori e democratici nell’Italia liberale\n Conclude John Elliott\nDiscussione\n[Ciascun relatore avrà a disposizione 25 minuti]\n \nPARTECIPERANNO\nBosman Giovanna\nCeci Lucia\nD’Alessandro Leonardo Pompeo\nDi Maggio Marco\nFelisini Daniela\nFiocco Gianluca\nGagliardi Alessio\nGiuva Linda\nIzzo Francesca\nMerola Giovanna\nRighi Maria Luisa\nRodinò Paola (segreteria organizzativa)\nSanti in Villari Anna Rosa\nSchirru Giancarlo\nSorgonà Gregorio\nTaviani Ermanno\nVillari Anna\nVillari Francesco\nVillari Luciano \nVittoria Albertina\n 
URL:https://www.sissco.it/calendario/rosario-villari-storiografia-e-politica-nel-secondo-dopoguerra/
CATEGORIES:Convegno
ORGANIZER;CN="Emanuele Bernardi%2C Paola Rodin%C3%B2":MAILTO:emanuele.bernardi@uniroma1.it, info@fondazionegramsci.org
END:VEVENT
BEGIN:VEVENT
DTSTART;TZID=Europe/Rome:20190416T100000
DTEND;TZID=Europe/Rome:20190416T235900
DTSTAMP:20260423T110225
CREATED:20190412T194207Z
LAST-MODIFIED:20190412T194207Z
UID:10000732-1555408800-1555459140@www.sissco.it
SUMMARY:Giulio Andreotti e l'Europa
DESCRIPTION:Martedì 16 aprile alle 10.00\, presso l’Aula Calasso della Facoltà di Giurisprudenza dell’Università Sapienza di Roma\, si terrà la giornata di studi “Giulio Andreotti e l’Europa”\, dedicata al ruolo dello statista nella politica europea degli anni ’80 e inizio anni ’90.\nL’iniziativa\, promossa dal Comitato per le Celebrazioni per il centenario della nascita dello statista democristiano\, è organizzato con la collaborazione della Fondazione Roma Sapienza. L’incontro si propone di esaminare i principali temi di politica europea affrontati da Andreotti in tale periodo: dai rapporti bilaterali con i principali partner dell’Italia\, al processo di costruzione dell’Unione europea e dell’Unione economica e monetaria attraverso le sue tappe fondamentali: Consiglio europeo di Milano\, Atto unico europeo\, Consiglio europeo di Roma e Trattato di Maastricht.\nAprono il convegno il Rettore Eugenio Gaudio\, il Presidente della Fondazione Roma Sapienza Antonello Folco Biagini\, il Senatore e Presidente del Comitato Gianni Letta\, e il Preside della Facoltà di Giurisprudenza Paolo Ridola. I lavori saranno articolati in due sessioni: quella mattutina dal titolo “I Partner europei e internazionali” e quella pomeridiana “Momenti e fasi della costituzione dell’Unione Europea”.\nAl termine della giornata sarà presentato il volume curato da Francesco Lefebvre D’Ovidio e Luca Micheletta “Giulio Andreotti e l’Europa”.
URL:https://www.sissco.it/calendario/giulio-andreotti-e-leuropa/
CATEGORIES:Convegno
ORGANIZER;CN="Fondazione Roma Sapienza":MAILTO:fondazionesapienza@uniroma1.it
END:VEVENT
BEGIN:VEVENT
DTSTART;TZID=Europe/Rome:20190417T100000
DTEND;TZID=Europe/Rome:20190417T235900
DTSTAMP:20260423T110225
CREATED:20190406T092230Z
LAST-MODIFIED:20190406T092230Z
UID:10000721-1555495200-1555545540@www.sissco.it
SUMMARY:Le fonti audiovisive per la storia della Repubblica
DESCRIPTION:2 Giugno 1946. Nascita\, Storie e Memorie della Repubblica\n(Presidenza Del Consiglio dei Ministri – Struttura di Missione per gli anniversari di Interesse nazionale)\nLe fonti audiovisive per la storia della Repubblica\n17 aprile 2019 – ore 10\nAula Imbucci\nSaluti\nRosa Maria Grillo\nDirettrice Dipsum \nVirgilio D’Antonio\nDirettore DSPC \nCarmine Pinto\nCoordinatore Dottorato in Studi Linguistici\, Letterari e Storici \nInterverranno\nPietro Cavallo\nUniversità di Salerno \nPatrizia Cacciani\nArchivio Istituto Luce \nMatteo Chiocchi\nAnnalisa Ciampi\nRai Teche \nClaudio Olivieri\nArchivio Audiovisivo del Movimento Operaio \nMarcello Ravveduto\nUniversità di Salerno \nConclusioni\nMaurizio Ridolfi\nUniversità della Tuscia
URL:https://www.sissco.it/calendario/le-fonti-audiovisive-per-la-storia-della-repubblica/
LOCATION:Università di Salerno\, Via Giovanni Paolo II\, Salerno\, 84084\, Italia
CATEGORIES:Convegno
ORGANIZER;CN="Marcello Ravveduto":MAILTO:mravveduto@unisa.it
END:VEVENT
END:VCALENDAR