BEGIN:VCALENDAR
VERSION:2.0
PRODID:-//SISSCO - ECPv6.15.20//NONSGML v1.0//EN
CALSCALE:GREGORIAN
METHOD:PUBLISH
X-WR-CALNAME:SISSCO
X-ORIGINAL-URL:https://www.sissco.it
X-WR-CALDESC:Eventi per SISSCO
REFRESH-INTERVAL;VALUE=DURATION:PT1H
X-Robots-Tag:noindex
X-PUBLISHED-TTL:PT1H
BEGIN:VTIMEZONE
TZID:Europe/Rome
BEGIN:DAYLIGHT
TZOFFSETFROM:+0100
TZOFFSETTO:+0200
TZNAME:CEST
DTSTART:20180325T010000
END:DAYLIGHT
BEGIN:STANDARD
TZOFFSETFROM:+0200
TZOFFSETTO:+0100
TZNAME:CET
DTSTART:20181028T010000
END:STANDARD
BEGIN:DAYLIGHT
TZOFFSETFROM:+0100
TZOFFSETTO:+0200
TZNAME:CEST
DTSTART:20190331T010000
END:DAYLIGHT
BEGIN:STANDARD
TZOFFSETFROM:+0200
TZOFFSETTO:+0100
TZNAME:CET
DTSTART:20191027T010000
END:STANDARD
BEGIN:DAYLIGHT
TZOFFSETFROM:+0100
TZOFFSETTO:+0200
TZNAME:CEST
DTSTART:20200329T010000
END:DAYLIGHT
BEGIN:STANDARD
TZOFFSETFROM:+0200
TZOFFSETTO:+0100
TZNAME:CET
DTSTART:20201025T010000
END:STANDARD
END:VTIMEZONE
BEGIN:VEVENT
DTSTART;TZID=Europe/Rome:20190531T090000
DTEND;TZID=Europe/Rome:20190601T235900
DTSTAMP:20260423T070115
CREATED:20190524T083407Z
LAST-MODIFIED:20190524T083407Z
UID:10000752-1559293200-1559433540@www.sissco.it
SUMMARY:Convegno Internazionale: 140 anni di relazioni diplomatiche tra Italia e Serbia
DESCRIPTION:Dal 31 maggio al 1° giugno avrò luogo a Belgrado un convegno di studio in occasione del 140° anniversario dell’avvio delle relazioni diplomatiche tra Italia e Serbia. L’appuntamento è organizzato dall’Istituto Italiano di Cultura di Belgrado e dall’Istituto di Studi Balcanici presso l’Accademia Serba delle Scienze e delle Arti.\n 
URL:https://www.sissco.it/calendario/convegno-internazionale-140-anni-di-relazioni-diplomatiche-tra-italia-e-serbia/
LOCATION:Belgrado\, Knez Mihajlova\, 35 II Piano\, Belgrado\, Serbia
CATEGORIES:Convegno
ORGANIZER;CN="Alberto Basciani":MAILTO:alberto.basciani@gmail.com
END:VEVENT
BEGIN:VEVENT
DTSTART;TZID=Europe/Rome:20190615T100000
DTEND;TZID=Europe/Rome:20190615T235900
DTSTAMP:20260423T070115
CREATED:20190511T184002Z
LAST-MODIFIED:20190609T094605Z
UID:10000742-1560592800-1560643140@www.sissco.it
SUMMARY:Trent'anni di SIS (1989-2019). Memorie\, ricerche\, archivi
DESCRIPTION:TRENT’ANNI DI SIS (1989-2019) – MEMORIE\, RICERCHE\, ARCHIVI\n15 giugno 2019\nRoma\, Casa internazionale delle donne\, Sala Carla Lonzi\nVia della Lungara 19\, Roma \n10.00-10.30\nSaluti e introduzione ai lavori\nSimona Feci (Società Italiana delle Storiche\, Università di Palermo)\nFrancesca Koch (Casa internazionale delle donne)\nRaffaele Pittella (Associazione Nazionale Archivistica Italiana-Lazio\, Archivio di Stato di Roma)\nMonica Grossi (Soprintendenza archivistica e bibliografica di Roma) \n10.30-13.30\n1. Archivi femministi/archivi del femminismo\nPresiede: Gabriella Nisticò (Archivia-Archivi\, biblioteca\, Centro di documentazione delle Donne)\nPaola De Ferrari (Associazione per un archivio dei movimenti\, Genova)\nDalla rete Lilith a oggi\nElda Guerra (Associazione Orlando\, Bologna)\nPer una biografia intellettuale: le carte di Anna Rossi-Doria nell’Archivio di storia delle donne di Bologna\nElena Petricola (Archivio delle donne in Piemonte\, Torino)\nL’Archivio delle donne in Piemonte (ArDP) tra memoria e futuro. Riordino e valorizzazione del fondo di Mariateresa Battaglino. \n2. Per un archivio della SIS\nPresiede: Giulia Barrera (Direzione generale per gli archivi)\nStefano Allegrezza (Università di Bologna)\nLa costruzione dell’archivio digitale di un’associazione: principi\, metodi\, criticità\nClaudia d’Avossa (Società Italiana delle Storiche)\nIl progetto di archivio della SIS: work in progress\n***\nPausa pranzo\n***\n15:00-18:30\n3. Soggettività e memoria delle donne\nPresiede: Anna Scattigno (Società Italiana delle Storiche)\nLuisa Passerini (European University Institute)\nIntersoggettività\, storia e memoria delle donne. Una riflessione a trenta anni da “Discutendo di storia”\nFrancesca Socrate (Associazione Italiana di Storia Orale)\nDonne del 68: le parole della soggettività nella memoria autobiografica \n4. Underground o mainstream?\nPresiede: Andreina De Clementi (Società Italiana delle Storiche)\nRaffaella Sarti (Società Italiana delle Storiche\, Università di Urbino)\, Paola Stelliferi (Società Italiana delle Storiche\, Università Roma Tre)\, Stefania Voli (Società Italiana delle Storiche\, Università di Firenze)\nLa storia delle donne e di genere nella memoria delle protagoniste e nelle istituzioni: passato\, presente e futuro \nSocietà Italiana delle Storiche\nVia della Lungara\, 19 – 00165 Roma\nwww.societadellestoriche.it – segreteria@societadellestoriche.it
URL:https://www.sissco.it/calendario/trentanni-di-sis-1989-2019-memorie-ricerche-archivi/
LOCATION:Roma\, Casa internazionale delle donne - Via della Lungara\, 19\, Roma\, 00165\, Italia
CATEGORIES:Convegno
ORGANIZER;CN="SIS":MAILTO:segreteria@societadelestoriche.it
END:VEVENT
BEGIN:VEVENT
DTSTART;TZID=Europe/Rome:20190617T150000
DTEND;TZID=Europe/Rome:20190618T235900
DTSTAMP:20260423T070115
CREATED:20190614T092522Z
LAST-MODIFIED:20190614T092522Z
UID:10002012-1560783600-1560902340@www.sissco.it
SUMMARY:Romanità orientale e Italia dall'antichità fino al XX secolo
DESCRIPTION:Il 17 e 18 giugno 2019\, l’Accademia di Romania in Roma\, in collaborazione con “Alexandru Ioan Cuza” Università di Iasi\, Università di Bucarest – Facoltà di Storia\, Dipartimento di Scienze Politiche – Università Roma Tre e Associazione italiana di studi dell’Sud-est europeo\, organizza la conferenza Internazionale Romanità orientale e Italia dall’antichità fino al XX secolo. \nLa romanità orientale si è formata dalla fine della Repubblica romana all’inizio del Principato\, quando i contatti già esistenti tra gli abitanti della penisola italica e le popolazioni dei Balcani hanno acquisito forme giuridiche\, in particolare trasformando i territori balcanici in province romane. Nel corso dei secoli\, questa romanità ha conservato (a intensità variabile) i legami con le comunità italiche\, fonti letterarie\, epigrafiche\, archeologiche e iconografiche\, illustrando queste connessioni in molteplici connotazioni storiche (politiche\, militari\, economiche\, culturali\, religiose\, ecc.).
URL:https://www.sissco.it/calendario/romanita-orientale-e-italia-dallantichita-fino-al-xx-secolo/
LOCATION:Accademia di Romania\, piazza José de San Martin 1\, Roma\, 00197\, Italia
CATEGORIES:Convegno
ORGANIZER;CN="Antonio D'Alessandri":MAILTO:antonio.dalessandri@uniroma3.it
END:VEVENT
BEGIN:VEVENT
DTSTART;TZID=Europe/Rome:20190620T100000
DTEND;TZID=Europe/Rome:20190620T235900
DTSTAMP:20260423T070115
CREATED:20190603T194302Z
LAST-MODIFIED:20190605T161227Z
UID:10002007-1561024800-1561075140@www.sissco.it
SUMMARY:I “misteri” di Roma. Personaggi e stereotipi della Roma ottocentesca
DESCRIPTION:Giovedì 20 giugno p.v.\, presso la Biblioteca di storia moderna e contemporanea (Palazzo Mattei di Giove\, Via Michelangelo Caetani\, 32 – Roma)\, si terrà il convegno sul tema\nI “misteri” di Roma. Personaggi e stereotipi della Roma ottocentesca\, organizzato dall’Associazione Roma800 in collaborazione con la Biblioteca di storia moderna e contemporanea. \n______________________________________\nI “misteri” di Roma\nPersonaggi e stereotipi della Roma ottocentesca \nLa Roma ottocentesca ha fornito un ricco repertorio di protagonisti\, figure e attori per il romanzo storico che nel corso del XIX secolo vede la sua affermazione a livello europeo\, specialmente nel genere della cronaca nera e dei cosiddetti fait-divers.\nIl convegno intende così iniziare una ricognizione di tale narrativa di ambientazione romana prodotta in diversi contesti\, da quelli del cattolicesimo intransigente\, agli autori stranieri e italiani che hanno alimentato il genere anticlericale dei “misteri”\, a partire dal fortunato modello LesMystères de Paris di Eugène Sue.\nPer far questo si è scelto di focalizzare l’attenzione su alcuni personaggi storici – alcuni dei quali in seguito furono oggetto di numerose rivisitazioni narrative\, teatrali e cinematografiche – analizzando le “trasformazioni discorsive” che questi subiscono nel momento in cui diventano “maschere” e veri e propri stereotipi della narrativa finzionale della seconda metà dell’Ottocento.\nTali protagonisti si prestano perciò a un doppio livello di lettura che il convegno intende prendere in esame: da un lato quello legata alla realtà politica\, economica e sociale della “città del papa” avviata a trasformarsi nella capitale della nazione italiana; dall’altro lato il collegamento tra questo immaginario romano e la circolazione di analoghi cliché e modelli letterari nel contesto europeo. \nProgramma\nOre 10.00 \nSaluti\nPatriza Rusciani (Biblioteca di storia moderna e contemporanea) \nIntroduzione\nTommaso Caliò e Chiara Lucrezio Monticelli (Università di Roma Tor Vergata) \nProlusione\nFrancesco Benigno (Scuola Normale Superiore di Pisa)\nLetteratura dei Misteri e immaginario politico nell’Europa del XIX secolo \nFatti e misfatti\nPresiede: Marina Formica\nDaniela Felisini (Università di Roma Tor Vergata)\nAlessandro Torlonia. Un banchiere di statura europea tra mito e scandalo\nTommaso Caliò (Università di Roma Tor Vergata)\nLo strano caso di don Abbo e dei suoi due nipoti\nGiorgio Sanguinetti (Università di Roma Tor Vergata)\nChi era Scarpia? Fonti storiche per i personaggi di Tosca\nElèna Mortara (Università di Roma Tor Vergata)\nIl caso Mortara: nel Risorgimento e nella letteratura contemporanea \nOre 15.00\nIn nome del popolo sovrano\nPresiede: Daniela Felisini\nMarina Formica (Università di Roma Tor Vergata)\nLa memoria della prima Repubblica Romana\nMassimo Cattaneo (Università di Napoli Federico II)\nImmaginario trasteverino e trasteverini immaginari (secc. XVIII-XIX)\nValeria Tavazzi (Sapienza Università di Roma)\nCiceruacchio nella narrativa ottocentesca\nSimon Sarlin (Université Paris Nanterre)\nLa cittadella assediata e i suoi difensori: i soldati del papa nell’immaginario europeo\nMarcello Teodonio (Presidente del Centro Studi Giuseppe Gioachino Belli)\nLa viaggiatora tramontana (i viaggiatori\, le “patacche”\, i ciceroni) \nConclusioni: Giuseppe Monsagrati (Sapienza Università di Roma)
URL:https://www.sissco.it/calendario/i-misteri-di-roma-personaggi-e-stereotipi-della-roma-ottocentesca/
LOCATION:Roma\, Biblioteca di storia moderna e contemporanea - Via M. Caetani\, 32\, Roma\, 00186\, Italia
CATEGORIES:Convegno
ORGANIZER;CN="Oriana Rizzuto":MAILTO:b-stmo.info@beniculturali.it
END:VEVENT
BEGIN:VEVENT
DTSTART;TZID=Europe/Rome:20190624T103000
DTEND;TZID=Europe/Rome:20190628T235900
DTSTAMP:20260423T070115
CREATED:20190621T113130Z
LAST-MODIFIED:20190621T113130Z
UID:10000761-1561372200-1561766340@www.sissco.it
SUMMARY:InV:ito alla Storia
DESCRIPTION:Terza Conferenza Nazionale dell’Associazione Italiana di Public History #AIPH2019\nUniversità degli Studi della Campania Luigi Vanvitelli\, Santa Maria Capua Vetere e Caserta
URL:https://www.sissco.it/calendario/invito-alla-storia/
LOCATION:Università della Campania\, Via Raffaele Perla\, 21\, Santa Maria Capua Vetere\, 81055\, Italia
CATEGORIES:Convegno
ORGANIZER;CN="Marcello Ravveduto":MAILTO:mravveduto@unisa.it
END:VEVENT
BEGIN:VEVENT
DTSTART;TZID=Europe/Rome:20190628T170000
DTEND;TZID=Europe/Rome:20190628T235900
DTSTAMP:20260423T070115
CREATED:20190614T121618Z
LAST-MODIFIED:20190614T121618Z
UID:10002011-1561741200-1561766340@www.sissco.it
SUMMARY:Matteo Pizzigallo. Il professore\, lo storico\, l'uomo
DESCRIPTION:A un anno dalla sua scomparsa\, Fucina 900\, in collaborazione con il comune di Martina Franca\, ha deciso di ricordare le qualità umane e professionali di Matteo Pizzigallo. Figlio della Valle d’Itria\, dove è nato nel 1950\, Pizzigallo è stato un vivace interprete delle vicende locali\, nazionali e internazionali. Professore di Storia delle Relazioni Internazionali presso l’Università Federico II di Napoli\, è stato divulgatore televisivo e sulla carta stampata\, docente e ricercatore nonchè uomo che ha sempre mantenuto vivi i legami con la sua terra natia.\nInterverranno all’evento: Daniela Patriarca Pizzigallo\, Cosimo Damiano Fonseca\, Antonio Scialpi\, Rosaria Leonardi\, Luca Altieri\, Pietro Andrea Annicelli\, Paolo De Nardis\, Alessandra Frusciante\, Silvio Labbate\, Gianluca Luise\, Luisa Pezone\, Salvatore Romeo\, Paolo Wulzer. Coordinerà Vittorio De Marco. Concluderà Franco Ancona\, Sindaco di Martina Franca.
URL:https://www.sissco.it/calendario/matteo-pizzigallo-il-professore-lo-storico-luomo/
LOCATION:Palazzo Ducale\, Martina Franca\, Piazza Roma\, 28 \, Martina Franca\, 74015\, Italia
CATEGORIES:Convegno
END:VEVENT
END:VCALENDAR