BEGIN:VCALENDAR
VERSION:2.0
PRODID:-//SISSCO - ECPv6.15.20//NONSGML v1.0//EN
CALSCALE:GREGORIAN
METHOD:PUBLISH
X-WR-CALNAME:SISSCO
X-ORIGINAL-URL:https://www.sissco.it
X-WR-CALDESC:Eventi per SISSCO
REFRESH-INTERVAL;VALUE=DURATION:PT1H
X-Robots-Tag:noindex
X-PUBLISHED-TTL:PT1H
BEGIN:VTIMEZONE
TZID:Europe/Rome
BEGIN:DAYLIGHT
TZOFFSETFROM:+0100
TZOFFSETTO:+0200
TZNAME:CEST
DTSTART:20180325T010000
END:DAYLIGHT
BEGIN:STANDARD
TZOFFSETFROM:+0200
TZOFFSETTO:+0100
TZNAME:CET
DTSTART:20181028T010000
END:STANDARD
BEGIN:DAYLIGHT
TZOFFSETFROM:+0100
TZOFFSETTO:+0200
TZNAME:CEST
DTSTART:20190331T010000
END:DAYLIGHT
BEGIN:STANDARD
TZOFFSETFROM:+0200
TZOFFSETTO:+0100
TZNAME:CET
DTSTART:20191027T010000
END:STANDARD
BEGIN:DAYLIGHT
TZOFFSETFROM:+0100
TZOFFSETTO:+0200
TZNAME:CEST
DTSTART:20200329T010000
END:DAYLIGHT
BEGIN:STANDARD
TZOFFSETFROM:+0200
TZOFFSETTO:+0100
TZNAME:CET
DTSTART:20201025T010000
END:STANDARD
END:VTIMEZONE
BEGIN:VEVENT
DTSTART;TZID=Europe/Rome:20190930T143000
DTEND;TZID=Europe/Rome:20191001T235900
DTSTAMP:20260422T233609
CREATED:20190920T215828Z
LAST-MODIFIED:20190920T220228Z
UID:10000778-1569853800-1569974340@www.sissco.it
SUMMARY:Razzismi: retoriche e pratiche della discriminazione
DESCRIPTION:Lunedì 30 settembre e martedì 1° ottobre 2019\, presso l’Aula Magna del Dipartimento di Storia\, Archeologia\, Geografia\, Arte e Spettacolo (SAGAS) dell’Università di Firenze\, si terrà il convegno “Razzismi: retoriche e pratiche della discriminazione”. \nL’iniziativa si svolge nell’ambito del progetto MSCA US-E AntiRacism. \n \nLunedì 30 settembre\n14:30 \nAndrea Zorzi (Direttore del Dipartimento SAGAS)\nSaluti \nMaria Paiano (Università di Firenze)\nIntroduzione ai lavori \nLINGUAGGI DELLA RAZZA\nPresiede e discute gli interventi Marcello Verga (Università di Firenze) \nVincenzo Lavenia (Università di Bologna)\nLa razza prima del razzismo: a che punto è la riflessione degli storici \nFabio Dei (Università di Pisa)\nRazzismo\, neorazzismo\, antirazzismo: categorie esplicative dell’azione sociale? \nMaria Elena Giusti (Università di Firenze)\nIl mito della razza ieri e oggi \nPausa \nValeria Galimi (Università di Firenze)\nRazzismo e antisemitismo: forme\, definizioni\, caratteri \nStefano Bottoni (Università di Firenze)\nDal razzismo biologico all’ambivalenza geopolitica. La destra ungherese e gli ebrei nel lungo Novecento \nDiscussione \n  \nMartedì 1° ottobre\n09:00 \nRELIGIONE E RAZZIALIZZAZIONE\nPresiede e discute gli interventi Daniele Menozzi (Scuola Normale Superiore) \nRiccardo Facchini (Università Europea di Roma\, PhD)\nDa Poitiers a Christchurch: le radici (neo)crociate dell’islamofobia \nCristiana Facchini (Università di Bologna)\nUno\, nessuno\, centomila: i volti dell’ebraismo tra religione\, nazione e razzismo (1850-1930) \nArturo Marzano (Università di Pisa)\nIl sionismo religioso e i rapporti con l’alterità araba in Israele/Palestina \nPausa \nMatteo Caponi (Università di Firenze – Fordham University)\nCultura cattolica e razzismo antinero \nElena Mazzini (Università di Firenze\, PhD)\nAntisemitismi 3.0. Le rappresentazioni del pregiudizio nei siti dei cattolici tradizionalisti \nValentina Ciciliot (Ca’ Foscari Università di Venezia)\nNeo-evangelicali statunitensi e razzismo: la posizione della rivista «Christianity Today» \nDiscussione \n  \n14:30 \nIL CASO ITALIANO\nPresiede e discute gli interventi Tatiana Petrovich Njegosh (Università di Macerata) \nEdoardo Marcello Barsotti (Fordham University\, PhD)\nDalle “stirpi italiche” alle “razze antropologicamente considerate”: nazione\, razza e razzialismo nel Risorgimento \nValeria Deplano (Università di Cagliari)\nUguali di fronte alla legge. Razzismi ed eredità coloniali nell’Italia repubblicana \nPausa \nSilvana Patriarca (Fordham University)\nIl colore della Repubblica: “razza” e italianità dopo il 1945 \nStefano Luconi (Università di Padova)\nUna razza bazzotta: gli italoamericani tra nerezza e bianchezza \nDiscussione e conclusioni \nComitato scientifico:\nMatteo Caponi (Università di Firenze – Fordham University)\nMaria Paiano (Università di Firenze)\nSilvana Patriarca (Fordham University) \nContatti: convegnorazzismo2019@gmail.com \n  \n 
URL:https://www.sissco.it/calendario/razzismi-retoriche-e-pratiche-della-discriminazione/
LOCATION:Dipartimento SAGAS\, Via San Gallo 10\, Firenze\, 50129\, Italia
CATEGORIES:Convegno
ORGANIZER;CN="Matteo Caponi":MAILTO:convegnorazzismo2019@gmail.com
END:VEVENT
BEGIN:VEVENT
DTSTART;TZID=Europe/Rome:20191002T093000
DTEND;TZID=Europe/Rome:20191003T170000
DTSTAMP:20260422T233609
CREATED:20190925T082452Z
LAST-MODIFIED:20190925T083345Z
UID:10002026-1570008600-1570122000@www.sissco.it
SUMMARY:Transizioni funerarie contemporanee
DESCRIPTION:Transizioni funerarie contemporanee. Saperi\, pratiche\, istituzioni (secoli XVIII-XXI) \nIl convegno di Padova\, dopo quello di Créteil nel giugno 2017 e di Roma nel settembre 2018\, riguarda le due transizioni funerarie della contemporaneità. La prima\, al tornante tra XVIII e XIX secolo\, ha dato vita alla nozione stessa di transizione funeraria e al cimitero moderno\, teatro di un culto dei morti che è stato uno dei fondamenti antropologici e culturali più diffuse e unanimi dell’Europa del XIX e XX secolo. La seconda\, iniziata negli anni Sessanta del Novecento e nella quale siamo coinvolti\, ha tra gli aspetti più salienti (anche se non unico) il ritorno o la reinvenzione della cremazione in Occidente\, dopo 1500 anni di assenza\, in uno spirito e secondo procedure molto diverse dalle sue forme antiche o “orientali”. L’incontro vuole occuparsi di entrambe e riflettere\, in prospettiva comparata\, sul significato di simili eventi antropologici nell’Europa contemporanea. \n  \n \n 
URL:https://www.sissco.it/calendario/transizioni-funerarie-contemporanee/
LOCATION:Aula Bortolami\, Dipartimento di scienze storiche\, geografiche e dell’antichità\, Via del Vescovado 30\, Padova\, Italia
CATEGORIES:Convegno
END:VEVENT
BEGIN:VEVENT
DTSTART;TZID=Europe/Rome:20191003T093000
DTEND;TZID=Europe/Rome:20191004T235900
DTSTAMP:20260422T233609
CREATED:20190923T130755Z
LAST-MODIFIED:20190923T130755Z
UID:10000776-1570095000-1570233540@www.sissco.it
SUMMARY:Il Sud-est europeo e le Grandi Potenze
DESCRIPTION:Il Sud-est europeo e le Grandi Potenze.\nQuestioni nazionali e ambizioni egemoniche dopo il Congresso di Berlino \nIl convegno intende proporre un’ampia riflessione sull’assetto del Sud-est europeo scaturito dalle decisioni del Congresso di Berlino del 1878. L’ottenimento della piena indipendenza politica da parte di Romania\, Serbia e Montenegro e la creazione dello Stato autonomo bulgaro diedero vita a nuovi equilibri nella regione e aprirono inediti scenari di confronto politico\, in ragione delle questioni nazionali ancora non completamente risolte e delle ambizioni egemoniche delle Grandi Potenze\, che guardarono al Sud-est europeo come a uno spazio di espansione economica e politica. \nAlla luce dell’ampia storiografia disponibile sull’argomento e\, soprattutto\, delle nuove ricerche condotte negli ultimi anni\, il convegno vuole fare il punto sulle conoscenze disponibili circa la storia balcanica sullo scorcio del XIX secolo\, vista nel contesto più ampio del quadro politico internazionale del tempo.
URL:https://www.sissco.it/calendario/il-sud-est-europeo-e-le-grandi-potenze/
LOCATION:Dipartimento di Scienze Politiche\, Università Roma Tre e Accademia di Romania in Roma\, Italia
CATEGORIES:Convegno
ORGANIZER;CN="Antonio D\'Alessandri":MAILTO:antonio.dalessandri@uniroma3.it
END:VEVENT
BEGIN:VEVENT
DTSTART;TZID=Europe/Rome:20191007T153000
DTEND;TZID=Europe/Rome:20191008T235900
DTSTAMP:20260422T233609
CREATED:20190911T101328Z
LAST-MODIFIED:20190921T143108Z
UID:10002021-1570462200-1570579140@www.sissco.it
SUMMARY:L'immigrazione straniera nella storia d'Italia
DESCRIPTION:A trent’anni dalla morte di Jerry Essan Masslo\, il convegno è una riflessione a più voci\, e da diverse prospettive disciplinari\, sull’immigrazione straniera in Italia.\nI sessione – 7 ottobre 2019 ore 15\,30 – Le migrazioni internazionali\, una sfida epocale \nSaluti istituzionali: \nLuca Pietromarchi\, rettore dell’Università di Roma Tre\nGiuliana Grego Bolli\, rettrice dell’Università per Stranieri di Perugia\nGaetano Manfredi\, rettore dell’Università degli Studi di Napoli “Federico II” \nIntroduce: Massimiliano Fiorucci \nIntervengono: \n–      Stefano Allievi\, La trappola dell’inerzia. Cambiare sguardo per cambiare politica\n–      Marco Impagliazzo\, Governare le migrazioni\n–      Mario Giro\, L’Italia e il Global Compact sulle migrazioni\n–      Matteo Sanfilippo\, Cicli di migrazioni dal 1945 a oggi \nII sessione – 8 ottobre 2019 ore 9\,30 – Le questioni dell’immigrazione nell’Italia contemporanea \nPresiede e modera: Carlo Felice Casula \nIntervengono: \n–      Daniela Pompei\, Jerry Essan Masslo e la legge Martelli\n–      Michele Colucci\, I momenti di svolta nella storia dell’immigrazione\n–      Nicola Coniglio\, Economia italiana e immigrazione\n–      Francesco Dandolo\, Immigrazione e lavoro\n–      Marco Catarci\, Società multiculturale e risposte educative \nIII sessione – 8 ottobre 2019 ore 15\,30 – Il quadro europeo e mediterraneo \nPresiede e modera: Vittoria Fiorelli \nIntervengono: \n–      Simone Paoli\, L’Italia e Schengen\n–      Valerio De Cesaris\, Il confine mediterraneo e le migrazioni via mare\n–      Marialuisa Sergio\, Il percorso di comunitarizzazione del tema migratorio \n–      Federica Guazzini\, Le sfide delle migrazioni: la prospettiva dell’Unione Africana
URL:https://www.sissco.it/calendario/limmigrazione-straniera-nella-storia-ditalia/
LOCATION:Università di Roma Tre\, Scienze della Formazione\, Via del Castro Pretorio 20\, Roma\, 00100\, Italia
CATEGORIES:Convegno
ORGANIZER;CN="Valerio De Cesaris":MAILTO:valerio.decesaris@unistrapg.it
END:VEVENT
BEGIN:VEVENT
DTSTART;TZID=Europe/Rome:20191010T143000
DTEND;TZID=Europe/Rome:20191011T235900
DTSTAMP:20260422T233609
CREATED:20190901T194605Z
LAST-MODIFIED:20190910T210122Z
UID:10000768-1570717800-1570838340@www.sissco.it
SUMMARY:A cento anni dall’abolizione dell’autorizzazione maritale\, 1919-2019
DESCRIPTION:Nei giorni 10 e 11 ottobre p.v. la Società italiana delle storiche organizza a Roma\, presso il Dipartimento di scienze politiche dell’Università Roma Tre  (Via Gabriello Chiabrera\, 199)\, il convegno \nA cento anni dall’abolizione dell’autorizzazione maritale\, 1919-2019\nRoma\, 10-11 ottobre 2019\nUniversità degli Studi Roma Tre – Dipartimento di Scienze Politiche\nVia Gabriello Chiabrera\, 199\nProgramma \nGiovedì 10 ottobre 2019\nOre 14.30 – 18.30\nSaluti\, Daniele Fiorentino\, Direttore del Dipartimento di scienze politiche\nSimona Feci\, Università di Palermo – Presidente della Società italiana delle storiche\nStefania Bartoloni\, Università Roma Tre\, Introduzione ai lavori\nPrima e dopo il 1919\nPresiede: Stefania Bartoloni\nSimona Feci\, Università di Palermo\, Declinazioni dell’incapacità femminile nel diritto italiano\npreottocentesco\nMaria Rosa di Simone\, I diritti delle donne italiane tra code Napoléon e Allgemeines bürgerliches Gesetzbuch (ABGB)\nSimonetta Soldani\, Sopire\, troncare…: la legge “progressista” del 1919 nel turbine della reazione \nVenerdì 11 ottobre 2019\nOre 9.30 – 13.30\nLe professioni dopo la legge Sacchi\nPresiede: Rosanna De Longis\nMaria Rosaria De Rosa\, Pubblicamente e notoriamente: coniugi in affari e le risorse dell’autorizzazione\nmaritale\nLiviana Gazzetta\, Insegnare filosofia nell’Italia del primo ‘900: il percorso di Emilia Santamaria e Maria\nGoretti\nChiara Belingardi e Claudia Mattogno\, La legge Sacchi e le professioni progettuali\nSara Follacchio\, Gli effetti delle ‘Norme circa la capacità giuridica della donna’ nel ventennio fascista\nLaura Savelli\, Le donne nei servizi di comunicazione dall’ammissione in ruolo alla grande crisi \nOre 14.30 – 17.30\nL’ Italia nel contesto internazionale\nPresiede: Andreina De Clementi\nMary Gibson\, The Legge Mussolini: Italian Defiance of International Abolitionism\nMonica Fioravanzo\, L’autorizzazione maritale e la sua abolizione nel quadro europeo (1919-1945)\nAlessandra Pescarolo\, Oltre la minorità giuridica: aspirazioni e opportunità tra famiglia e lavoro\nRosa Oliva\, Madri ancora invisibili se i padri non sono d’accordo: la questione del cognome materno dopo il 2016
URL:https://www.sissco.it/calendario/a-cento-anni-dallabolizione-dellautorizzazione-maritale-1919-2019/
LOCATION:Roma\, Università Roma Tre - Dipartimento di Scienze Politiche\, Roma\, 00145\, Italia
CATEGORIES:Convegno
ORGANIZER;CN="Societ%C3%A0 italiana delle storiche":MAILTO:segreteria@societadelestoriche.it
END:VEVENT
BEGIN:VEVENT
DTSTART;TZID=Europe/Rome:20191014T100000
DTEND;TZID=Europe/Rome:20191015T235900
DTSTAMP:20260422T233609
CREATED:20191003T065339Z
LAST-MODIFIED:20191003T065339Z
UID:10002033-1571047200-1571183940@www.sissco.it
SUMMARY:Gli scritti di una stagione: libri e autori dell’età rivoluzionaria e napoleonica in Italia
DESCRIPTION:Presupposti scientifici\nIl Ventennio francese costituisce un momento eccezionale di rinnovamento sociale e istituzionale per tutta la Penisola. Un momento in cui soprattutto nasce una cultura politica nuova\, ispirata dal portato dell’esperienza rivoluzionaria francese\, ma che si fonde in maniera dialettica e originale con l’eredità illuministica della Penisola\, creando un linguaggio e un universo d’attesa specifico che determina e modella tanto una pratica di governo quanto l’apprentissage democratico e l’identità di una Nazione per la prima volta sovrana. Certo le entità statuali in cui essa rimane divisa sono molteplici\, legate alle incertezze e ai mutamenti imposti dai rapporti di forza che si determinano di volta in volta rispetto al potere francese\, come diverso è l’impatto delle riforme introdotte e il grado di partecipazione dei gruppi di governo che sono associati al potere napoleonico\, ma comune a tutta la Penisola è la cesura rispetto alla stagione precedente\, la rottura netta instaurata dall’invasione francese\, che non fonda una nuova intelligibilità del reale. Il crollo dell’antico regime si accompagna in effetti a una catarsi culturale\, che costituisce e legittima il successivo e conseguente mutamento delle strutture sociali e delle pratiche di governo della Penisola.\n \nArgomento del convegno\nA partire da questi presupposti scientifici e epistemologici\, si giustifica l’idea di organizzare un convegno dedicato allo studio degli scritti della stagione napoleonica\, che si terrà presso l’Università degli studi di Milano il 14 e 15 ottobre 2019. Associando lo studio di testi già noti e altri meno conosciuti\, il “Centro interuniversitario per lo studio dell’età rivoluzionaria e napoleonica in Italia” vuole promuovere una riflessione collettiva sulla cultura politica del Ventennio napoleonico\, capace tanto di mettere in luce le specificità degli autori che saranno presi in esame quanto e soprattutto le linee di continuità intellettuali tra caratterizzano la produzione del campo editoriale del periodo per cogliere i principi\, le problematiche e le logiche che la ispirano. I partecipanti sono così invitati a sviluppare da un lato un’analisi interna dei testi\, esaminando i propositi dell’autore\, dall’altro a contestualizzarli\, interessandosi alla circolazione e alla ricezione degli scritti\, i possibili dibattiti che suscitarono e infine alla loro fortuna immediata o postuma. L’aspetto della produzione testuale (influenze\, propositi dell’autore\, strategie di scrittura e gli aspetti performativi del linguaggio) non andranno così disgiunti da un”attenzione verso gli aspetti editoriali e materiali dei testi (supporto\, tiratura\, politiche editoriali) e dai loro canali di diffusione e dalle forme di riappropriazione.
URL:https://www.sissco.it/calendario/gli-scritti-di-una-stagione-libri-e-autori-delleta-rivoluzionaria-e-napoleonica-in-italia/
LOCATION:Università degli studi di Milano\, aula E. Brambilla\, Via Festa del Perdono\, 7\, Milano\, Italia
CATEGORIES:Convegno
END:VEVENT
BEGIN:VEVENT
DTSTART;TZID=Europe/Rome:20191018T150000
DTEND;TZID=Europe/Rome:20191019T235900
DTSTAMP:20260422T233609
CREATED:20191015T145927Z
LAST-MODIFIED:20191015T145927Z
UID:10002036-1571410800-1571529540@www.sissco.it
SUMMARY:L'unificazione europea ed i Balcani
DESCRIPTION:18 ottobre ore 15 – 18.30\n19 ottobre ore 9 – 12.30\nCentro Residenziale Universitario – Bertinoro\n \nConvegno\nL’unificazione europea ed i Balcani.\nIstituzioni\, politica e società tra processo storico e crisi della politica\n Introduzione al seminario: Giuliana Laschi (Università di Bologna)\n Sessione I.\nLe istituzioni europee di fronte all’evoluzione balcanica: contesto internazionale e new policies\n Presiede: Stefano Bianchini  (Università di Bologna)\nLorenzo Ferrari (Osservatorio Balcani e Caucaso Transeuropa)\nOltre gli steccati: le convergenze tra i paesi della CEE/UE e dei Balcani all’Assemblea generale dell’ONU e la loro eredità\nBenedetto Zaccaria (European University Institute)\nDalla Jugoslavia ai Balcani occidentali: il ruolo della CEE/UE tra storia e interpretazione\nRoberto Belloni (Università di Trento)\nRise and Fall of Peacebuilding: l’Unione europea di fronte ai Balcani\nGiovanni Finizio (Università di Torino)\nL’Europa di fronte alla guerra: il Parlamento Europeo e la politica estera dell’UE nelle guerre dei Balcani\nPaolo Acanfora (Libera Università di lingue e comunicazione-IULM)\nJugoslavia\, Movimento dei non-Allineati e Comunità Europea nel dibattito sul New International Order\nMarco Abram (Osservatorio Balbani e Caucaso Transeuropa)\,\nPer raccontare una storia europea”: i viaggi della memoria dall’Italia ai paesi post-jugoslavi\nSessione II\nLo sguardo dai Balcani: avvicinamento\, cooperazione e storici steccati\nPresiede: Francesco Privitera (Università di Bologna)\nAlfredo Sasso (Osservatorio Balcani e Caucaso Transeuropa)\nEuropea e non-allineata. La politica di avvicinamento alla CEE dell’ultimo governo federale jugoslavo\nDavide Denti (Commissione europea\, DG NEAR – European Neighbourhood Policy and Enlargement Negotiations)\nAllargamento e oltre: le relazioni tra l’UE e i paesi dei Balcani oggi\nFrancesca Rolandi (Università di Lubjana)\nGli studi sull’area post-jugoslava e il processo di integrazione europea: opportunità\, sfide\, criticità\nChiara Milan (Centre for South-East European Studies\, University of Graz)\nAllargamento e proteste alla periferia dell’Europa: la società civile risponde alle sfide dell’integrazione europea\nSilvia Sassano (European University Institute)\nLa Macroregione Adriatico-Ionica: cooperazione transfrontaliera e integrazione europea\nConclusioni: Luisa Chiodi (Osservatorio Balcani e Caucaso Transeuropa)\nComitato scientifico: Paolo Acanfora (Libera Università di Lingue e Comunicaizone – IULM)\, Luisa Chiodi (Osservatorio Balcani e Caucaso Transeuropa)\, Giuliana Laschi (Università di Bologna)\nOrganizzato da:\nCentro di Eccellenza Jean Monnet Punto Europa di Forlì\nOsservatorio Balcani e Caucaso Transeuropa di Trento\nEuropean Center for Peace and Development\nIn collaborazione con:\n Istituto per l’Europa Centro-Orientale e Balcanica
URL:https://www.sissco.it/calendario/lunificazione-europea-ed-i-balcani/
LOCATION:Centro residenziale Universitario di Bertinoro\, Via Frangipane 6\, Bertinoro\, 47032\, Italia
CATEGORIES:Convegno
ORGANIZER;CN="Giuliana Laschi":MAILTO:giuliana.laschi@unibo.it
END:VEVENT
BEGIN:VEVENT
DTSTART;TZID=Europe/Rome:20191021T160000
DTEND;TZID=Europe/Rome:20191022T235900
DTSTAMP:20260422T233609
CREATED:20191006T140714Z
LAST-MODIFIED:20191006T140810Z
UID:10000781-1571673600-1571788740@www.sissco.it
SUMMARY:I muri\, trent’anni dopo
DESCRIPTION:Convegno per il decennale della rivista\nDiacronie. Studi di storia contemporanea
URL:https://www.sissco.it/calendario/i-muri-trentanni-dopo/
LOCATION:Venezia – Università Ca’ Foscari Venezia\, Venezia\, Italia
CATEGORIES:Convegno
ORGANIZER;CN="Deborah Paci":MAILTO:deborah.paci@unive.it
END:VEVENT
BEGIN:VEVENT
DTSTART;TZID=Europe/Rome:20191025T100000
DTEND;TZID=Europe/Rome:20191028T235900
DTSTAMP:20260422T233609
CREATED:20191010T173338Z
LAST-MODIFIED:20191010T173735Z
UID:10000788-1571997600-1572307140@www.sissco.it
SUMMARY:Le politiche dell'odio in Europa e nelle Americhe
DESCRIPTION:Dipartimento di Scienze Politiche\, Università Roma Tre\n25-28 OTTOBRE 2019 \nRecentemente\, il dibattito scientifico e politico su nuove manifestazioni di “incitamento all’odio” ha\nconosciuto una significativa intensificazione. Pratiche finalizzate alla creazione di terrore\, paura\, politiche\ndi istigazione all’odio\, strategie propagandistiche e repressive\, processi di costruzione del “nemico”\, però\,\nnon rappresentano fenomeni nuovi\, bensì hanno attraversato secoli e continenti. Partendo dall’adozione\ndi una prospettiva storica\, l’evento mira ad estendere la riflessione all’attualità\, affrontando i temi della\ncultura dell’odio e della legislazione frutto dell’odio verso categorie sociali\, gruppi politici o singoli\nindividui nei continenti americano ed europeo. \nAll’evento parteciperanno esponenti o ex esponenti delle\nistituzioni\, ricercatori e docenti\, giornalisti ed esperti provenienti da diversi ambienti professionali.\nL’obiettivo degli incontri è quello di far dialogare persone che hanno affrontato questi temi da diverse\nprospettive e differenti ambiti professionali\, promuovendo in questo modo\, attraverso un dibattito ampio\nche includa anche le scuole\, gli studenti universitari e in generale i cittadini\, la cultura del rispetto reciproco\ne della democrazia.
URL:https://www.sissco.it/calendario/le-politiche-dellodio-in-europa-e-nelle-americhe/
LOCATION:Dipartimento di Scienze Politiche\, Università Roma Tre\, Via Gabriello Chiabrera 199\, Roma\, 00145\, Italia
CATEGORIES:Convegno
ORGANIZER;CN="Laura Fotia":MAILTO:laura.fotia@uniroma3.it
END:VEVENT
BEGIN:VEVENT
DTSTART;TZID=Europe/Rome:20191025T140000
DTEND;TZID=Europe/Rome:20191026T235900
DTSTAMP:20260422T233609
CREATED:20191021T154038Z
LAST-MODIFIED:20191021T154038Z
UID:10000792-1572012000-1572134340@www.sissco.it
SUMMARY:Fonti orali in Italia: archivi e ri-generazioni
DESCRIPTION:Istoreto\, Fondazione ISEC\, Aiso\, Istituto Nazionale Ferruccio Parri\, Soprintendenza Archivistica e Bibliografica del Piemonte e della Valle d’Aosta vi invitano al convegno di studi promosso in occasione del World Day for audiovisual heritage – Unesco (27 ottobre)\, con il contributo di Spi Cgil – Sindacato pensionati italiani – Torino Piemonte.Il convegno è strutturato in due sessioni – “Dal conversare al conservare. Lo stato dell’arte delle fonti orali in Italia” (venerdì 25 ottobre ore 14.00/19.00) e “Cosa resterà di questi anni Ottanta. Una rilettura della rivista «Fonti orali. Studi e ricerche»(1981-1987)” (Sabato 26 ottobre 9.00/13.00) – e affronta il tema delle fonti orali da diversi punti di vista\, discutendo di produzione\, conservazione\, uso e riuso delle fonti\, sia sul piano tecnico-scientifico che sul piano divulgativo\, con l\’intento di mettere a confronto diverse generazioni di ricercatori e operatori. Oggetto delle relazioni sono: il censimento in corso degli archivi sonori e audiovisivi presso la rete degli Istituti per la storia della Resistenza\, i lavori in corso per la redazione di un vademecum sulla conservazione\, descrizione\, e ri-uso delle fonti orali\, l’impatto sulla storia orale del regolamento europeo sulla protezione dei dati personali\, le esperienze virtuose di conservazione e riuso degli archivi sonori\, la costituzione di archivi di testimonianze orali come atto di democrazia\, la solidarietà tra generazioni di storici e storiche orali.Si prevede inoltre un ricordo e un riascolto di Nuto Revelli e Bianca Guidetti Serra.L’ingresso è libero fino a esaurimento posti. Data la limitata capienza della sala si richiede di inviare una conferma di partecipazione all’indirizzo archivio@istoreto.it entro mercoledì 23 ottobre.\nInfo e prenotazioni: archivio@istoreto.it \nScarica l\’allegato
URL:https://www.sissco.it/calendario/fonti-orali-in-italia-archivi-e-ri-generazioni/
LOCATION:Polo del 900\, Via del Carmine 14\, Torino\, Italia
CATEGORIES:Convegno
ORGANIZER;CN="Sara Zanisi":MAILTO:comunicazione@fondazioneisec.it
END:VEVENT
BEGIN:VEVENT
DTSTART;TZID=Europe/Rome:20191029T100000
DTEND;TZID=Europe/Rome:20191029T235900
DTSTAMP:20260422T233609
CREATED:20191022T082116Z
LAST-MODIFIED:20191022T082221Z
UID:10000794-1572343200-1572393540@www.sissco.it
SUMMARY:Italiani nelle altre americhe
DESCRIPTION:Italiani nelle altre americhe\nEmigranti cilentani e meridionali in Venezuela\, Colombia\, Centroamerica e Caraibi.\nConvegno internazionale di studi interdisciplinari\nSaluti\nRosa Maria GrilloDirettrice Dipartimento Studi UmanisticiCarmine PintoCoordinatore Dottorato Studi letterari\, linguistici e storiciSalvo IavaronePresidente Asmef (Associazione Mezzogiorno Futuro)Vincenzo NapoliSindaco di Salerno \nPrima Sessione\nVittorio CappelliCentro di Ricerca sulle Migrazioni -Università della CalabriaSebastiano MartelliUniversità degli Studi di SalernoEmilio FranzinaUniversità di VeronaRaissa PergolaUniversità degli Studi di Salerno \nSeconda Sessione\nMartino MarazziUniversità di MilanoMichele CartuscielloGenealogista – Museo del CognomePietro CavalloUniversità degli Studi di SalernoEmilio GiordanoUniversità degli Studi di SalernoDiscussantToni Ricciardi Université de Genève
URL:https://www.sissco.it/calendario/italiani-nelle-altre-americhe/
LOCATION:Università degli Studi di Salerno\, via Giovanni Paolo II\, 132\, Fisciano (SA)\, 84084\, Italia
CATEGORIES:Convegno
ORGANIZER;CN="Raissa Pergola":MAILTO:pergolaraissa@gmail.com
END:VEVENT
BEGIN:VEVENT
DTSTART;TZID=Europe/Rome:20191030T090000
DTEND;TZID=Europe/Rome:20191031T230000
DTSTAMP:20260422T233609
CREATED:20191019T091657Z
LAST-MODIFIED:20191031T152213Z
UID:10002038-1572426000-1572562800@www.sissco.it
SUMMARY:Ricostruire/restaurare Roma
DESCRIPTION:“Ricostruire/restaurare Roma. Il rinnovamento degli spazi pubblici e dei monumenti come politica urbana\, dall’antichità ai giorni nostri”.\n30-31 ottobre 2019\nÉcole française de Rome – Sapienza Università di Roma\, Facoltà di Lettere \nIl convegno internazionale si propone di indagare come\, durante l’intera storia di Roma\, dall’antichità al XXI secolo\, le nozioni di ricostruzione o restauro sono state al tempo stesso un motore dell’urbanistica\, un programma politico dei poteri pubblici e un ideale condiviso o meno dai diversi attori urbani.\nSi seguiranno tre piste di riflessione: lo studio dei programmi di rifacimento o ricostruzione di Roma e dei suoi monumenti; i significati politici della ricostruzione; le relazioni tra i progetti di rifacimento o ricostruzione e i diversi attori urbani\, con le connesse rivendicazioni\, conflitti\, resistenze.\nIl convegno è organizzato nel quadro delle attività del LIA Mediterrapolis – Espaces urbains\, mobilités\, citadinités. Europe méridionale-Méditerranée. XVe-XXIe siècle. \n  \n  \n 
URL:https://www.sissco.it/calendario/ricostruirerestaurare-roma-il-rinnovamento-degli-spazi-pubblici-e-dei-monumenti-come-politica-urbana-dallantichita-ai-giorni-nostri/
LOCATION:Roma\, École française de Rome - Sapienza Università di Roma\, Facoltà di Lettere\, Italia
CATEGORIES:Convegno
ORGANIZER;CN="Bruno Bonomo":MAILTO:bruno.bonomo@uniroma1.it
END:VEVENT
END:VCALENDAR