BEGIN:VCALENDAR
VERSION:2.0
PRODID:-//SISSCO - ECPv6.15.20//NONSGML v1.0//EN
CALSCALE:GREGORIAN
METHOD:PUBLISH
X-ORIGINAL-URL:https://www.sissco.it
X-WR-CALDESC:Eventi per SISSCO
REFRESH-INTERVAL;VALUE=DURATION:PT1H
X-Robots-Tag:noindex
X-PUBLISHED-TTL:PT1H
BEGIN:VTIMEZONE
TZID:Europe/Rome
BEGIN:DAYLIGHT
TZOFFSETFROM:+0100
TZOFFSETTO:+0200
TZNAME:CEST
DTSTART:20190331T010000
END:DAYLIGHT
BEGIN:STANDARD
TZOFFSETFROM:+0200
TZOFFSETTO:+0100
TZNAME:CET
DTSTART:20191027T010000
END:STANDARD
BEGIN:DAYLIGHT
TZOFFSETFROM:+0100
TZOFFSETTO:+0200
TZNAME:CEST
DTSTART:20200329T010000
END:DAYLIGHT
BEGIN:STANDARD
TZOFFSETFROM:+0200
TZOFFSETTO:+0100
TZNAME:CET
DTSTART:20201025T010000
END:STANDARD
BEGIN:DAYLIGHT
TZOFFSETFROM:+0100
TZOFFSETTO:+0200
TZNAME:CEST
DTSTART:20210328T010000
END:DAYLIGHT
BEGIN:STANDARD
TZOFFSETFROM:+0200
TZOFFSETTO:+0100
TZNAME:CET
DTSTART:20211031T010000
END:STANDARD
END:VTIMEZONE
BEGIN:VEVENT
DTSTART;TZID=Europe/Rome:20200127T093000
DTEND;TZID=Europe/Rome:20200127T235900
DTSTAMP:20260422T182931
CREATED:20200124T154931Z
LAST-MODIFIED:20200124T155022Z
UID:10000845-1580117400-1580169540@www.sissco.it
SUMMARY:Giornata della Memoria 2020 La Shoah a Viterbo
DESCRIPTION:Commemorazione della Giornata della Memoria 2020 con scopertura della targa in ricordo dei dodici ebrei detenuti nel carcere di S. Maria in Gradi nel dicembre 1943 (attuale sede dell’Università degli Studi della Tuscia)\, dieci dei quali furono deportati nel campo di Fossoli e poi nei campi nazisti\, da dove solamente una sopravvissuta fece ritorno. Alla cerimonia seguirà un convegno su La Shoah a Viterbo.
URL:https://www.sissco.it/calendario/giornata-della-memoria-2020-la-shoah-a-viterbo/
LOCATION:Aula Magna G.T. Mugnozza\, Università degli Studi della Tuscia\, Via S. Maria in Gradi\, Viterbo\, 01100\, Italia
CATEGORIES:Convegno
ORGANIZER;CN="Tommaso Dell%E2%80%99Era":MAILTO:tommaso.dellera@unitus.it
END:VEVENT
BEGIN:VEVENT
DTSTART;TZID=Europe/Rome:20200129T153000
DTEND;TZID=Europe/Rome:20200129T230000
DTSTAMP:20260422T182931
CREATED:20200122T154229Z
LAST-MODIFIED:20200127T153419Z
UID:10000843-1580311800-1580338800@www.sissco.it
SUMMARY:Protagoniste. Politica\, guerra\, Resistenza nella storia di Anna Bravo
DESCRIPTION:Mercoledì 29 gennaio p.v.\, alle ore 15.30\, presso la Biblioteca di storia moderna e contemporanea (Palazzo Mattei di Giove – Via Michelangelo Caetani 32\, Roma)\, la Biblioteca e la Società italiana delle storiche organizzano un incontro dedicato al ricordo di Anna Bravo (1938-2019)\, dal titolo: Protagoniste. Politica\, guerra\, Resistenza nella storia di Anna Bravo.\nSaluti: Patrizia Rusciani\, direttrice della Biblioteca di storia moderna e contemporanea\, Simona Feci\, presidente della Società italiana delle storiche.\nIntervengono: Mario Boccia\, Bruno Bonomo\, Marina d’Amelia\, Anna Foa\, Dianella Gagliani\, Alessandra Gissi\, Daniele Jalla\, Lucetta Scaraffia; coordina Simona Lunadei. \nCon l’incontro del 29 gennaio p.v. la Biblioteca di storia moderna e contemporanea e la Società italiana delle storiche vogliono rendere omaggio alla storica Anna Bravo\, scomparsa nello scorso mese di dicembre. Docente di storia sociale all’Università di Torino\, Anna Bravo aveva iniziato il suo percorso di storica con ricerche sulla Resistenza nell’Alto Monferrato e da allora aveva rivolto i propri interessi ai movimenti politici e sociali del Novecento\, con un’attenzione particolare alle guerre e al ruolo delle donne. La sua attività di studiosa si era accompagnata a una costante militanza politica\, nel Partito comunista prima\, nel Sessantotto\, in Lotta continua e nel movimento femminista poi. Come ha scritto Luisa Passerini\, nelle sue ricerche si individua un itinerario significativo “non solo per capire la sua figura\, ma anche quella di più generazioni: dagli studi sulla Repubblica partigiana dell’Alto Monferrato alla storia orale e sociale delle donne nel Novecento; dalle analisi del fotoromanzo all’indagine sulla Shoah e i sopravvissuti – altrettanti passaggi che riflettono lo sforzo di ingaggiarsi con la memoria collettiva\, conservando le differenze individuali. E ancora: Anna ha esplorato altre tematiche\, dato che i suoi scritti includono lavori sulle donne nella sfera pubblica\, riflessioni sulla propria esperienza\, rievocazioni del Sessantotto\, quest’ultimo nella sua duplice dimensione tra l’est e l’ovest dell’Europa” (Il manifesto\, 10.12.2019). Le sue indagini sulla non-violenza hanno segnato una stagione storiografica profondamente innovativa degli studi sulla Resistenza e sulle guerre\, fino alle sue più recenti riflessioni sui temi delle lotte inermi\, oggetto di una delle sue ultime pubblicazioni\, La conta dei salvati. Dalla Grande guerra al Tibet. Storie di sangue risparmiato (Laterza\, 2013).\nAll’incontro intervengono studiose e studiosi che hanno condiviso con Anna Bravo scelte e interessi di ricerca o hanno riconosciuto nei suoi studi fonte e stimolo di riflessione storiografica.
URL:https://www.sissco.it/calendario/protagoniste-politica-guerra-resistenza-nella-storia-di-anna-bravo/
LOCATION:Biblioteca di storia moderna e contemporanea\, Via Michelangelo Caetani 32\, Roma\, Italia
CATEGORIES:Convegno
ORGANIZER;CN="Oriana Rizzuto":MAILTO:b-stmo.info@beniculturali.it
END:VEVENT
BEGIN:VEVENT
DTSTART;TZID=Europe/Rome:20200130T153000
DTEND;TZID=Europe/Rome:20200130T235900
DTSTAMP:20260422T182931
CREATED:20200107T161206Z
LAST-MODIFIED:20200126T205840Z
UID:10000837-1580398200-1580428740@www.sissco.it
SUMMARY:La Sapienza chiede scusa. Leggi razziali\, la scuola e l’accademia: riflessioni e testimonianze
DESCRIPTION:Presiede Oliviero Diliberto\, Preside della Facoltà di Giurisprudenza \nSaluto del Magnifico Rettore\, Eugenio Gaudio \nSaluto del Direttore del Dipartimento di Scienze Giuridiche\, Luisa Avitabile \nMessaggio di saluto della Senatrice Liliana Segre \nIntervengono: Guido Alpa\, Vincenzo Cerulli Irelli\, Claudio Contessa\, Andrea Di Porto\, Noemi Di Segni\, Giorgio Fabre\, Emanuele Fiano\, Angelo Lalli\, Lea Polgar\, Paolo Ridola \nNell’occasione sarà presentato il volume di Vincenza Iossa e Manuele Gianfrancesco “Vietato studiare\, vietato insegnare. Il ministero dell’educazione nazionale e l’attuazione delle norme antiebraiche: 1938 – 1943”\, Modena\, Palombi Editore\, 2019 \nSaranno presenti gli autori. \n 
URL:https://www.sissco.it/calendario/la-sapienza-chiede-scusa-leggi-razziali-la-scuola-e-laccademia-riflessioni-e-testimonianze/
LOCATION:Aula Calasso – Facoltà di Giurisprudenza\,  Piazzale Aldo Moro\, 5   \, Roma\, 00185\, Italia
CATEGORIES:Convegno
END:VEVENT
END:VCALENDAR