BEGIN:VCALENDAR
VERSION:2.0
PRODID:-//SISSCO - ECPv6.15.20//NONSGML v1.0//EN
CALSCALE:GREGORIAN
METHOD:PUBLISH
X-WR-CALNAME:SISSCO
X-ORIGINAL-URL:https://www.sissco.it
X-WR-CALDESC:Eventi per SISSCO
REFRESH-INTERVAL;VALUE=DURATION:PT1H
X-Robots-Tag:noindex
X-PUBLISHED-TTL:PT1H
BEGIN:VTIMEZONE
TZID:Europe/Rome
BEGIN:DAYLIGHT
TZOFFSETFROM:+0100
TZOFFSETTO:+0200
TZNAME:CEST
DTSTART:20190331T010000
END:DAYLIGHT
BEGIN:STANDARD
TZOFFSETFROM:+0200
TZOFFSETTO:+0100
TZNAME:CET
DTSTART:20191027T010000
END:STANDARD
BEGIN:DAYLIGHT
TZOFFSETFROM:+0100
TZOFFSETTO:+0200
TZNAME:CEST
DTSTART:20200329T010000
END:DAYLIGHT
BEGIN:STANDARD
TZOFFSETFROM:+0200
TZOFFSETTO:+0100
TZNAME:CET
DTSTART:20201025T010000
END:STANDARD
BEGIN:DAYLIGHT
TZOFFSETFROM:+0100
TZOFFSETTO:+0200
TZNAME:CEST
DTSTART:20210328T010000
END:DAYLIGHT
BEGIN:STANDARD
TZOFFSETFROM:+0200
TZOFFSETTO:+0100
TZNAME:CET
DTSTART:20211031T010000
END:STANDARD
END:VTIMEZONE
BEGIN:VEVENT
DTSTART;TZID=Europe/Rome:20200206T143000
DTEND;TZID=Europe/Rome:20200206T235900
DTSTAMP:20260422T163145
CREATED:20200127T201753Z
LAST-MODIFIED:20200206T100840Z
UID:10000847-1580999400-1581033540@www.sissco.it
SUMMARY:Storia contemporanea\, storia dell’Italia contemporanea e storia sociale. Una discussione fra le riviste
DESCRIPTION:In occasione del suo settantesimo anno di attività\, ‘Italia contemporanea’ (rivista dell’Istituto nazionale Ferruccio Parri\, già Istituto nazionale per la storia del movimento di Liberazione in Italia) promuove – in collaborazione con la Biblioteca di storia moderna e contemporanea – una discussione fra studiose e studiosi appartenenti alle redazioni di alcune fra le principali riviste di storia. \nGiovedì 6 febbraio 2020\, dalle 14.30 alle 17.3 a Roma\, presso la Biblioteca di storia moderna e contemporanea\, si terrà l’incontro di studio\nStoria contemporanea\, storia dell’Italia contemporanea\ne storia sociale. Una discussione fra le riviste.\nStoria contemporanea\, storia dell’Italia contemporanea e storia sociale.  \nUna discussione fra le riviste. \nGiovedì 6 febbraio 2020 \nore 14.30 – 17.30\, \nBiblioteca di storia moderna e contemporanea \n(Palazzo Mattei di Giove – Via Michelangelo Caetani 32\, Roma)\, \nSaluti:  \nPatrizia Rusciani\, Nicola Labanca. \nIntervengono: \nEnrica Asquer (Italia Contemporanea)\,  \nDaniela Lugia Caglioti (Presidente SISSCO)\, \nGabriella Corona (Meridiana)\,  \nIda Fazio (Genesis)\, \nMaria  Malatesta (Società e Storia)\,  \nMarco Meriggi (Storica)\, \nDomenico Rizzo (Quaderni storici)\,  \nSilvia Salvatici (Contemporanea) \nModera: Alessandra Gissi \nDove va la ricerca contemporaneistica in storia sociale oggi in Italia? Quali sono i suoi risultati e quali le sue prospettive? Anzi\, cosa è la storia sociale oggi? Praticato nei decenni passati secondo diverseprospettive\, animato da differenti pulsioni\, condotto su fonti documentarie diverse\, un approccio di storiasociale ha rappresentato anche in Italia un elemento importante per l’innovazione degli studi storici. Alcune ricerche sono diventate addirittura dei classici. La conoscenza storica della società italiana contemporanea ne ha beneficiato enormemente. \nOggi lo stato della storia sociale appare più incerto\, l’approccio appare meno frequentato\, i punti di riferimento internazionale più confusi. In occasione del suo settantesimo anno di attività\, ‘Italia contemporanea’ (rivista dell’Istituto nazionale Ferruccio Parri\, già Istituto nazionale per la storia del movimento di Liberazione in Italia) promuove – in collaborazione con la Biblioteca di storia moderna e contemporanea – una discussione fra studiose e studiosi che hanno dato contributi importanti in questo senso e fanno parte delle redazioni di alcune fra le principali riviste di storia che si sono segnalate per la loro attività in questo ambito\, cruciale per il futuro della ricerca contemporaneistica italiana. \nInfo: http://bsmc.it/index.php/9-articolihome/appuntamenti/917-Storia%20contemporanea\,%20storia%20dell
URL:https://www.sissco.it/calendario/storia-contemporanea-storia-dellitalia-contemporanea-e-storia-sociale-una-discussione-fra-le-riviste/
LOCATION:Roma
CATEGORIES:Convegno
ORGANIZER;CN="Oriana Rizzuto":MAILTO:b-stmo.info@beniculturali.it
END:VEVENT
END:VCALENDAR