BEGIN:VCALENDAR
VERSION:2.0
PRODID:-//SISSCO - ECPv6.15.20//NONSGML v1.0//EN
CALSCALE:GREGORIAN
METHOD:PUBLISH
X-WR-CALNAME:SISSCO
X-ORIGINAL-URL:https://www.sissco.it
X-WR-CALDESC:Eventi per SISSCO
REFRESH-INTERVAL;VALUE=DURATION:PT1H
X-Robots-Tag:noindex
X-PUBLISHED-TTL:PT1H
BEGIN:VTIMEZONE
TZID:Europe/Rome
BEGIN:DAYLIGHT
TZOFFSETFROM:+0100
TZOFFSETTO:+0200
TZNAME:CEST
DTSTART:20190331T010000
END:DAYLIGHT
BEGIN:STANDARD
TZOFFSETFROM:+0200
TZOFFSETTO:+0100
TZNAME:CET
DTSTART:20191027T010000
END:STANDARD
BEGIN:DAYLIGHT
TZOFFSETFROM:+0100
TZOFFSETTO:+0200
TZNAME:CEST
DTSTART:20200329T010000
END:DAYLIGHT
BEGIN:STANDARD
TZOFFSETFROM:+0200
TZOFFSETTO:+0100
TZNAME:CET
DTSTART:20201025T010000
END:STANDARD
BEGIN:DAYLIGHT
TZOFFSETFROM:+0100
TZOFFSETTO:+0200
TZNAME:CEST
DTSTART:20210328T010000
END:DAYLIGHT
BEGIN:STANDARD
TZOFFSETFROM:+0200
TZOFFSETTO:+0100
TZNAME:CET
DTSTART:20211031T010000
END:STANDARD
END:VTIMEZONE
BEGIN:VEVENT
DTSTART;TZID=Europe/Rome:20201209T090000
DTEND;TZID=Europe/Rome:20201210T235900
DTSTAMP:20260421T212132
CREATED:20201201T084419Z
LAST-MODIFIED:20201202T211207Z
UID:10002134-1607504400-1607644740@www.sissco.it
SUMMARY:“Napoleone III\, il Secondo Impero\, l’unificazione italiana e la politica europea”
DESCRIPTION:La cattedra di Storia delle istituzioni politiche del Dipartimento di Scienze Politiche e Sociali dell’Università degli Studi di Catania organizza un Convegno internazionale sul tema “Napoleone III\, il Secondo Impero\, l’unificazione italiana e la politica europea”. \nCon il coinvolgimento di autorevoli studiosi (stranieri e italiani) e con un taglio interdisciplinare\, saranno analizzati il bonapartismo\, il processo di formazione dell’unificazione italiana\, il sistema politico europeo e il ruolo delle grandi Potenze per il controllo del Mediterraneo. Si tratta di temi e problemi che\, pur con un impianto storico\, ci aiutano a capire il presente.
URL:https://www.sissco.it/calendario/napoleone-iii-il-secondo-impero-lunificazione-italiana-e-la-politica-europea/
LOCATION:Dipartimento di Scienze Politiche e Sociali – Università di Catania\, Via Vittorio Emanuele n.49\, Catania\, 95100\, Italia
CATEGORIES:Convegno
ORGANIZER;CN="Prof.ssa Elena Gaetana Faraci":MAILTO:elena.faraci@unict.it
END:VEVENT
BEGIN:VEVENT
DTSTART;TZID=Europe/Rome:20201210T100000
DTEND;TZID=Europe/Rome:20201210T235900
DTSTAMP:20260421T212132
CREATED:20201204T181452Z
LAST-MODIFIED:20201204T181452Z
UID:10000881-1607594400-1607644740@www.sissco.it
SUMMARY:La Regione e il suo Stato. Le Regioni a Statuto ordinario a cinquant'anni dalla loro attuazione
DESCRIPTION:Convegno organizzato dalla Fondazione Ugo Spirito e Renzo De Felice in collaborazione con la Regione Lazio e dedicato alle Regioni a Statuto ordinario a cinquant’anni dalla loro attuazione.
URL:https://www.sissco.it/calendario/la-regione-e-il-suo-stato-le-regioni-a-statuto-ordinario-a-cinquantanni-dalla-loro-attuazione/
LOCATION:Sito Facebook Fondazione Ugo Spirito e Renzo De Felice\, Piazza delle Muse 25\, Rome\, 00197\, Italia
CATEGORIES:Convegno
ORGANIZER;CN="Giuseppe Parlato":MAILTO:gparlato52@gmail.com
END:VEVENT
END:VCALENDAR