BEGIN:VCALENDAR
VERSION:2.0
PRODID:-//SISSCO - ECPv6.15.20//NONSGML v1.0//EN
CALSCALE:GREGORIAN
METHOD:PUBLISH
X-WR-CALNAME:SISSCO
X-ORIGINAL-URL:https://www.sissco.it
X-WR-CALDESC:Eventi per SISSCO
REFRESH-INTERVAL;VALUE=DURATION:PT1H
X-Robots-Tag:noindex
X-PUBLISHED-TTL:PT1H
BEGIN:VTIMEZONE
TZID:Europe/Rome
BEGIN:DAYLIGHT
TZOFFSETFROM:+0100
TZOFFSETTO:+0200
TZNAME:CEST
DTSTART:20200329T010000
END:DAYLIGHT
BEGIN:STANDARD
TZOFFSETFROM:+0200
TZOFFSETTO:+0100
TZNAME:CET
DTSTART:20201025T010000
END:STANDARD
BEGIN:DAYLIGHT
TZOFFSETFROM:+0100
TZOFFSETTO:+0200
TZNAME:CEST
DTSTART:20210328T010000
END:DAYLIGHT
BEGIN:STANDARD
TZOFFSETFROM:+0200
TZOFFSETTO:+0100
TZNAME:CET
DTSTART:20211031T010000
END:STANDARD
BEGIN:DAYLIGHT
TZOFFSETFROM:+0100
TZOFFSETTO:+0200
TZNAME:CEST
DTSTART:20220327T010000
END:DAYLIGHT
BEGIN:STANDARD
TZOFFSETFROM:+0200
TZOFFSETTO:+0100
TZNAME:CET
DTSTART:20221030T010000
END:STANDARD
END:VTIMEZONE
BEGIN:VEVENT
DTSTART;TZID=Europe/Rome:20210421T093000
DTEND;TZID=Europe/Rome:20210421T235900
DTSTAMP:20260421T135255
CREATED:20210413T143239Z
LAST-MODIFIED:20210413T144814Z
UID:10002178-1618997400-1619049540@www.sissco.it
SUMMARY:1921: riforme\, rivoluzione\, guerra civile. Ferruccio Ghinaglia e il suo tempo
DESCRIPTION:L’anniversario centenario dell’uccisione a Pavia per mano fascista di Ferruccio Ghinaglia\, studente medico all’Università\, si offre come occasione per un ripensamento storico dei tempi drammatici in cui visse. La sua biografia\, breve e brutalmente interrotta sulla soglia dei vent’anni\, attraversa momenti e problemi cruciali dell’Italia di un secolo fa\, non solo la guerra e il dopoguerra\, ma anche la crisi del socialismo italiano spazzato dal “vento della rivoluzione”\, che avrebbe ispirato la scissione di Livorno e la fondazione del PCd’I\, di cui Ghinaglia fu deciso promotore\, e ancora il decollo del fascismo squadrista\, feroce controrivoluzione preventiva che azzerò ogni dialogo e insanguinò il  confronto politico. \nLa giornata di studi\, ospitata dal Collegio Ghisleri che ebbe Ghinaglia come alunno\, vede intervenire studiosi- M.Flores\, G.Albanese\, E.Signori\, N. del Corno\, L.Gorgolini\, P.Lombardi\, P.Pombeni-  che da diversi punti di vista affrontano i nodi di quella tumultuosa stagione di “guerra civile” e di accelerato cambiamento politico\, reinterpretandone il senso e l’eredità storica. \n 
URL:https://www.sissco.it/calendario/1921-riforme-rivoluzione-guerra-civile-ferruccio-ghinaglia-e-il-suo-tempo/
LOCATION:Collegio Ghislieri\, Pavia\, p.za Ghislieri\, Pavia\, 27100\, Italia
CATEGORIES:Convegno
ORGANIZER;CN="elisa signori":MAILTO:signori@unipv.it
END:VEVENT
BEGIN:VEVENT
DTSTART;TZID=Europe/Rome:20210423T160000
DTEND;TZID=Europe/Rome:20210423T235900
DTSTAMP:20260421T135255
CREATED:20210415T093949Z
LAST-MODIFIED:20210417T081542Z
UID:10002183-1619193600-1619222340@www.sissco.it
SUMMARY:4° EDIZIONE: Convegno Internazionale Educazione e Comunicazione nella società attuale - CIVECSA
DESCRIPTION:Il Convegno Internazionale Virtuale: Educazione e Comunicazione nella Società Odierna (CIVECSA) mira a promuovere il dialogo scientifico e a diffondere ricerche all’avanguardia su tematiche di Comunicazione e Educazione\, attraverso un approccio multidisciplinare.\nPer il primo anno\, vi partecipa anche l’Italia attraverso il contributo scientifico di ricercatori dell’Università di Salerno e non solo. \nIl Panel Italiano\, Tra nuove sfide e possibili opportunità. Gli effetti della pandemia su psiche\, identità e linguaggi di comunicazione\, sarà così composto: \nCoordinatore: Francisco Cabezuelo\, Universidad Complutense de Madrid\nModeratrice: Raissa Pergola\, Università degli Studi di Salerno\nRelatori: Vincenzo Del Gaudio\, Maria Carmela Catone\, Mariano Ciarletta (Università degli Studi di Salerno)\, Sandro Bozzolo (Università di Genova).
URL:https://www.sissco.it/calendario/4-edizione-convegno-internazionale-educazione-e-comunicazione-nella-societa-attuale-civecsa/
LOCATION:MODALITÀ LIVE: https://youtu.be/mrV7-8GXstc\, Italia
CATEGORIES:Convegno
ORGANIZER;CN="Raissa Pergola":MAILTO:rpergola@unisa.it
END:VEVENT
BEGIN:VEVENT
DTSTART;TZID=Europe/Rome:20210426T143000
DTEND;TZID=Europe/Rome:20210428T235900
DTSTAMP:20260421T135255
CREATED:20210421T151918Z
LAST-MODIFIED:20210424T150428Z
UID:10000938-1619447400-1619654340@www.sissco.it
SUMMARY:Pedagogia civile\, Presidenti della Repubblica e cittadini nelle trasformazioni della democrazia
DESCRIPTION:Convegno webinar sul tema \”Pedagogia civile\, presidenti della Repubblica e cittadini nelle trasformazioni della democrazia\”. \nSviluppando  percorsi di ricerca interdisciplinari (politico-istituzionali\, storico-pedagogici e linguistico-culturali)\, il convegno affronta il rapporto tra cittadini e poteri pubblici\, ponendo al centro della riflessione il ruolo e la figura del Presidente della Repubblica. La storia italiana è collocata in un contesto comparativo euro-americano\, che si allarga  ai casi di Francia e Germania in Europa nonché di Stati Uniti e Cile nelle Americhe.\nPromossi dalle università di Roma Tre\, Luiss e Tuscia\, con la collaborazione del Centro Studi Europei e Internazionali (https://centrostudicsei.wordpress.com)\, i lavori si svolgono (come da programma) sulla piattaforma della School of Government della Luiss.\nhttps://sog.luiss.it/news/2021/03/24/pedagogia-civile-presidenti-della-repubblica-e-cittadini-nelle-trasformazioni-della-?fbclid=IwAR2TLij0yBoCl6SY_xch8rS_Dc7RZtmzzxBJmpeOy2UnuhHggmRwyB3Zzw8
URL:https://www.sissco.it/calendario/pedagogia-civile-presidenti-della-repubblica-e-cittadini-nelle-trasformazioni-della-democrazia/
CATEGORIES:Convegno
END:VEVENT
BEGIN:VEVENT
DTSTART;TZID=Europe/Rome:20210429T103000
DTEND;TZID=Europe/Rome:20210429T235900
DTSTAMP:20260421T135255
CREATED:20210322T113922Z
LAST-MODIFIED:20210322T113922Z
UID:10002170-1619692200-1619740740@www.sissco.it
SUMMARY:Scrivere al potere. Le petizioni nel mondo mediterraneo della prima metà del XIX secolo
DESCRIPTION:Convegno \nScrivere al potere. Le petizioni nel mondo mediterraneo della prima metà del XIX secolo\n \nInterventiDiego Palacios Cerezales\, Universidad Complutense de MadridMaurizio Isabella\, University of LondonDario Marino\, Università degli studi di SalernoMarco Meriggi\,Università degli studi di Napoli Federico II\nObiettivo del convegno è quello di offrire una prima comparazione transnazionale delle ricerche in corso e delle prospettive storiografiche sulla comunicazione politica tra governati e governanti nello spazio mediterraneo della prima metà del XIX secolo. Le petizioni rappresentano un punto di vista privilegiato per ricostruire le relazioni di potere\, i meccanismi di negoziazione e mediazione politica\, le concezioni della sovranità e i diversi aspetti dei conflitti sociali che hanno definito processi storici di luoghi ed epoche differenti. L’utilizzo delle petizioni come fonte storiografica offre la possibilità di formulare innovative proposte interpretative sul vasto intreccio di rivoluzione e controrivoluzione\, esilio e partecipazione politica\, idee della cittadinanza e costruzione della sfera pubblica nel mondo mediterraneo dei primi decenni dell’Ottocento\, uno spazio di intensa circolazione di idee e pratiche politiche. Questo convegno intende mettere a confronto gli studi in corso e verificare le linee di ricerca che si stanno sviluppando sul tema\, trarne un primo bilancio e proporre nuovi sviluppi e iniziative.\n 
URL:https://www.sissco.it/calendario/scrivere-al-potere-le-petizioni-nel-mondo-mediterraneo-della-prima-meta-del-xix-secolo/
CATEGORIES:Convegno
END:VEVENT
END:VCALENDAR