BEGIN:VCALENDAR
VERSION:2.0
PRODID:-//SISSCO - ECPv6.15.20//NONSGML v1.0//EN
CALSCALE:GREGORIAN
METHOD:PUBLISH
X-WR-CALNAME:SISSCO
X-ORIGINAL-URL:https://www.sissco.it
X-WR-CALDESC:Eventi per SISSCO
REFRESH-INTERVAL;VALUE=DURATION:PT1H
X-Robots-Tag:noindex
X-PUBLISHED-TTL:PT1H
BEGIN:VTIMEZONE
TZID:Europe/Rome
BEGIN:DAYLIGHT
TZOFFSETFROM:+0100
TZOFFSETTO:+0200
TZNAME:CEST
DTSTART:20200329T010000
END:DAYLIGHT
BEGIN:STANDARD
TZOFFSETFROM:+0200
TZOFFSETTO:+0100
TZNAME:CET
DTSTART:20201025T010000
END:STANDARD
BEGIN:DAYLIGHT
TZOFFSETFROM:+0100
TZOFFSETTO:+0200
TZNAME:CEST
DTSTART:20210328T010000
END:DAYLIGHT
BEGIN:STANDARD
TZOFFSETFROM:+0200
TZOFFSETTO:+0100
TZNAME:CET
DTSTART:20211031T010000
END:STANDARD
BEGIN:DAYLIGHT
TZOFFSETFROM:+0100
TZOFFSETTO:+0200
TZNAME:CEST
DTSTART:20220327T010000
END:DAYLIGHT
BEGIN:STANDARD
TZOFFSETFROM:+0200
TZOFFSETTO:+0100
TZNAME:CET
DTSTART:20221030T010000
END:STANDARD
END:VTIMEZONE
BEGIN:VEVENT
DTSTART;TZID=Europe/Rome:20211201T150000
DTEND;TZID=Europe/Rome:20211202T235900
DTSTAMP:20260420T221438
CREATED:20211125T121156Z
LAST-MODIFIED:20211125T121156Z
UID:10002265-1638370800-1638489540@www.sissco.it
SUMMARY:SECRET. Spies in European Culture between Reality and Tales
DESCRIPTION:I prossimi 1 e 2 dicembre si terrà\, tra la sede dell’Institut Français de Naples e la Società Nazionale di Scienze\, Lettere e Arti\, il convegno internazionale SECRET. Spies in European Culture between Reality and Tales\, a cura di Elisabetta Abignente\, Laura Di Fiore\, Anna Masecchia e Valeria Sperti\, del Dipartimento di Studi Umanistici.Il convegno è incentrato sul profilo storico\, le rappresentazioni e le percezioni della figura della spia in Europa tra Ottocento e primo Novecento.  L’intento è di analizzare la genesi dello spionaggio contemporaneo e\, al tempo stesso\, dell’immaginario culturale (letterario\, iconografico\, teatrale\, cinematografico) ad esso legato.La collaborazione tra studiosi di diversi ambiti scientifici e università di provenienza punta a un’analisi trans-disciplinare che prenda in considerazione tanto il piano politico-istituzionale quanto quello culturale\, rilevando quanto\, in entrambi\, le dimensioni della realtà e della finzione furono profondamente interconnesse.
URL:https://www.sissco.it/calendario/secret-spies-in-european-culture-between-reality-and-tales/
LOCATION:Università di Napoli Federico II\, Italia
CATEGORIES:Convegno
ORGANIZER;CN="Laura Di Fiore":MAILTO:laura.difiore@gmail.com
END:VEVENT
BEGIN:VEVENT
DTSTART;TZID=Europe/Rome:20211201T153000
DTEND;TZID=Europe/Rome:20211201T235900
DTSTAMP:20260420T221438
CREATED:20211104T144239Z
LAST-MODIFIED:20211111T150757Z
UID:10002255-1638372600-1638403140@www.sissco.it
SUMMARY:A 80 anni dall’entrata degli Stati Uniti nella seconda guerra mondiale (1941-2021)
DESCRIPTION:In occasione dell’anniversario dell’entrata in guerra degli Stati Uniti in seguito all’attacco di Pearl Harbor (7 dicembre 1941)\, il Centro Studi Americani  organizza l’incontro “A 80 anni dall’entrata degli Stati Uniti nella seconda guerra mondiale (1941-2021). La partecipazione dei soldati italoamericani”. \nInterventi: \n– John L. Harper (John Hopkins University\, Sais Bologna): “Il giorno dell’infamia”: il 7 dicembre 1941 \n– Matteo Pretelli (Università di Napoli “L’Orientale”): Americani e patriottismo nella Seconda Guerra Mondiale \n– Francesco Fusi (Istituto Storico Toscano della Resistenza e dell’Età contemporanea): Combattenti italoamericani nella Campagna d’Italia \n– Marco Curti\, regista e documentarista: “Fighting Paisanos” \nModera: Michela Ponzani (storica e conduttrice) \nL’evento si svolgerà in presenza\, con diretta streaming sul canale Youtube e sul portale di RAI Cultura \nLa partecipazione è gratuita ma è gradita la registrazione.
URL:https://www.sissco.it/calendario/a-80-anni-dallentrata-degli-stati-uniti-nella-seconda-guerra-mondiale-1941-2021/
LOCATION:Centro Studi Americani\, Via Michelangelo Caetani\, 32\, Roma\, 00186\, Italia
CATEGORIES:Convegno
ORGANIZER;CN="":MAILTO:library@centrostudiamericani.org
END:VEVENT
BEGIN:VEVENT
DTSTART;TZID=Europe/Rome:20211207T140000
DTEND;TZID=Europe/Rome:20211207T235900
DTSTAMP:20260420T221438
CREATED:20211109T174452Z
LAST-MODIFIED:20211118T130537Z
UID:10001009-1638885600-1638921540@www.sissco.it
SUMMARY:Men in Arms. Banditry\, Revolution\, and Counter-guerrilla (ca. 1750s-1915)
DESCRIPTION:Men in Arms. Banditry\, Revolution\, and Counter-guerrilla (ca. 1750s-1915) \nConvegno internazionale di studi – 7\, 10 e 14 dicembre 2021\, Università di Salerno \nPRIN 2017 Il brigantaggio rivisitato. Narrazioni\, pratiche e usi politici nella storia dell’Italia moderna e contemporanea \nLa lotta per la sovranità è stata al centro della transizione dall’ancien régime all’età contemporanea. Dalle rivoluzioni atlantiche alla Prima guerra mondiale\, i fenomeni di insorgenza e contro-insorgenza hanno definito la nascita dei nuovi stati-nazione e la formazione dei nuovi imperi. In un’epoca di frontiere porose e istituzioni fragili\, sfidare o difendere l’ordine ha impegnato non solo forze ed eserciti regolari\, ma anche una variegata gamma di “uomini in armi”. Figure carismatiche\, organizzate in compagnie private o unità irregolari molto mobili\, hanno guidato azioni di banditismo\, guerriglia politica e rivolta etnico-religiosa\, intrecciando ambizioni individuali a più generali rivendicazioni di tipo. Il seminario riunisce casi di studio dall’America Latina all’Europa centrale\, fino all’Africa del nord\, al fine di esplorare pratiche operative e strategie militari della guerra irregolare nel mondo moderno. \nIl convegno si terrà su Zoom\, al link disponibile nell’0puscolo allegato\, al quale si rimanda per il programma completo.
URL:https://www.sissco.it/calendario/men-in-arms-banditry-revolution-and-counter-guerrilla-ca-1750s-1915/
LOCATION:Università di Salerno – piattaforma zoom\, Italia
CATEGORIES:Convegno
END:VEVENT
BEGIN:VEVENT
DTSTART;TZID=Europe/Rome:20211209T150000
DTEND;TZID=Europe/Rome:20211210T235900
DTSTAMP:20260420T221438
CREATED:20211204T112452Z
LAST-MODIFIED:20211204T112452Z
UID:10001020-1639062000-1639180740@www.sissco.it
SUMMARY:TRAILS OF PEACE. History\, Memory and Communication
DESCRIPTION:TRAILS OF PEACE. \nHistory\, Memory and Communication\nDECEMBER 10th (with Preview online December 9th)\nUniversità IULM\, Politecnico di Milano\, Rete degli atenei italiani per la pace (Runipace)\,\nInternational Network of Museums for Peace (INMP)\, Red Internacional de Universidades Lectoras (RIUL)\nDecember 9th Program (Online)\, 15.00 h.  \nYoutube link: https://go.iulm.it/trailsofpeace9\n \nSaluti istituzionali: Kazuyo Yamane (INMP)\,  Federico Bucci (Vice-rector of the Mantova Campus of Politecnico di Milano)\nKey note speech:\nPhilippe Prost\, From War to Peace\nTavola rotonda: The Italian museums for Peace \n 	Museo-laboratorio di Pace\, Collegno (Lucetta Sanguinetti)\n 	International Peace Poster Documentation Centre\, Bologna (Vittorio Pallotti)\n 	Gorla Museum project (Piera Caramellino)\n 	International Museum of Red Cross MICR\, Castiglione delle Stiviere (Michele Romeo Jasinski)\n 	Museo storico del Trentino\, Trento (Sara Zanatta and Giuseppe Ferrandi)\n 	Fondazione Fossoli\, Carpi (Andrea Luccaroni)\n 	Centro Studi Sereno Regis (Angela Dogliotti\, Elena Camino) \nChair and Conclusion: Elena Montanari (Politecnico di Milano)\n10 dicembre Auditorium IULM Open Space\nTo attend in presence\, please fill the form https://survey.alchemer.eu/s3/90405947/Trails-of-Peace \nIn streaming Youtube link: https://go.iulm.it/trailsofpeace10 \nThe Program:\nSaluti istituzionali: Gianni Canova (Rector of IULM University)\, Enza Pellecchia (Runipace Coordinator)\, Akihiko Kimijima (INMP World Coordinator)\nIntroduzione:\nMassimo De Giuseppe (IULM University) – The museums of peace between history\, memory and communication \nMemory (Peace Museums)\nOre 10.00-13.00 \n 	Thomas Schneider (Erich Marie Remarque Center\, Germany)\n 	Iratxe Momoitio (Guernica Museum\, Spain)\n 	Junko Kanekiyo (Kyoto Museum for World Peace/Ritsumeikan University\, Japan)\n 	Kim Yeonghwan (The Museum of Japanese Colonial History in Korea) \n 	Clive Barrett (Chair of Trustees\, The Peace Museum\, Bradford\, UK)\n 	Munuve Mutisya (Community Peace Museum\, Kenya) \n 	Jesper Magnusson (Fredens hus Museum\, Uppsala\, Sweden) \n 	Kevin Kelly (Dayton Peace Museum\, USA) \nChair and Conclusions: Roy Tamashiro (Webster University\, USA) \nHistory: \nOre 14.30-16.30\nGreetings: Giovanna Rocca (Pro-Rector of Research) \n 	Makiko Takemoto (Hiroshima City University Peace Institute): Japan\, Germany and peace \n 	Renato Moro (Romatre University) – Pacifism in Contemporary Italy \n 	Enrico Palumbo (IULM University) – Peace in the Meddle East\, The Refugee Issue\n 	Angela Santese (University of Bologna) – Pacifisms after the Cold War \nChair and conclusion: Guido Formigoni (IULM University) \nCommunication:\nOre 17.00-19.00 \n 	Gianni Canova (Rector of IULM University): War & Peace in Cinema\n 	Savina Tarsitano (European Cultural Parlament): Photography for Peace\n 	Francesca Corrao (Fondazione Orestiadi di Gibellina): The Museum and the Theater as tools of education for peace: the Orestiadi Foundation\n 	Ítaca Palmer Campos (Universidad de Granada): Peace Lectures and SDG (Sustainable Development Goals) \n 	Anne Noonan\, Nina Burridge (The Australian Peace Network): From Pandemic to Peace building – creating cultures of peace as the new normal\n 	Anna Castelli (Università IULM) : Indigenous artists for peace. A tribute to Jimmie Durham\n 	Satoko Norimatsu (Director of Peace Philosophy Center\, Canada): Critical Thinking\, Peace and Memorializations  \nChair and conclusion: Mauro Ceruti (IULM University) \n 
URL:https://www.sissco.it/calendario/trails-of-peace-history-memory-and-communication/
LOCATION:Università IULM\, IULM 6 Auditorium  (In presenza e in streaming)\, via Carlo Bo 1\, Milano\, 20143\, Italia
CATEGORIES:Convegno
ORGANIZER;CN="Massimo De Giuseppe":MAILTO:massimo.degiuseppe@iulm.it
END:VEVENT
BEGIN:VEVENT
DTSTART;TZID=Europe/Rome:20211209T160000
DTEND;TZID=Europe/Rome:20211210T235900
DTSTAMP:20260420T221438
CREATED:20211205T161537Z
LAST-MODIFIED:20211205T161537Z
UID:10002268-1639065600-1639180740@www.sissco.it
SUMMARY:L’Italia repubblicana: costruzione\, consolidamento\, trasformazioni (1946-2020)  - III:  La Repubblica tra mondo globale\, crisi di transizione e tempo presente (1989-2020)
DESCRIPTION:Il convegno chiude un ciclo di tre incontri scientifici nazionali che\, dopo gli appuntamenti del 2017 e del 2019\, intende rileggere e ripensare in forme critiche la storia dell’Italia repubblicana\, lungo un percorso di settant’anni che attraversa plurime storie generazionali. Muovendosi tra fattori tanto di continuità quanto di trasformazione\, nei tre convegni vengono scandite le principali acquisizioni proposte dalla storiografia. A partire anche dalle domande che sorgono dal tempo presente\, ci si propone dunque di definire un percorso tematico e cronologico (il primo ventennio della Repubblica; gli anni tra fine Sessanta e vigilia del 1989; l’ultimo trentennio fino a oggi) attento alle peculiarità della democrazia e della società in Italia\, con un occhio particolare ad alcuni dei suoi caratteri di lungo periodo\, anche osservati da prospettive non troppo usuali.\nIl taglio di questo terzo e ultimo appuntamento scientifico privilegia da un lato un affondo interpretativo sui principali nodi strutturali della vicenda repubblicana in Italia; e dall’altro lato offre una riflessione storica aperta agli orizzonti attuali e futuri.\nPer ciascun incontro\, viene poi pubblicato un volume promosso dalla Fondazione Brigata Maiella\, curato dal comitato scientifico del progetto e stampato dalla casa editrice Viella di Roma: l’ambizione è di proporre a specialisti e cittadini un’opera che\, nel suo complesso\, si ponga come un’ideale trilogia sulla storia della Repubblica italiana dalle sue origini al secolo XXI.\nComitato scientifico: Maurizio Ridolfi\, Patrizia Gabrielli\, Enzo Fimiani\nSegreteria organizzativa: Alessandra De Nicola\n  \nProgramma:\ngiovedì 9 dicembre\nore 16.00-19.30\nSaluti: Nicola Mattoscio (presidente Fondazione Brigata Maiella)\n \nFattori e nodi strutturali nella storia dell’Italia repubblicana\n presiede: Patrizia Gabrielli (Università di Siena)\n \n Francesco Bonini (Università di Roma LUMSA)\nLo Stato\, le istituzioni\, l’amministrazione\nDaniela Felisini (Università di Roma Tor Vergata)\nL’economia italiana tra globalizzazione e integrazione\nMichela Minesso (Università di Milano statale)\nLe famiglie: il dibattito sui nuovi diritti\n Catia Papa (Università della Tuscia di Viterbo)\nGenere e generazioni: tra dimensione locale e globale\n Simone Neri Serneri (Università di Firenze)\nSpazi\, territori\, ambiente: l’Italia e la “Grande Accelerazione”\n \nVenerdì 10 dicembre\nore 9.30-13.30\nLe sfide aperte\npresiede: Enzo Fimiani (Università G. d’Annunzio di Chieti-Pescara – comitato scientifico FBM)\n \n Giovanni Orsina (Università LUISS Guido Carli di Roma)\nLa crisi della politica e del sistema dei partiti\n Michele Colucci (Consiglio Nazionale delle Ricerche)\nEmigrazione/immigrazioni: integrazione e conflitti\n Irene Piazzoni (Università di Milano statale)\nApocalittici\, “cannibali”\, situazionisti: la cultura italiana tra vecchi e nuovi media\n Carlo Spagnolo (Università di Bari)\nUn paese in discussione: spinte centrifughe e storie transnazionali \n Lucia Ceci (Università di Roma Tor Vergata)\nMondi cattolici\, pluralismo religioso\, prospettive globali\n \nTavola rotonda finale sul progetto:\n“L’Italia repubblicana: costruzione\, consolidamento\, trasformazioni (1946-2020)”\npartecipano: i relatori\ncoordina e conclude: Maurizio Ridolfi (Università della Tuscia di Viterbo)
URL:https://www.sissco.it/calendario/litalia-repubblicana-costruzione-consolidamento-trasformazioni-1946-2020-iii-la-repubblica-tra-mondo-globale-crisi-di-transizione-e-tempo-presente-1989-2020/
LOCATION:Fondazione Pescarabruzzo – sala convegni\, Corso Umberto I\, n. 83\, Pescara\, 65100\, Italia
CATEGORIES:Convegno
ORGANIZER;CN="Enzo Fimiani":MAILTO:e.fimiani@libero.it
END:VEVENT
END:VCALENDAR