BEGIN:VCALENDAR
VERSION:2.0
PRODID:-//SISSCO - ECPv6.15.20//NONSGML v1.0//EN
CALSCALE:GREGORIAN
METHOD:PUBLISH
X-WR-CALNAME:SISSCO
X-ORIGINAL-URL:https://www.sissco.it
X-WR-CALDESC:Eventi per SISSCO
REFRESH-INTERVAL;VALUE=DURATION:PT1H
X-Robots-Tag:noindex
X-PUBLISHED-TTL:PT1H
BEGIN:VTIMEZONE
TZID:Europe/Rome
BEGIN:DAYLIGHT
TZOFFSETFROM:+0100
TZOFFSETTO:+0200
TZNAME:CEST
DTSTART:20210328T010000
END:DAYLIGHT
BEGIN:STANDARD
TZOFFSETFROM:+0200
TZOFFSETTO:+0100
TZNAME:CET
DTSTART:20211031T010000
END:STANDARD
BEGIN:DAYLIGHT
TZOFFSETFROM:+0100
TZOFFSETTO:+0200
TZNAME:CEST
DTSTART:20220327T010000
END:DAYLIGHT
BEGIN:STANDARD
TZOFFSETFROM:+0200
TZOFFSETTO:+0100
TZNAME:CET
DTSTART:20221030T010000
END:STANDARD
BEGIN:DAYLIGHT
TZOFFSETFROM:+0100
TZOFFSETTO:+0200
TZNAME:CEST
DTSTART:20230326T010000
END:DAYLIGHT
BEGIN:STANDARD
TZOFFSETFROM:+0200
TZOFFSETTO:+0100
TZNAME:CET
DTSTART:20231029T010000
END:STANDARD
END:VTIMEZONE
BEGIN:VEVENT
DTSTART;TZID=Europe/Rome:20220601T091500
DTEND;TZID=Europe/Rome:20220601T235900
DTSTAMP:20260420T105728
CREATED:20220504T081430Z
LAST-MODIFIED:20220504T081907Z
UID:10002328-1654074900-1654127940@www.sissco.it
SUMMARY:La Chiesa di Pio XII dopo la seconda guerra mondiale (1945-1958): le relationes ad limina come fonti della riflessione storiografica
DESCRIPTION:Università Ca’ Foscari \nDipartimento di Studi Umanistici \nLa Chiesa di Pio XII dopo la seconda guerra mondiale (1945-1958): le relationes ad limina come fonti della riflessione storiografica \n———————– \nPROGRAMMA \n9:15 Giovanni Vian: saluti e introduzione ai lavori \n9:30 Carlo Urbani Riverire e riferire? Temi e problemi dalle relationes ad limina per un profilo dell’episcopato italiano nel secondo dopoguerra \n9:50 Patrizia Luciani Il “progressismum gallicum” nelle relationes ad limina francesi e belghe fra 1947 e 1957 \n10:10 Enrico Baruzzo Tra desideri di restaurazione cattolica e segnali di secolarizzazione: la Spagna degli anni ’40 e ’50 vista attraverso le relationes ad limina di alcuni vescovi iberici \n10:30-10:50 discussione e pausa \n11:20 Daiana Menti Le missioni cattoliche in Scandinavia: un bilancio nelle relationes ad limina a Propaganda Fide (1948-1958) \n11:40 Ivan Portelli Tra repressione e difesa: la situazione della Chiesa cattolica nella Jugoslavia comunista dalle relationes ad limina (1946-1958) \n12:00 discussione e pranzo \n14:00 Francesco Tacchi Le relationes ad liminadei vescovi tedeschi: i problemi della ricostruzione e l’avvento della società del benessere (1948-1958) \n14:20 Saretta Marotta Le tracce della questione ecumenica nelle relationes ad limina dei vescovi tedeschi (1948-1958) \n14:40 Valentina Ciciliot La chiesa cattolica statunitense nel secondo dopoguerra: lo sguardo delle relationes ad limina (1949-1954) \n15:00-15:20 discussione e pausa \n16:00-17:00 Tavola rotonda con Enrico Galavotti e Alejandro Dieguez \n——————- \nL’evento si terrà mercoledì 1 giugno 2022\, nella Sala Milone\, Palazzo Malcanton-Marcorà (terzo piano) Università Ca’ Foscari Venezia \nSarà possibile assistere anche online alla conferenza. Per informazioni e ottenere il link Zoom scrivere a Valentina Ciciliot vciciliot@unive.it o Francesco Tacchi francesco.tacchi@unive.it
URL:https://www.sissco.it/calendario/la-chiesa-di-pio-xii-dopo-la-seconda-guerra-mondiale-1945-1958-le-relationes-ad-limina-come-fonti-della-riflessione-storiografica/
LOCATION:Venezia\, Italia
CATEGORIES:Convegno
ORGANIZER;CN="Valentina Ciciliot - Francesco Tacchi":MAILTO:vciciliot@unive.it francesco.tacchi@unive.it
END:VEVENT
BEGIN:VEVENT
DTSTART;VALUE=DATE:20220613
DTEND;VALUE=DATE:20220616
DTSTAMP:20260420T105728
CREATED:20220606T134429Z
LAST-MODIFIED:20220606T134429Z
UID:10002353-1655078400-1655337599@www.sissco.it
SUMMARY:Culture repubblicane transnazionali. Citazioni\, connessioni\, traduzioni (XVIII-XIX sec.)
DESCRIPTION:Ospitato dall’Università degli Studi di Milano e organizzato in collaborazione con il Fondo nazionale svizzero per la ricerca\, l’Ecole Pratique des Hautes Etudes\, la Scuola Normale Superiore\, l’Università di Pisa\, e l’Université de Neuchâtel\, l’incontro di tre giorni Culture repubblicane transnazionali. Citazioni\, connessioni\, traduzioni (XVIII-XIX sec.) – parte integrante del Prin 2017 dal titolo Genealogie rivoluzionarie – si propone di porre al centro la riflessione sulla costruzione tra Sette e Ottocento di una cultura repubblicana in qualche modo condivisa\, al di là degli steccati nazionali e delle particolarità di tempi e luoghi. L’intenzione è di interrogarsi sull’esistenza di un linguaggio comune\, di riferimenti condivisi sul piano culturale\, testuale\, visuale e concettuale\, in una prospettiva transnazionale.
URL:https://www.sissco.it/calendario/culture-repubblicane-transnazionali-citazioni-connessioni-traduzioni-xviii-xix-sec/
LOCATION:Università degli Studi di Milano\, Milano\, Italia
CATEGORIES:Convegno
END:VEVENT
END:VCALENDAR