BEGIN:VCALENDAR
VERSION:2.0
PRODID:-//SISSCO - ECPv6.15.20//NONSGML v1.0//EN
CALSCALE:GREGORIAN
METHOD:PUBLISH
X-WR-CALNAME:SISSCO
X-ORIGINAL-URL:https://www.sissco.it
X-WR-CALDESC:Eventi per SISSCO
REFRESH-INTERVAL;VALUE=DURATION:PT1H
X-Robots-Tag:noindex
X-PUBLISHED-TTL:PT1H
BEGIN:VTIMEZONE
TZID:Europe/Rome
BEGIN:DAYLIGHT
TZOFFSETFROM:+0100
TZOFFSETTO:+0200
TZNAME:CEST
DTSTART:20130331T010000
END:DAYLIGHT
BEGIN:STANDARD
TZOFFSETFROM:+0200
TZOFFSETTO:+0100
TZNAME:CET
DTSTART:20131027T010000
END:STANDARD
BEGIN:DAYLIGHT
TZOFFSETFROM:+0100
TZOFFSETTO:+0200
TZNAME:CEST
DTSTART:20140330T010000
END:DAYLIGHT
BEGIN:STANDARD
TZOFFSETFROM:+0200
TZOFFSETTO:+0100
TZNAME:CET
DTSTART:20141026T010000
END:STANDARD
BEGIN:DAYLIGHT
TZOFFSETFROM:+0100
TZOFFSETTO:+0200
TZNAME:CEST
DTSTART:20150329T010000
END:DAYLIGHT
BEGIN:STANDARD
TZOFFSETFROM:+0200
TZOFFSETTO:+0100
TZNAME:CET
DTSTART:20151025T010000
END:STANDARD
END:VTIMEZONE
BEGIN:VEVENT
DTSTART;TZID=Europe/Rome:20141104T093000
DTEND;TZID=Europe/Rome:20141104T235900
DTSTAMP:20260423T224513
CREATED:20141027T153240Z
LAST-MODIFIED:20141027T200947Z
UID:10001229-1415093400-1415145540@www.sissco.it
SUMMARY:Davanti alla guerra europea. Milano tra neutralismo e interventismo 1914-1915
DESCRIPTION:Giornata di studio dedicata all’anno della Neutralità a Milano\, organizzato dal Dipartimento di Studi Storici dell’Università degli Studi di Milano e dal Dipartimento di Sociologia e Ricerca sociale dell’Università Milano-Bicocca
URL:https://www.sissco.it/calendario/davanti-alla-guerra-europea-milano-tra-neutralismo-e-interventismo-1914-1915/
LOCATION:Palazzo Moriggia Museo del Risorgimento\, via Borgonuovo 23\, Milano\, 20121\, Italia
CATEGORIES:Convegno
ORGANIZER;CN="Barbara Bracco":MAILTO:barbara.bracco@unimib.it
END:VEVENT
BEGIN:VEVENT
DTSTART;TZID=Europe/Rome:20141103T153000
DTEND;TZID=Europe/Rome:20141103T235900
DTSTAMP:20260423T224513
CREATED:20141027T104205Z
LAST-MODIFIED:20141027T104924Z
UID:10001228-1415028600-1415059140@www.sissco.it
SUMMARY:Donne e scuola nella Grande Guerra
DESCRIPTION:Donne e scuola nella Grande Guerra. Profili biografici e percorsi didattici \nore 15:30 Saluto delle autorità: Elena Donazzan – assessore all’Istruzione\, Formazione e Lavoro della Regione del Veneto; Flavio Rodeghiero – assessore alla Cultura e Turismo del Comune di Padova\, Giovanni Luigi Fontana – direttore DiSSGeA dell’Università di Padova\, Vincenzo Milanesi – direttore del Dipartimento Fisppa dell’Università Padova.\nore 16:00 “Maestre ed educatrici nella temperie della guerra”\, introduce e coordina Carlotta Sorba. \n\n“Una pedagogista interventista: Maria Pezzè Pascolato”\, di Nadia Maria Filippini\n“Una cristiana in guerra: Antonietta Giacomelli”\, di Saveria Chemotti\n“Rita Majerotti\, maestra e socialista”\, di Maria Teresa Sega\n“Giurai guerra alla guerra: Arpalice Cuman Pertile”\, di Sonia Residori\n“La grande guerra entra in classe: spunti didattici a partire dai documenti del Museo dell’Educazione”\, a cura di Patrizia Zamperlin.
URL:https://www.sissco.it/calendario/donne-e-scuola-nella-grande-guerra/
LOCATION:Palazzo Moroni\, Via del Municipio 1\, Padova\, Italia
CATEGORIES:Convegno
ORGANIZER;CN="Liviana Gazzetta":MAILTO:livianagazzetta@gmail.com
END:VEVENT
BEGIN:VEVENT
DTSTART;TZID=Europe/Rome:20141024T090000
DTEND;TZID=Europe/Rome:20141024T170000
DTSTAMP:20260423T224513
CREATED:20141018T123925Z
LAST-MODIFIED:20141024T130547Z
UID:10001211-1414141200-1414170000@www.sissco.it
SUMMARY:I romeni e la Grande Guerra
DESCRIPTION:L’Istituto Romeno di Cultura e Ricerca Umanistica di Venezia\, l’Università Roma Tre e l’Università «Babeş–Bolyai» di Cluj-Napoca\, in collaborazione con la Soprintendenza speciale per il Patrimonio storico artistico ed etnoantropologico per il Polo museale della città di Venezia e dei comuni della Gronda lagunare / Museo Palazzo Grimani\, organizzano a Venezia\, venerdì 24 ottobre 2014\, il Convegno di studi dedicati alla celebrazione del centenario dello scoppio della Prima guerra mondiale. \nIntitolato “I romeni e la Grande Guerra. Affrontare la Crisi. Eludere la Guerra. Preparare la belligeranza”\, il convegno intende proporre un momento di riflessione comparativa sull’esperienza della guerra in Europa\, con particolare riguardo alla Romania e all’area balcanica. Il confronto dell’esperienza romena con altre relative ad ambiti territoriali diversi può fungere da stimolo per sfuggire a visioni tradizionali e stereotipate. Il convegno sarà suddiviso in due panels: politico-sociale-militare e di relazioni internazionali. Lo scopo del convegno è quello di rivisitare\, in maniera critica\, il periodo della neutralità e l’esperienza bellica della Romania\, ricollocandole a pieno titolo nella storia della Prima guerra mondiale ed esaminando i vari aspetti riguardanti la Romania e i territori abitati dai romeni\, dalla dichiarazione di neutralità alla fine della guerra. \nRelatori: Francesco Guida (Università Roma TRE)\, Ioan Bolovan\, Oana Tamaş (Università «Babeş–Bolyai» di Cluj-Napoca)\, Alin Matei (Università di Bucarest)\, Antonio D’Alessandri(Università Roma TRE)\, Raluca Tomi (Accademia Romena – Istituto di Storia «Nicolae Iorga» di Bucarest)\, Emanuela Costantini (Università di Perugia)\, Claudiu Lucian Topor (Università «Al. I. Cuza» di Iaşi)\, Daniel Cain (Università «Al. I. Cuza» di Iaşi/Accademia Romena – Istituto di Storia del Sud–Est europeo di Bucarest)\, Gianluca Volpi (Università di Udine)\, Ion Cârja (Università «Babeş–Bolyai» di Cluj-Napoca)\, Paolo Tomasella (Centro regionale di catalogazione e restauro dei beni culturali del Friuli Venezia Giulia)\, Ana Victoria Sima (Università «Babeş–Bolyai» di Cluj-Napoca)\, Stefano Santoro (Università di Trieste) e Ioana Ignat (Università «Babeş–Bolyai» di Cluj-Napoca). \nGli ambiti tematici trattati saranno:\n− l’evoluzione della storiografia romena sulla Grande Guerra negli ultimi decenni e la presenza della Romania nella storiografia occidentale dedicata alla Grande Guerra negli ultimi 20 anni;\n− la neutralità romena e il peso del successivo intervento militare nel sistema delle alleanze e nell’opinione delle principali potenze belligeranti;\n− le realtà del Regno romeno e della Transilvania austro-ungarica durante la neutralità e la belligeranza\, con particolare riferimento a vertici istituzionali\, forze parlamentari e politiche\, correnti d’opinione\, stampa e associazionismo;\n− i contenuti dell’irredentismo romeno e il suo ruolo centrale nella propaganda per l’intervento e in quella di guerra;\n− l’esperienza bellica dei romeni sui vari fronti europei: il caso dei romeni transilvani;\n− le interferenze e convergenze italo-romene durante la Grande Guerra. \nSedi del convegno: sale del Museo Palazzo Grimani (Ramo Grimani – Castello 4858\, Venezia) ore 9.30–13.00 e Sala “Marian Papahagi” dell’Istituto Romeno di Cultura e Ricerca Umanistica di Venezia (Campo S. Fosca – Cannaregio 2214)\, ore 15.30–19.00.
URL:https://www.sissco.it/calendario/i-romeni-e-la-grande-guerra/
LOCATION:Museo Palazzo Grimani\, Ramo Grimani – Castello 4858\, Venezia\, Italia
CATEGORIES:Convegno
END:VEVENT
BEGIN:VEVENT
DTSTART;VALUE=DATE:20141023
DTEND;VALUE=DATE:20141025
DTSTAMP:20260423T224513
CREATED:20141023T165432Z
LAST-MODIFIED:20141023T171448Z
UID:10001219-1414022400-1414195199@www.sissco.it
SUMMARY:Dalle Exhibitions all’Expo. Le Americhe e l’invenzione dell’evento globale
DESCRIPTION:Programma: \nGiovedì 23 ottobre\, ORE 10\,00 \nSaluti: Laura Ammannati (Direttore del Dipartimento di Studi Internazionali\, Giuridici e Storico-Politici)\nPresiede: Allan Potofsky (Université Paris 7) \nSilvia A. Conca Messina (Università degli Studi di Milano)\nDal sistema inglese all’American System of Manufacturing. La Crystal Palace Exhibition e l’avvio del trasferimento tecnologico dagli Stati Uniti all’Europa (1851-1876) \nMichael Zakim (Department of History\, Tel Aviv University)\nShowdown at the New York Crystal Palace in 1853-1854 \nGian Domenico Iachini (Università degli Studi di Milano)\nDall’American Museum al Crystal Palace di New York: Phineas T. Barnum \nMarco Sioli (Università degli Studi di Milano)\n1876: razza e genere alla Centennial Exhibition di Philadelphia \nDiscussant: Silvia Cassamagnaghi (Università degli Studi di Milano) \nORE 14\,00\nPresiede: Rosemarie Brisciana (Science Po\, Paris) \nMarco Mariano (Università del Piemonte Orientale)\nPan Americanismo e imperialismo: William E. Curtis e la World ColumbianExposition di Chicago\, 1893 \nAlessandra Lorini (Università degli Studi di Firenze)\nSinfonie dal Nuovo Mondo: Spagna e Cuba alle esposizioni internazionali negli Stati Uniti\, 1893-1901 \nScott Manning Stevens (Director\, Native American Studies\, Syracuse University)\nImperialism on Display in the American Republic: Ethnographic Exhibits at the Pan-American Exposition of 1901 \nMarco Cuzzi (Università degli Studi di Milano)\nEsposizione ed esibizionismo: il padiglione italiano all’Expo di New York 1939 \nAnnalisa Dameri e Federica Stella (Politecnico di Torino)\nDalla “valle delle ceneri” al Flushing Meadows Corona Park. 1939 New York World’s Fair: l’alba di un nuovo giorno per il Queens \nDiscussant: Maria Cristina Paganoni (Università degli Studi di Milano) \nVenerdì 24 ottobre\, ore 10\nPresiede: Daniele Pompejano (Università degli Studi di Messina) \nMarzia Rosti (Università degli Studi di Milano)\nLe esposizioni universali e l’America Latina \nMassimo de Giuseppe (Università IULM Milano)\nMéxico en exposición: tra modernizzazione e passato (1889-1922) \nVeronica Ronchi (Università degli Studi di Milano)\nL’esposizione Universale di Buenos Aires del 1910 \nLuciano Gallinari (Istituto di Storia dell’Europa Mediterranea\, ISEM\, del CNR\, Cagliari)\nL’Esposizione di Buenos Aires per il Centenario della Revolución de Mayo (1810) nella stampa italiana \nIlaria Fiore (Politecnico di Torino)\n“Barcelona ciudad de ferias y de congresos”. Il ruolo del gran evento nella politica franchista \nDiscussant: Chiara Vangelista (Università degli Studi di Genova)
URL:https://www.sissco.it/calendario/dalle-exhibitions-allexpo-le-americhe-e-linvenzione-dellevento-globale/
LOCATION:Milano\, Dipartimento di Studi Internazionali\, Giuridici e Storico-Politici dell’Università degli Studi di Milano\, Sala Lauree\, via Conservatorio 7\, Milano\, Italia
CATEGORIES:Convegno
ORGANIZER;CN="Marco Sioli":MAILTO:marco.sioli@unimi.it
END:VEVENT
BEGIN:VEVENT
DTSTART;TZID=Europe/Rome:20141021T093000
DTEND;TZID=Europe/Rome:20141022T235900
DTSTAMP:20260423T224513
CREATED:20141020T071609Z
LAST-MODIFIED:20141020T071609Z
UID:10001217-1413883800-1414022340@www.sissco.it
SUMMARY:Welfare\, Women and Youth in Italy and Europe
DESCRIPTION:Lo sviluppo del Welfare e della cittadinanza in Italia e in Europa dalla fine dell’800 ad oggi\, il suo intreccio con la questione femminile e la condizione dei giovani al centro del  Convegno internazionale di studi promosso dal nostro dipartimento di Studi storici\, in collaborazione con la Fondazione Filippo Turati\, la Fondazione Cesare Pozzo per la Mutualità e la Fondazione Argentina Altobelli. \nAprono i lavori\, il 21 ottobre nella Sala Napoleonica di Palazzo Greppi\, i saluti del rettore Gianluca Vago\, del presidente della Fondazione di Studi Storici “Filippo Turati”\,  Maurizio Degl’Innocenzi\, e del direttore del dipartimento di Studi storici\, Maria Luisa Betri. \nDue giornate divise in tre sessioni affrontano i temi delle politiche sociali rivolte alle donne e ai giovani nell’Europa dell’Ottocento e del Novecento.\nAssociazionismo\, mutuo soccorso\, interventi in favore delle famiglie sono i temi degli interventi delle prime due sessioni\, che focalizzano l’attenzione sulle varie politiche nazionali\, senza trascurare la legislazione in materia di lavoro femminile e minorile. \nIl Convegno prosegue il 22 ottobre\, nel Salone Liberty dei Ferrovieri della Fondazione Cesare Pozzo per la Mutualità\, aperto dai saluti introduttivi del presidente della Fondazione\, Armando Messineo.\nLa seconda giornata affronta\, più nello specifico\, temi legati al welfare\, alla contrattazione sindacale\, ai modelli europei di Welfare State e pari opportunità e alle politiche comunitarie per le donne e i giovani. \nHanno curato l’organizzazione scientifica del convegno: Michela Minesso\, nostra docente di Storia contemporanea\, studiosa della questione femminile e della condizione dei minori\, e Luigi Tommasini\, della Fondazione Turati\, esperto di politiche sociali in riferimento al mondo sindacale e del lavoro.\nScarica il documento PDF programma del Convegno. \n21 ottobre\, ore 9.30\nUniversità degli Studi di Milano\nSala Napoleonica di Palazzo Greppi\, via S. Antonio 12\n22 ottobre\, ore 9.30\nFondazione Cesare Pozzo per la Mutualità\nSalone Liberty dei Ferrovieri\, via S. Gregorio 48
URL:https://www.sissco.it/calendario/welfare-women-and-youth-in-italy-and-europe/
LOCATION:Università degli Studi di Milano\, (vedi testo)\, Italia
CATEGORIES:Convegno
END:VEVENT
END:VCALENDAR