BEGIN:VCALENDAR
VERSION:2.0
PRODID:-//SISSCO - ECPv6.15.20//NONSGML v1.0//EN
CALSCALE:GREGORIAN
METHOD:PUBLISH
X-WR-CALNAME:SISSCO
X-ORIGINAL-URL:https://www.sissco.it
X-WR-CALDESC:Eventi per SISSCO
REFRESH-INTERVAL;VALUE=DURATION:PT1H
X-Robots-Tag:noindex
X-PUBLISHED-TTL:PT1H
BEGIN:VTIMEZONE
TZID:Europe/Rome
BEGIN:DAYLIGHT
TZOFFSETFROM:+0100
TZOFFSETTO:+0200
TZNAME:CEST
DTSTART:20170326T010000
END:DAYLIGHT
BEGIN:STANDARD
TZOFFSETFROM:+0200
TZOFFSETTO:+0100
TZNAME:CET
DTSTART:20171029T010000
END:STANDARD
BEGIN:DAYLIGHT
TZOFFSETFROM:+0100
TZOFFSETTO:+0200
TZNAME:CEST
DTSTART:20180325T010000
END:DAYLIGHT
BEGIN:STANDARD
TZOFFSETFROM:+0200
TZOFFSETTO:+0100
TZNAME:CET
DTSTART:20181028T010000
END:STANDARD
BEGIN:DAYLIGHT
TZOFFSETFROM:+0100
TZOFFSETTO:+0200
TZNAME:CEST
DTSTART:20190331T010000
END:DAYLIGHT
BEGIN:STANDARD
TZOFFSETFROM:+0200
TZOFFSETTO:+0100
TZNAME:CET
DTSTART:20191027T010000
END:STANDARD
END:VTIMEZONE
BEGIN:VEVENT
DTSTART;TZID=Europe/Rome:20180319T170000
DTEND;TZID=Europe/Rome:20180319T235900
DTSTAMP:20260424T080932
CREATED:20180317T184017Z
LAST-MODIFIED:20180317T184017Z
UID:10000516-1521478800-1521503940@www.sissco.it
SUMMARY:Inaugurazione della Mostra fotografica “Paesaggi della Resistenza nei romanzi di Calvino\, Fenoglio\, Meneghello”
DESCRIPTION:Inaugurazione (19 marzo 2018) della Mostra fotografica Paesaggi della Resistenza nei romanzi di Calvino\, Fenoglio\, Meneghello (Biblioteca Palazzo Sormani\, Milano\, 19-31 marzo 2018)\, progetto e fotografie di Carlo Meazza\, testi di Enzo Basora\, Franco Giannantoni ed Enzo Laforgia\, promossa da Comune di Milano – SBM (Sistema Bibliotecario Milano) e Rete Milanosifastoria
URL:https://www.sissco.it/calendario/inaugurazione-della-mostra-fotografica-paesaggi-della-resistenza-nei-romanzi-di-calvino-fenoglio-meneghello/
LOCATION:Biblioteca Palazzo Sormani\, Corso di Porta Vittoria 6\, \, Milano\, 20122 \, Italia
CATEGORIES:Inaugurazione di evento culturale
END:VEVENT
END:VCALENDAR