BEGIN:VCALENDAR
VERSION:2.0
PRODID:-//SISSCO - ECPv6.15.20//NONSGML v1.0//EN
CALSCALE:GREGORIAN
METHOD:PUBLISH
X-WR-CALNAME:SISSCO
X-ORIGINAL-URL:https://www.sissco.it
X-WR-CALDESC:Eventi per SISSCO
REFRESH-INTERVAL;VALUE=DURATION:PT1H
X-Robots-Tag:noindex
X-PUBLISHED-TTL:PT1H
BEGIN:VTIMEZONE
TZID:Europe/Rome
BEGIN:DAYLIGHT
TZOFFSETFROM:+0100
TZOFFSETTO:+0200
TZNAME:CEST
DTSTART:20170326T010000
END:DAYLIGHT
BEGIN:STANDARD
TZOFFSETFROM:+0200
TZOFFSETTO:+0100
TZNAME:CET
DTSTART:20171029T010000
END:STANDARD
BEGIN:DAYLIGHT
TZOFFSETFROM:+0100
TZOFFSETTO:+0200
TZNAME:CEST
DTSTART:20180325T010000
END:DAYLIGHT
BEGIN:STANDARD
TZOFFSETFROM:+0200
TZOFFSETTO:+0100
TZNAME:CET
DTSTART:20181028T010000
END:STANDARD
BEGIN:DAYLIGHT
TZOFFSETFROM:+0100
TZOFFSETTO:+0200
TZNAME:CEST
DTSTART:20190331T010000
END:DAYLIGHT
BEGIN:STANDARD
TZOFFSETFROM:+0200
TZOFFSETTO:+0100
TZNAME:CET
DTSTART:20191027T010000
END:STANDARD
END:VTIMEZONE
BEGIN:VEVENT
DTSTART;TZID=Europe/Rome:20181002T150000
DTEND;TZID=Europe/Rome:20181002T230000
DTSTAMP:20260423T191921
CREATED:20180918T102951Z
LAST-MODIFIED:20180929T100029Z
UID:10001836-1538492400-1538521200@www.sissco.it
SUMMARY:Alle radici dei diritti. Incontri con le storiche
DESCRIPTION:La Direzione Coesione Sociale\, Servizi alla Persona e Benessere di Comunità della Città di Venezia\, la Società italiana delle storiche – Sez. Veneto e il Dipartimento di studiumansitici dell’Università Ca’ Foscari organizzano il corso di formazione \nALLE RADICI DEI DIRITTI. Incontri con le Storiche 2018\nVenezia – Palazzo Malcanton Marcorà (Dorsoduro 3484/D\, Sala grande) \nMartedì 2 ottobre 2018 :\n15.00 – 16.08 Presentazione\n16.00 – 19.00 Maternità – relatrice: Nadia Maria Filippini \nVenerdì 19 ottobre 2018 (16.00 – 19.00):\nFamiglia – relatrice: Marina Garbellotti \nMartedì 30 ottobre 2018 (16.00- 19.00):\nEconomia – relatrice: Anna Bellavitis \nMartedì 13 novembre 2018 (16.00- 19.00):\nReclusioni – relatrice: Silvia Carraro \nMartedì 27 novembre 2018 (16.00 – 19.00):\nSentimenti\, sessualità – relatrice: Tiziana Plebani \nMartedì 11 dicembre 2018 (16.00- 19.00):\nFemminismo- relatrici: Liviana Gazzetta\, Maria Teresa Sega \nMartedì 15 gennaio 2019 (16.00 – 19.00):\nDonne\, famiglia\, diritto nelle società mussulmane – relatrice: Anna Vanzan \nMartedì 29 gennaio 2019:\n16.00 – 17.00 Incontro conclusivo\n17.00 – 19.00 Laboratorio per insegnanti a cura di Cinzia Crivellari\n(Centro di Documentazione e ricerca sulla scuola e la Didattica delle discipline umanistiche (CE.DO.DI) -Dipartimento di Studi umanistici) \nPer informazioni e iscrizioni: Biblioteca del Centro Donna tel. 041 2690650\nbibiioteca.donna@comune.venezia.it \nPer informazioni si veda anche all’indirizzo\nwww.societadellestoriche.it
URL:https://www.sissco.it/calendario/alle-radici-dei-diritti-incontri-con-le-storiche-2018/
LOCATION:Venezia\, Palazzo Malcanton Marcorà - Dorsoduro 3484/D\, Venezia\, 30123\, Italia
CATEGORIES:Seminario,Inaugurazione di evento culturale
ORGANIZER;CN="Centro Donna Citt%C3%A0 di Venezia":MAILTO:bibiioteca.donna@comune.venezia.it
END:VEVENT
BEGIN:VEVENT
DTSTART;TZID=Europe/Rome:20181002T173000
DTEND;TZID=Europe/Rome:20181002T230000
DTSTAMP:20260423T191921
CREATED:20180928T132532Z
LAST-MODIFIED:20180929T100602Z
UID:10000594-1538501400-1538521200@www.sissco.it
SUMMARY:Mostra storica La Grande Guerra e l'unificazione romena
DESCRIPTION:martedì  2 ottobre alle ore 17.30 a Roma\, presso il Museo Centrale del Risorgimento\, avrà luogo l’inaugurazione della mostra “La Grande guerra e l’unificazione romena”. L’esposizione (ingresso libero) resterà aperta al pubblico fino al 31 ottobre..
URL:https://www.sissco.it/calendario/mostra-storica-la-grande-guerra-e-lunificazione-romena/
LOCATION:Roma
CATEGORIES:Inaugurazione di evento culturale
ORGANIZER;CN="Alberto Basciani":MAILTO:alberto.basciani@gmail.com
END:VEVENT
BEGIN:VEVENT
DTSTART;TZID=Europe/Rome:20181002T180000
DTEND;TZID=Europe/Rome:20181002T230000
DTSTAMP:20260423T191921
CREATED:20180918T160922Z
LAST-MODIFIED:20180921T111524Z
UID:10001839-1538503200-1538521200@www.sissco.it
SUMMARY:Un grande numero. Segni immagini parole del 1968 a Milano
DESCRIPTION:La mostra “Un grande numero. Segni immagini parole del 1968 a Milano” a cura di Fondazione ISEC è realizzata in collaborazione con BASE Milano e Università Iuav di Venezia\, con il sostegno di Comieco e Fondazione Aem-Gruppo A2A e con il contributo di Fondazione Cariplo\, nell’ambito del progetto #AggiungiPROmemoria\, e Regione Lombardia.Un racconto del 1968 attraverso le forme di comunicazione utilizzate dai movimenti\, in anni di intensa mobilitazione giovanile\, per rappresentarsi\, scuotere l’opinione pubblica e affermarsi nella scena mediatica. La narrazione si snoda attraverso i materiali provenienti dagli archivi della Fondazione ISEC e da quelli di altre istituzioni pubbliche e private e di collezionisti: una sezione speciale della mostra presenta cinquanta scatti di un grande fotoreporter come Uliano Lucas; sono inoltre presenti foto di altri autori rappresentativi dell’epoca – fra cui Walter Barbero\, Norbert Chautard\, Enrico Cattaneo\, Cesare Colombo\, Carlo Leidi\, Silvestre Loconsolo\, Alfonso Modonesi – rari scatti amatoriali e rappresentazioni dei media ufficiali.Questa preziosa raccolta di fonti è stata affidata alla creatività di giovani designer dell’Università Iuav di Venezia\, guidati da Paola Fortuna\, a cui è stato chiesto di realizzare un progetto grafico e un allestimento appositamente ideati per restituire al meglio la complessità\, l’espressività\, le contraddizioni e le tensioni di quel momento storico. L’idea nasce dall’intento di provare a rileggere quegli anni attraverso lo sguardo di giovani studenti\, ventenni di oggi immersi in un universo visivo che trova nelle immagini\, fisse e in movimento\, più che nella parola\, i propri codici espressivi. Una collaborazione importante anche per cercare di rintracciare gli insegnamenti che questi movimenti hanno prestato alle attività di comunicazione e al design contemporaneo.\nL’iniziativa rientra nel calendario italiano del 2018 anno europeo del patrimonio culturale #EuropeForCulture.\nIn occasione della mostra sarà organizzato un articolato palinsesto di attività\, laboratori e visite guidate rivolti alle scuole; un programma di formazione per docenti; seminari e scuole per ricercatori e storici; workshop creativi per illustratori\, fotografi\, professionisti e incontri pubblici: il programma completo degli eventi è scaricabile in calce a questa pagina.\n“Un grande numero. Segni immagini parole del 1968 a Milano” a cura di Fondazione ISECSede: BASE\, Spazio C\, via Bergognone 34\, MilanoDate: Dal 2 al 22 ottobreOrari: tutti i giorni 11-19INGRESSO LIBEROVisite guidate per le scuole: didattica@fondazioneisec.it\nVernissage martedì 2 ottobre 2018\, ore 18.00Info: comunicazione@fondazioneisec.it\nFinissage lunedì 22 ottobre ore 18.30Antonio Calabrò (Fondazione Pirelli e Assolombarda) e Giorgio Bigatti(Fondazione ISEC) dialogano con Uliano Lucas\, autore del volume Sognatori e ribelli. Fotografie e pensieri oltre il Sessantotto [Bompiani\, 2018].
URL:https://www.sissco.it/calendario/un-grande-numero-segni-immagini-parole-del-1968-a-milano-mostra-a-cura-di-fondazione-isec/
LOCATION:BASE Milano\, Via Bergognone 34 Milano\, MILANO\, 20146\, Italia
CATEGORIES:Inaugurazione di evento culturale
ORGANIZER;CN="Sara Zanisi":MAILTO:comunicazione@fondazioneisec.it
END:VEVENT
BEGIN:VEVENT
DTSTART;TZID=Europe/Rome:20181014T100000
DTEND;TZID=Europe/Rome:20181014T235900
DTSTAMP:20260423T191921
CREATED:20181004T084130Z
LAST-MODIFIED:20181004T084509Z
UID:10001848-1539511200-1539561540@www.sissco.it
SUMMARY:Domenica di carta 2018 - Invito a Palazzo Mattei di Giove:  1968\, l'anno della rivolta
DESCRIPTION:Domenica di carta 2018 Invito a Palazzo Mattei di Giove \nDomenica 14 ottobre 2018\, apertura straordinaria di biblioteche e archivi statali\, promossa dal Ministero per i beni e le attività culturali.  \nLa Biblioteca di storia moderna e contemporanea ha organizzato per la giornata visite guidate al Palazzo Mattei di Giove e alla Biblioteca\, con illustrazione del percorso documentario «1968: l’anno della rivolta».  \nLe visite avranno luogo alle ore 10.00 e alle ore 11.30\, a ingresso gratuito\, previa prenotazione obbligatoria (fino a un massimo di 30 persone per visita). \nPer prenotarsi inviare un messaggio\, con oggetto DOMENICA DI CARTA 2018\, allindirizzo bsmc.prenotazioni@gmail.com\, specificando lora prescelta
URL:https://www.sissco.it/calendario/domenica-di-carta-2018-invito-a-palazzo-mattei-di-giove-1968-lanno-della-rivolta/
LOCATION:Roma
CATEGORIES:Inaugurazione di evento culturale
ORGANIZER;CN="Gisella Bochicchio":MAILTO:b-stmo.info@beniculturali.it
END:VEVENT
END:VCALENDAR