BEGIN:VCALENDAR
VERSION:2.0
PRODID:-//SISSCO - ECPv6.15.20//NONSGML v1.0//EN
CALSCALE:GREGORIAN
METHOD:PUBLISH
X-ORIGINAL-URL:https://www.sissco.it
X-WR-CALDESC:Eventi per SISSCO
REFRESH-INTERVAL;VALUE=DURATION:PT1H
X-Robots-Tag:noindex
X-PUBLISHED-TTL:PT1H
BEGIN:VTIMEZONE
TZID:Europe/Rome
BEGIN:DAYLIGHT
TZOFFSETFROM:+0100
TZOFFSETTO:+0200
TZNAME:CEST
DTSTART:20180325T010000
END:DAYLIGHT
BEGIN:STANDARD
TZOFFSETFROM:+0200
TZOFFSETTO:+0100
TZNAME:CET
DTSTART:20181028T010000
END:STANDARD
BEGIN:DAYLIGHT
TZOFFSETFROM:+0100
TZOFFSETTO:+0200
TZNAME:CEST
DTSTART:20190331T010000
END:DAYLIGHT
BEGIN:STANDARD
TZOFFSETFROM:+0200
TZOFFSETTO:+0100
TZNAME:CET
DTSTART:20191027T010000
END:STANDARD
BEGIN:DAYLIGHT
TZOFFSETFROM:+0100
TZOFFSETTO:+0200
TZNAME:CEST
DTSTART:20200329T010000
END:DAYLIGHT
BEGIN:STANDARD
TZOFFSETFROM:+0200
TZOFFSETTO:+0100
TZNAME:CET
DTSTART:20201025T010000
END:STANDARD
END:VTIMEZONE
BEGIN:VEVENT
DTSTART;TZID=Europe/Rome:20190705T170000
DTEND;TZID=Europe/Rome:20190705T235900
DTSTAMP:20260423T024212
CREATED:20190324T130630Z
LAST-MODIFIED:20190324T130630Z
UID:10001970-1562346000-1562371140@www.sissco.it
SUMMARY:Donne: corpo e immagine tra simbolo e rivoluzione. Il femminismo
DESCRIPTION:Nell’ambito della mostra Donne: corpo e immagine tra simbolo e rivoluzione\, aperta tra il 24 gennaio e il 13 ottobre p.v. a Roma presso la Galleria d’arte moderna\, la Società italiana delle storiche ha organizzato il ciclo “Incontri tra la storia e le donne”\, una serie di sei appuntamenti dal 29 marzo al 5 luglio p.v. \nVenerdì 5 luglio p.v. alle 17.00\, l’incontro con Paola Stelliferi (Università degli studi Roma Tre) sul tema: Il femminismo.
URL:https://www.sissco.it/calendario/donne-corpo-e-immagine-tra-simbolo-e-rivoluzione-il-femminismo/
LOCATION:Roma
CATEGORIES:Inaugurazione di evento culturale
ORGANIZER;CN="Societ%C3%A0 italiana delle storiche":MAILTO:segreteria@societadellestoriche.it
END:VEVENT
BEGIN:VEVENT
DTSTART;TZID=Europe/Rome:20190715T170000
DTEND;TZID=Europe/Rome:20190715T235900
DTSTAMP:20260423T024212
CREATED:20190713T193315Z
LAST-MODIFIED:20190713T193315Z
UID:10000764-1563210000-1563235140@www.sissco.it
SUMMARY:La luna in rassegna
DESCRIPTION:Lunedì 15 luglio p.v.\, a Roma\, presso Palazzo Mattei di Giove\, dalle 17.00\, la manifestazione “Moon Night. Conversazioni lunari”\, un ricco programma di eventi per ricordare lo sbarco sulla Luna\, organizzato dal Centro studi americani\, dalla Biblioteca di storia moderna e contemporanea\, dall’Istituto centrale per i beni sonori e audiovisivi\, con la collaborazione dell’Ambasciata degli Stati Uniti in Italia e dell’Agenzia Spaziale Italiana.\nLa Biblioteca di storia moderna e contemporanea presenta\, dalle 17.00 alle 19.00\, la mostra bibliografica “La luna in rassegna”.\nDalla divulgazione scientifica nelle riviste dell’Ottocento al racconto illustrato della corsa allo spazio fino alle prime pagine dedicate allo sbarco sulla luna\, la mostra conduce in un viaggio iconografico e bibliografico attraverso i documenti dell’epoca posseduti dalla Biblioteca.
URL:https://www.sissco.it/calendario/la-luna-in-rassegna/
LOCATION:Roma\, Biblioteca di storia moderna e contemporanea - Via M. Caetani\, 32\, Roma\, 00186\, Italia
CATEGORIES:Inaugurazione di evento culturale
ORGANIZER;CN="Oriana Rizzuto":MAILTO:b-stmo.info@beniculturali.it
END:VEVENT
END:VCALENDAR