BEGIN:VCALENDAR
VERSION:2.0
PRODID:-//SISSCO - ECPv6.15.20//NONSGML v1.0//EN
CALSCALE:GREGORIAN
METHOD:PUBLISH
X-WR-CALNAME:SISSCO
X-ORIGINAL-URL:https://www.sissco.it
X-WR-CALDESC:Eventi per SISSCO
REFRESH-INTERVAL;VALUE=DURATION:PT1H
X-Robots-Tag:noindex
X-PUBLISHED-TTL:PT1H
BEGIN:VTIMEZONE
TZID:Europe/Rome
BEGIN:DAYLIGHT
TZOFFSETFROM:+0100
TZOFFSETTO:+0200
TZNAME:CEST
DTSTART:20180325T010000
END:DAYLIGHT
BEGIN:STANDARD
TZOFFSETFROM:+0200
TZOFFSETTO:+0100
TZNAME:CET
DTSTART:20181028T010000
END:STANDARD
BEGIN:DAYLIGHT
TZOFFSETFROM:+0100
TZOFFSETTO:+0200
TZNAME:CEST
DTSTART:20190331T010000
END:DAYLIGHT
BEGIN:STANDARD
TZOFFSETFROM:+0200
TZOFFSETTO:+0100
TZNAME:CET
DTSTART:20191027T010000
END:STANDARD
BEGIN:DAYLIGHT
TZOFFSETFROM:+0100
TZOFFSETTO:+0200
TZNAME:CEST
DTSTART:20200329T010000
END:DAYLIGHT
BEGIN:STANDARD
TZOFFSETFROM:+0200
TZOFFSETTO:+0100
TZNAME:CET
DTSTART:20201025T010000
END:STANDARD
END:VTIMEZONE
BEGIN:VEVENT
DTSTART;TZID=Europe/Rome:20190917T193000
DTEND;TZID=Europe/Rome:20190917T230000
DTSTAMP:20260422T231436
CREATED:20190910T151240Z
LAST-MODIFIED:20190910T151857Z
UID:10002020-1568748600-1568761200@www.sissco.it
SUMMARY:Si combatteva qui! Sulle orme della Grande Guerra
DESCRIPTION:Fondazione ISEC vi invita alla mostra fotografica di Alessio Franconi\, una selezione di scatti che raccontano il fronte Italo-Austroungarico durante la Prima guerra mondiale: la mostra\, dedicata al ricordo dei caduti\, illustra le cicatrici lasciate nel terreno sui campi di battaglia lungo l’arco alpino dalla Slovenia alla Lombardia\, fino ai Monti Carpazi.La mostra è stata realizzata con il patrocinio di: Commissione Europea; Struttura di Missione della Presidenza del Consiglio dei Ministri per la commemorazione degli anniversari di interesse nazionale; Associazione Nazionale Alpini; Club Alpino Italiano; Erasmus Student Network Italia; Fondazione Pot Miru “Sentiero della Pace”; Ufficio Nazionale per il Turismo Sloveno; Comitato per il Centenario in seno al Gruppo Alpini Milano Centro; The International Propeller Club – Port of Milano. Con il supporto di Spada Media Group e BCC Credito Cooperativo Milano.\nInaugurazione: martedì 17 settembre 2019\, ore 19.30\nIntroduce e modera:• Anna Lonati\, Fondazione ISEC\nIntervengono:• Alessio Franconi\, autore• Nicolò Donati\, archeologo\nFondazione ISEC | Villa MyliusLargo La Marmora 17\, Sesto San Giovanni (MM1 Sesto Rondò)18 settembre – 4 ottobre 2019Orario di apertura: da lunedì a venerdì\, ore 9.30/12.30 – 14.00/17.00INGRESSO LIBERO
URL:https://www.sissco.it/calendario/si-combatteva-qui-sulle-orme-della-grande-guerra/
LOCATION:Fondazione ISEC\, Largo La Marmora 17\, Sesto San Giovanni\, Italia
CATEGORIES:Inaugurazione di evento culturale
ORGANIZER;CN="Sara Zanisi":MAILTO:comunicazione@fondazioneisec.it
END:VEVENT
BEGIN:VEVENT
DTSTART;TZID=Europe/Rome:20190921T143000
DTEND;TZID=Europe/Rome:20190921T235900
DTSTAMP:20260422T231436
CREATED:20190914T113936Z
LAST-MODIFIED:20190914T113936Z
UID:10002023-1569076200-1569110340@www.sissco.it
SUMMARY:La luna in rassegna
DESCRIPTION:Per le Giornate Europee del Patrimonio 2019\,\nla Biblioteca di storia moderna e contemporanea (Via Michelangelo Caetani\, 32 – Roma) organizza\, sabato 21 settembre 2019\, alle ore 14.30 e alle 16.30\, due visite guidate al Palazzo Mattei di Giove e alla mostra “La luna in rassegna”. \nIn occasione del cinquantesimo anniversario dello sbarco sulla luna\, la Biblioteca di storia moderna e contemporanea ha allestito un percorso tematico attraverso la sua raccolta di giornali e riviste.\nDalla divulgazione scientifica nelle riviste dell’Ottocento al racconto illustrato della corsa allo spazio fino alle prime pagine dedicate allo sbarco sulla luna\, la mostra conduce in un viaggio iconografico e bibliografico attraverso le collezioni di giornali e\nriviste posseduti dalla Biblioteca. \nIngresso libero fino a esaurimento posti\, previa prenotazione\nall’indirizzo bsmc.prenotazioni@gmail.com\, specificando l’ora prescelta.
URL:https://www.sissco.it/calendario/la-luna-in-rassegna-2/
LOCATION:Roma\, Biblioteca di storia moderna e contemporanea - Via M. Caetani\, 32\, Roma\, 00186\, Italia
CATEGORIES:Inaugurazione di evento culturale
ORGANIZER;CN="Oriana Rizzuto":MAILTO:b-stmo.info@beniculturali.it
END:VEVENT
END:VCALENDAR