BEGIN:VCALENDAR
VERSION:2.0
PRODID:-//SISSCO - ECPv6.15.20//NONSGML v1.0//EN
CALSCALE:GREGORIAN
METHOD:PUBLISH
X-WR-CALNAME:SISSCO
X-ORIGINAL-URL:https://www.sissco.it
X-WR-CALDESC:Eventi per SISSCO
REFRESH-INTERVAL;VALUE=DURATION:PT1H
X-Robots-Tag:noindex
X-PUBLISHED-TTL:PT1H
BEGIN:VTIMEZONE
TZID:Europe/Rome
BEGIN:DAYLIGHT
TZOFFSETFROM:+0100
TZOFFSETTO:+0200
TZNAME:CEST
DTSTART:20180325T010000
END:DAYLIGHT
BEGIN:STANDARD
TZOFFSETFROM:+0200
TZOFFSETTO:+0100
TZNAME:CET
DTSTART:20181028T010000
END:STANDARD
BEGIN:DAYLIGHT
TZOFFSETFROM:+0100
TZOFFSETTO:+0200
TZNAME:CEST
DTSTART:20190331T010000
END:DAYLIGHT
BEGIN:STANDARD
TZOFFSETFROM:+0200
TZOFFSETTO:+0100
TZNAME:CET
DTSTART:20191027T010000
END:STANDARD
BEGIN:DAYLIGHT
TZOFFSETFROM:+0100
TZOFFSETTO:+0200
TZNAME:CEST
DTSTART:20200329T010000
END:DAYLIGHT
BEGIN:STANDARD
TZOFFSETFROM:+0200
TZOFFSETTO:+0100
TZNAME:CET
DTSTART:20201025T010000
END:STANDARD
END:VTIMEZONE
BEGIN:VEVENT
DTSTART;TZID=Europe/Rome:20191212T170000
DTEND;TZID=Europe/Rome:20191212T230000
DTSTAMP:20260422T175211
CREATED:20191206T155947Z
LAST-MODIFIED:20191211T102024Z
UID:10002083-1576170000-1576191600@www.sissco.it
SUMMARY:Roma 1849: Stefano Lecchi. Il primo reportage di guerra
DESCRIPTION:Giovedì 12 dicembre 2019\, alle ore 17.00\, presso la Biblioteca di storia moderna e contemporanea (Palazzo Mattei di Giove – Via Michelangelo Caetani 32\, Roma)\, in occasione del 170° anniversario della Repubblica Romana\, sarà presentata la mostra digitale Roma 1849: Stefano\nLecchi. Il primo reportage di guerra a cura di Maria Pia Critelli e Ilaria Poggi\n(https://www.movio.beniculturali.it/bsmc/stefanolecchi/). Saluti: Patrizia Rusciani. Introduce e\ncoordina: Maria Pia Critelli. Intervengono: Agostino Bistarelli\, Maria Francesca Bonetti\, Diego\nMormorio.\nLa mostra vuole rendere possibile la consultazione delle fotografie (carte salate al bromuro di iodio)\nrealizzate nel 1849 da Stefano Lecchi e oggi possedute dalla Biblioteca di Storia moderna\ncontemporanea di Roma e dal Getty Research Institute di Los Angeles. Il pittore e fotografo\nrealizzò a Roma immediatamente dopo la caduta della Repubblica romana quello che è considerato il primo reportage di guerra finora conosciuto.\nNella mostra\, realizzata su piattaforma Movio\, alle immagini si aggiungono le schede catalografiche\ndelle singole carte salate\, le notizie biografiche sul loro autore e sui collezionisti delle fotografie\,\nspesso testimoni o protagonisti degli avvenimenti del tempo\, i testi di corredo e di approfondimento con le relative immagini. Spesso il commercio calcografico si servì delle fotografie di Lecchi come base per illustrazioni di ampia tiratura e diffusione già a partire dal 1849. Altre immagini furono realizzate da pittori soldato o da altri artisti contemporanei agli eventi. A tali opere (derivate e contemporanee) vengono dedicate specifiche sezioni.\nIl lavoro sulle immagini digitalizzate degli originali ha permesso una rilevazione più completa\, e per quanto possibile esaustiva\, del patrimonio informativo in esse contenute\, dando vita\, se vogliamo\, a un’altra mostra all’interno della mostra stessa.
URL:https://www.sissco.it/calendario/roma-1849-stefano-lecchi-il-primo-reportage-di-guerra/
LOCATION:Biblioteca di storia moderna e contemporanea\, Via Michelangelo Caetani 32\, Roma\, Italia
CATEGORIES:Inaugurazione di evento culturale
ORGANIZER;CN="Oriana Rizzuto":MAILTO:b-stmo.info@beniculturali.it
END:VEVENT
END:VCALENDAR