BEGIN:VCALENDAR
VERSION:2.0
PRODID:-//SISSCO - ECPv6.15.20//NONSGML v1.0//EN
CALSCALE:GREGORIAN
METHOD:PUBLISH
X-ORIGINAL-URL:https://www.sissco.it
X-WR-CALDESC:Eventi per SISSCO
REFRESH-INTERVAL;VALUE=DURATION:PT1H
X-Robots-Tag:noindex
X-PUBLISHED-TTL:PT1H
BEGIN:VTIMEZONE
TZID:Europe/Rome
BEGIN:DAYLIGHT
TZOFFSETFROM:+0100
TZOFFSETTO:+0200
TZNAME:CEST
DTSTART:20130331T010000
END:DAYLIGHT
BEGIN:STANDARD
TZOFFSETFROM:+0200
TZOFFSETTO:+0100
TZNAME:CET
DTSTART:20131027T010000
END:STANDARD
BEGIN:DAYLIGHT
TZOFFSETFROM:+0100
TZOFFSETTO:+0200
TZNAME:CEST
DTSTART:20140330T010000
END:DAYLIGHT
BEGIN:STANDARD
TZOFFSETFROM:+0200
TZOFFSETTO:+0100
TZNAME:CET
DTSTART:20141026T010000
END:STANDARD
BEGIN:DAYLIGHT
TZOFFSETFROM:+0100
TZOFFSETTO:+0200
TZNAME:CEST
DTSTART:20150329T010000
END:DAYLIGHT
BEGIN:STANDARD
TZOFFSETFROM:+0200
TZOFFSETTO:+0100
TZNAME:CET
DTSTART:20151025T010000
END:STANDARD
END:VTIMEZONE
BEGIN:VEVENT
DTSTART;TZID=Europe/Rome:20141027T150000
DTEND;TZID=Europe/Rome:20141027T230000
DTSTAMP:20260425T154453
CREATED:20141026T080049Z
LAST-MODIFIED:20141026T084134Z
UID:10001226-1414422000-1414450800@www.sissco.it
SUMMARY:Oltre il magnetofono. Fonti orali\, storiografia\, generazioni
DESCRIPTION:Fondazione Isec | Sesto San Giovanni | 27 ottobre 2014 ore 15\nLa Fondazione Isec\, Insmli-Istituto nazionale per la storia del movimento di Liberazione in Italia e Aiso-Associazione italiana di storia orale vi invitano alla presentazione del numero 275 di “Italia contemporanea” per discutere la sezione Studi e ricerche “Oltre il magnetofono. Fonti orali\, storiografia\, generazioni” a cura di Andrea Brazzoduro e Alessandro Casellato con contributi di Gabriella Gribaudi\, Giovanni Contini\, Roberta Garruccio\, Francesca Socrate che intervista Bruno Bonomo e Sandro Portelli.\nIntervengono: \nSara Zanisi\, Fondazione Isec e Associazione italiana di storia orale\nEnrica Asquer\, Italia contemporanea e Università degli studi di Torino\nBruno Cartosio\, Università degli studi di Bergamo\nMarcella Filippa\, Fondazione Vera Nocentini e Ismel \nSaranno presenti alcuni autori.\nIndice Italia contemporanea 275\nInvito 27 ottobre 2014 \nPer info e conferme scrivere a comunicazione@fondazioneisec.it\nFondazione Isec\, Villa Mylius\, Largo La Marmora 17\, Sesto San Giovanni | MM1 Sesto Rondò
URL:https://www.sissco.it/calendario/presentazione-di-oltre-il-magnetofono-fonti-orali-storiografia-generazioni/
LOCATION:Fondazione ISEC\, Largo La Marmora 17\, Sesto San Giovanni\, 20099\, Italia
CATEGORIES:Presentazione di libro/i
ORGANIZER;CN="Fondazione ISEC":MAILTO:sara.zanisi@gmail.com
END:VEVENT
BEGIN:VEVENT
DTSTART;VALUE=DATE:20141028
DTEND;VALUE=DATE:20141029
DTSTAMP:20260425T154453
CREATED:20141023T151929Z
LAST-MODIFIED:20141023T155157Z
UID:10001218-1414454400-1414540799@www.sissco.it
SUMMARY:Il lungo Ottocento e le sue immagini. Politica\, media\, spettacolo
DESCRIPTION:Alberto Mario Banti (Università di Pisa) – Ferdinando Fasce (Università di Genova) – Massimo Ferretti (Scuola Normale Superiore\, Pisa) \ndiscutono: \n“Il lungo Ottocento e le sue immagini. Politica\, media\, spettacolo”\na cura di Vinzia Fiorino\, Gian Luca Fruci\, Alessio Petrizzo ETS\, Pisa 2013\nModera Arnaldo Testi (Università di Pisa). Saranno presenti i curatori
URL:https://www.sissco.it/calendario/il-lungo-ottocento-e-le-sue-immagini-politica-media-spettacolo/
LOCATION:Università di Pisa\, Dipartimento di Civiltà e Forme del sapere\, Aula FIL-2\, Via Pasquale Paoli\, 15\, Pisa\, Italia
CATEGORIES:Presentazione di libro/i
ORGANIZER;CN="Alessio Petrizzo":MAILTO:alepitierre@gmail.com
END:VEVENT
BEGIN:VEVENT
DTSTART;TZID=Europe/Rome:20141028T170000
DTEND;TZID=Europe/Rome:20141028T170000
DTSTAMP:20260425T154453
CREATED:20141025T084346Z
LAST-MODIFIED:20141025T084346Z
UID:10001223-1414515600-1414515600@www.sissco.it
SUMMARY:Fronti interni
DESCRIPTION:Esperienze di guerra lontano dalla guerra\, 1914-1918 a cura di Andrea Scartabellati\, Matteo Ermacora\, Felicita Ratti Edizioni Scientifiche Italiane\, 2014 \nIntervengono: Andrea Fava\, Catia Papa \nCoordina: Rosanna De Longis \n 
URL:https://www.sissco.it/calendario/fronti-interni/
LOCATION:Biblioteca di storia moderna e contemporanea\, Via Michelangelo Caetani 32\, Roma\, Italia
CATEGORIES:Presentazione di libro/i
ORGANIZER;CN="Biblioteca di storia moderna e contemporanea":MAILTO:b-stmo.info@beniculturali.it 
END:VEVENT
BEGIN:VEVENT
DTSTART;TZID=Europe/Rome:20141029T153000
DTEND;TZID=Europe/Rome:20141029T170000
DTSTAMP:20260425T154453
CREATED:20141024T194734Z
LAST-MODIFIED:20141024T195054Z
UID:10001222-1414596600-1414602000@www.sissco.it
SUMMARY:Le biblioteche di Luigi Crocetti
DESCRIPTION:Saggi\, recensioni\, paperoles (1963-2007)\, a cura di Laura Desideri e Alberto Petrucciani\, AIB\, 2014 \nIntervengono Giovanna Merola\, Chiara Silla\, Giovanni Solimine\, Giuliana Zagra \nCoordina Simonetta Buttò \nSaranno presenti i curatori\, insieme a Silvia Alessandri e Lorenzo Mancini \nA seguire Assemblea generale degli associati AIB-Lazio \nMercoledì 29 ottobre 2014\, ore 15.30 \n  \n 
URL:https://www.sissco.it/calendario/le-biblioteche-di-luigi-crocetti/
LOCATION:Biblioteca di storia moderna e contemporanea\, Via Michelangelo Caetani 32\, Roma\, Italia
CATEGORIES:Presentazione di libro/i
ORGANIZER;CN="Biblioteca di storia moderna e contemporanea":MAILTO:b-stmo.info@beniculturali.it 
END:VEVENT
BEGIN:VEVENT
DTSTART;TZID=Europe/Rome:20141029T173000
DTEND;TZID=Europe/Rome:20141029T235900
DTSTAMP:20260425T154453
CREATED:20141025T110813Z
LAST-MODIFIED:20141025T110813Z
UID:10001224-1414603800-1414627140@www.sissco.it
SUMMARY:Moro e il PCI
DESCRIPTION:Presentazione del volume di Giovanni Mario Ceci\, Moro e il PCI. La strategia dell’attenzione e il dibattito politico italiano (1967-1969)\, Carocci\, 2013 \nInterventi di: Vera Capperucci\, Leopoldo Nuti\, Maurizio Ridolfi\, Ermanno Taviani \nPresiede: Alfonso Alfonsi\, presidente dell’Accademia Aldo Moro \nSarà presente l’Autore.
URL:https://www.sissco.it/calendario/moro-e-il-pci/
LOCATION:Biblioteca del Senato della Repubblica\, Roma\, Italia
CATEGORIES:Presentazione di libro/i
ORGANIZER;CN="Guido Panvini":MAILTO:guidopanvini@hotmail.com
END:VEVENT
BEGIN:VEVENT
DTSTART;TZID=Europe/Rome:20141030T170000
DTEND;TZID=Europe/Rome:20141030T170000
DTSTAMP:20260425T154453
CREATED:20141024T193813Z
LAST-MODIFIED:20141024T194459Z
UID:10001221-1414688400-1414688400@www.sissco.it
SUMMARY:Segni dei tempi
DESCRIPTION:Storia d’Italia nella stampa satirica dal fascismo alla Seconda repubblica\, 1919-1999 di Fabio Santilli – Centro Studi Gabriele Galantara\, 2013  \nIntervengono Paolo Brogi\, Melanton\, Angelo Ventrone \nCoordina Maria Pia Critelli \nGiovedì 30 ottobre 2014\, ore 17.00 \n 
URL:https://www.sissco.it/calendario/segni-dei-tempi/
LOCATION:Biblioteca di storia moderna e contemporanea\, Via Michelangelo Caetani 32\, Roma\, Italia
CATEGORIES:Presentazione di libro/i
ORGANIZER;CN="Biblioteca di storia moderna e contemporanea":MAILTO:b-stmo.info@beniculturali.it 
END:VEVENT
END:VCALENDAR