BEGIN:VCALENDAR
VERSION:2.0
PRODID:-//SISSCO - ECPv6.15.20//NONSGML v1.0//EN
CALSCALE:GREGORIAN
METHOD:PUBLISH
X-WR-CALNAME:SISSCO
X-ORIGINAL-URL:https://www.sissco.it
X-WR-CALDESC:Eventi per SISSCO
REFRESH-INTERVAL;VALUE=DURATION:PT1H
X-Robots-Tag:noindex
X-PUBLISHED-TTL:PT1H
BEGIN:VTIMEZONE
TZID:Europe/Rome
BEGIN:DAYLIGHT
TZOFFSETFROM:+0100
TZOFFSETTO:+0200
TZNAME:CEST
DTSTART:20140330T010000
END:DAYLIGHT
BEGIN:STANDARD
TZOFFSETFROM:+0200
TZOFFSETTO:+0100
TZNAME:CET
DTSTART:20141026T010000
END:STANDARD
BEGIN:DAYLIGHT
TZOFFSETFROM:+0100
TZOFFSETTO:+0200
TZNAME:CEST
DTSTART:20150329T010000
END:DAYLIGHT
BEGIN:STANDARD
TZOFFSETFROM:+0200
TZOFFSETTO:+0100
TZNAME:CET
DTSTART:20151025T010000
END:STANDARD
BEGIN:DAYLIGHT
TZOFFSETFROM:+0100
TZOFFSETTO:+0200
TZNAME:CEST
DTSTART:20160327T010000
END:DAYLIGHT
BEGIN:STANDARD
TZOFFSETFROM:+0200
TZOFFSETTO:+0100
TZNAME:CET
DTSTART:20161030T010000
END:STANDARD
END:VTIMEZONE
BEGIN:VEVENT
DTSTART;TZID=Europe/Rome:20150603T180000
DTEND;TZID=Europe/Rome:20150603T235900
DTSTAMP:20260425T005630
CREATED:20150528T072839Z
LAST-MODIFIED:20150528T073244Z
UID:10000119-1433354400-1433375940@www.sissco.it
SUMMARY:La costruzione dell'immagine dello Stato d'Israele nella sinistra italiana
DESCRIPTION:Discussione sul libro di Valentino Baldacci “1967. Comunisti e socialisti di fronte alla guerra dei Sei giorni”\nPresenta Diego Marangon.\nCoordinamento di Mariateresa Anfossi\n(Associazione Italia-Israele di Ventimiglia)
URL:https://www.sissco.it/calendario/la-costruzione-dellimmagine-dello-stato-disraele-nella-sinistra-italiana-2/
LOCATION:Book Cafè\, Via Hanbury\, Ventimiglia\, 18039\, Italia
CATEGORIES:Presentazione di libro/i
ORGANIZER;CN="Mariateresa Anfossi":MAILTO:a.terryvita@gmail.com
END:VEVENT
BEGIN:VEVENT
DTSTART;TZID=Europe/Rome:20150604T170000
DTEND;TZID=Europe/Rome:20150604T230000
DTSTAMP:20260425T005630
CREATED:20150529T080421Z
LAST-MODIFIED:20150604T090143Z
UID:10001368-1433437200-1433458800@www.sissco.it
SUMMARY:"Ospitare\, servire\, ristorare" di Paolo Raspadori
DESCRIPTION:Giovedì 4 giugno alle ore 17.00 si terrà presso l’Archivio di Stato di Terni la presentazione del libro di Paolo Raspadori Ospitare\, servire\, ristorare. Storia dei lavoratori di alberghi e ristoranti in Italia dalla fine dell’Ottocento alla metà del Novecento. Interverranno Stefano Cavazza e Laura Savelli. Sarà presente l’autore.
URL:https://www.sissco.it/calendario/presentazione-libro-ospitare-servire-ristorare-di-paolo-raspadori/
LOCATION:Archivio di Stato di Terni\, Palazzo Mazzancolli\, via Cavour 28\, Terni\, Italia
CATEGORIES:Presentazione di libro/i
END:VEVENT
BEGIN:VEVENT
DTSTART;TZID=Europe/Rome:20150604T180000
DTEND;TZID=Europe/Rome:20150604T235900
DTSTAMP:20260425T005630
CREATED:20150522T165913Z
LAST-MODIFIED:20150522T170256Z
UID:10000117-1433440800-1433462340@www.sissco.it
SUMMARY:Otras miradas de las revoluciones mexicanas (1810-1910)
DESCRIPTION:Presentazione del volume \nOtras miradas de las revoluciones mexicanas (1810-1910) \na cura di Hilda Iparraguirre\, Massimo De Giuseppe\, Ana Maria Gonzalez Luna \nConaculta/INAH/ENAH/Conacyt/JP Editor (México 2015) \nInterverranno i curatori insieme a Laura O’Dogherty.
URL:https://www.sissco.it/calendario/otras-miradas-de-las-revoluciones-mexicanas-1810-1910/
LOCATION:Instituto Cervantes\, via Dante\, 12 \, Milano\, 20100\, Italia
CATEGORIES:Presentazione di libro/i
ORGANIZER;CN="Massimo De Giuseppe":MAILTO:massimo.degiuseppe@iulm.it 
END:VEVENT
BEGIN:VEVENT
DTSTART;TZID=Europe/Rome:20150604T180000
DTEND;TZID=Europe/Rome:20150604T235900
DTSTAMP:20260425T005630
CREATED:20150528T124300Z
LAST-MODIFIED:20150530T102457Z
UID:10000120-1433440800-1433462340@www.sissco.it
SUMMARY:La costruzione dell'immagine dello Stato d'Israele nella sinistra italiana
DESCRIPTION:Discussione sul libro di Valentino Baldacci “1967. Comunisti e socialisti di fronte alla guerra dei Sei giornì”.\nPartecipano Aldo A. Mola e Franco Revelli. Coordina Carlo Benigni (Presidente della Federazione nazionale Associazioni Italia-Israele).
URL:https://www.sissco.it/calendario/la-costruzione-dellimmagine-dello-stato-disraele-nella-sinistra-italiana-3/
LOCATION:Libreria Ippogrifo\,\, Corso Nizza 3\, Cuneo\, 12100\, Italia
CATEGORIES:Presentazione di libro/i
ORGANIZER;CN="Carlo Benigni":MAILTO:nazionale@federazioneitaliaisraele.it
END:VEVENT
BEGIN:VEVENT
DTSTART;TZID=Europe/Rome:20150605T170000
DTEND;TZID=Europe/Rome:20150605T235900
DTSTAMP:20260425T005630
CREATED:20150524T063558Z
LAST-MODIFIED:20150524T063621Z
UID:10000118-1433523600-1433548740@www.sissco.it
SUMMARY:Le trasgressioni della carne. Il desiderio omosessuale nel mondo islamico e cristiano\, secc. XII-XX\, a cura di Umberto Grassi e Giuseppe Marcocci
DESCRIPTION:Venerdì 5 giugno 2015\, alle ore 17.00\, presso la Biblioteca di storia moderna e contemporanea (Palazzo Mattei di Giove – Via Michelangelo Caetani 32\, Roma)\, verrà presentato il volume Le trasgressioni della carne Il desiderio omosessuale nel mondo islamico e cristiano\, secc. XII-XX\, a cura di Umberto Grassi e Giuseppe Marcocci (Roma\, Viella\, 2015).\nNe discutono con i curatori: Vincenzo Lavenia\, Giacomo Todeschini\nCoordina: Domenico Rizzo \nIndice:\nUmberto Grassi e Giuseppe Marcocci\, L’intreccio dei desideri\, la tolleranza della carne: per una nuova storia delle relazioni tra musulmani e cristiani\nI. Descrizione e proibizione\nEverett K. Rowson\, Omoerotismo ed élite mamelucca tra Egitto e Siria nel tardo medioevo\nGiacomo Todeschini\, «Soddoma e Caorsa». Sterilità del peccato e produttività della natura alla fine del medioevo cristiano\nSelim S. Kuru\, Il genere del desiderio. L’amore per i bei ragazzi nella letteratura ottomana della prima età moderna\nVincenzo Lavenia\, Tra eresia e crimine contro natura: sessualità\, islamofobia e inquisizioni nell’Europa moderna\nII. Interazioni e immaginari\nTomás A. Mantecón Movellán\, Oltre la repressione: relazioni omosessuali tra musulmani e cristiani nella Spagna del Cinque e Seicento\nLuiz Mott\, Musulmani sodomiti in Portogallo e bardassi cristiani in Africa del Nord nei secoli dell’età moderna\nJean-Raphaël Bourge\, Colonialismo\, omosessualità e mondo islamico nell’immaginario erotico europeo tra Otto e Novecento\nIndice dei nomi\nGli autori
URL:https://www.sissco.it/calendario/le-trasgressioni-della-carne-il-desiderio-omosessuale-nel-mondo-islamico-e-cristiano-secc-xii-xx-a-cura-di-umberto-grassi-e-giuseppe-marcocci/
LOCATION:Biblioteca di storia moderna e contemporanea\, Via Michelangelo Caetani\, 32\, Roma\, 00186\, Italia
CATEGORIES:Presentazione di libro/i
ORGANIZER;CN="Gisella Bochicchio":MAILTO:b-stmo.info@beniculturali.it
END:VEVENT
BEGIN:VEVENT
DTSTART;TZID=Europe/Rome:20150605T170000
DTEND;TZID=Europe/Rome:20150605T235900
DTSTAMP:20260425T005630
CREATED:20150529T204743Z
LAST-MODIFIED:20150529T204743Z
UID:10001371-1433523600-1433548740@www.sissco.it
SUMMARY:Il cantiere televisivo italiano. Progetto struttura canone di Enzo Scotto Lavina
DESCRIPTION:Lunedì 8 giugno 2015\, ore 17.00\, la Biblioteca di storia moderna e contemporanea\, e l’Istituto centrale per i beni sonori e audiovisivi presenteranno\, presso l’Auditorium dell’Istituto (Palazzo Mattei di Giove – Via Michelangelo Caetani 32\, Roma)\,  il volume Il cantiere televisivo italiano. Progetto struttura canone di Enzo Scotto Lavina\, Lampi di stampa\, 2015. Intervengono: Massimo Loche\, Giuseppe Richeri. Coordina: Alberto Abruzzese. \nAl centro di questo lavoro è l’obiettivo di analizzare trent’anni di servizio pubblico televisivo in Italia\, dalla nascita nel 1952 della televisione monopolista/monocanale sotto il controllo del governo alla riforma del 1975 con reti e telegiornali titolari del loro distinto palinsesto sotto il controllo del Parlamento fino all’avvio il 15 dicembre 1979 della Terza Rete tv\, con il suo modello ideativo e produttivo regionale e nazionale; un passaggio dal singolare al plurale che non è solo un aumento quantitativo dell’offerta televisiva ma è soprattutto un diverso dispiegamento qualitativo del rapporto tra televisione e istituzioni\, tra televisione e pubblico\, tra televisione e mercato\, fino a vederne gli esiti epocali nella prima metà degli anni Ottanta. \nEnzo Scotto Lavina\, dopo la laurea in sociologia con Franco Ferrarotti nell’Istituto di filosofia dell’Università di Roma\, nel 1966 è stato esperto della Comunità Europea in Dahomey\, oggi Repubblica del Benin\, dal 1969 al 2006 ha lavorato in RAI e dal 1974 al 1983 ha collaborato con la Biennale di Venezia. Ha curato nel 1982 Venezia 32/82\, una storia dei primi cinquant’anni della Mostra del Cinema di Venezia e nel 2011 ha pubblicato Tra Sisifo e Nesso\, modelli e strutture editoriali del servizio pubblico televisivo 1954-2004.
URL:https://www.sissco.it/calendario/il-cantiere-televisivo-italiano-progetto-struttura-canone-di-enzo-scotto-lavina/
LOCATION:Biblioteca di storia moderna e contemporanea\, Via Michelangelo Caetani\, 32\, Roma\, 00186\, Italia
CATEGORIES:Presentazione di libro/i
ORGANIZER;CN="Gisella Bochicchio":MAILTO:b-stmo.info@beniculturali.it
END:VEVENT
BEGIN:VEVENT
DTSTART;TZID=Europe/Rome:20150609T200000
DTEND;TZID=Europe/Rome:20150610T235900
DTSTAMP:20260425T005630
CREATED:20150604T085637Z
LAST-MODIFIED:20150604T090028Z
UID:10001374-1433880000-1433980740@www.sissco.it
SUMMARY:La guerra italo-austriaca / Krieg in den Alpen
DESCRIPTION:Presentazione di \nKrieg in den Alpen. Österreich-Ungarn und Italien im Ersten Weltkrieg (1914–1918)\, Böhlau: Wien-Köln-Weimar 2015\nLa guerra italo-austriaca (1915-1918)\, Il Mulino: Bologna 2014 \nHrsg. von / a cura di Nicola Labanca und/e Oswald Überegger \nProgramm / Programma\n• Der Erste Weltkrieg in transnationaler Perspektive – Gedanken zum Buch\nDr. Oswald Überegger (Freie Universität Bozen / Libera Università di Bolzano)\n• Die Erinnerung an den Ersten Weltkrieg in Österreich und Italien / La memoria della Grande Guerra in Austria e Italia (1915–2015) \n  \nCome si è modificata nel corso del tempo la memoria della prima guerra mondiale in Austria e Italia? E quale significato conserva ancora nella memoria collettiva la cosiddetta “catastrofe originaria del XX secolo” a sud e a nord del Brennero? Due tra i maggiori storici della Grande guerra\, uno austriaco l’altro italiano\, getteranno uno sguardo su 100 anni di storia della memoria. \n  \nKurzvorträge / Brevi relazioni: Prof. Nicola Labanca (Università degli Studi di Siena) und / e Prof. Werner Suppanz (Universität Graz) \n  \nTermine/Appuntamenti \n \n9. Juni 2015\, 20.00 \nLandesbibliothek Dr. Friedrich Teßmann\, Bozen / Bolzano\nVia A.-Diaz-Straße 8 \nIn Zusammenarbeit mit / In collaborazione con: Landesbibliothek Dr. Friedrich Teßmann und/e Geschichte und Region / Storia e regione \nGrußworte / Saluti \nProf. Walter Lorenz (Rektor der Freien Universität Bozen)\, Philipp Achammer (Landesrat für Deutsche Bildung und Kultur)\, dott. Christian Tommasini (Assessore provinciale alla cultura italiana)\, Dr. Florian Mussner (Landesrat für Ladinische Bildung und Kultur) \n10. Juni 2015\, 18.00\nClaudiasaal\, Herzog-Friedrich-Straße 3/2\, Innsbruck \nIn Zusammenarbeit mit dem Institut für Geschichtswissenschaften und Europäische Ethnologie und dem Italien-Zentrum der Universität Innsbruck  \nGrußworte \nProf. Wolfgang Meixner (Vizerektor der Leopold-Franzens-Universität Innsbruck)\n  \n 
URL:https://www.sissco.it/calendario/la-guerra-italo-austriaca-krieg-in-den-alpen/
LOCATION:–\, Vedi descrizione\, Bolzano / Innsbruck\, Italia
CATEGORIES:Presentazione di libro/i
END:VEVENT
BEGIN:VEVENT
DTSTART;TZID=Europe/Rome:20150611T170000
DTEND;TZID=Europe/Rome:20150611T235900
DTSTAMP:20260425T005630
CREATED:20150608T074055Z
LAST-MODIFIED:20150608T074055Z
UID:10000122-1434042000-1434067140@www.sissco.it
SUMMARY:Umani diritti. Teoria e prassi delle libertà fondamentali. A cura di Simonetta Bisi
DESCRIPTION:Giovedì 11 giugno 2015\, alle ore 17.00\, presso la Biblioteca di storia moderna e contemporanea (Palazzo Mattei di Giove – Via Michelangelo Caetani 32\, Roma)\, verrà presentato il volume Umani diritti. Teoria e prassi delle libertà fondamentali. A cura di Simonetta Bisi\, Bordeaux\, 2015. Introduce: Antonio Iodice. Intervengono: Giuseppe Cassini\, Massimo De Simoni\, Nicola Porro. Coordina: Lauro Rossi.  \nIl volume è frutto di una ricerca promossa e finanziata dall’Istituto di Studi Politici “S. Pio V”. \nC’è un lusso che non possiamo per metterci: pensare che quello sui diritti umani sia un discorso teorico\, come un programma lastricato di buone intenzioni ma in fondo irrealizzabile. Se cosi? fosse\, essi sarebbero non solo inutili\, ma probabilmente anche dannosi. Quelli che vengono chiamati “diritti umani” riguardano invece le liberta? fondamentali e\, in quanto tali\, hanno una dimensione concreta. \nSimonetta Bisi è professore associato di Sociologia generale presso la Sapienza – Università di Roma. Ha scritto numerose monografie e articoli sugli aspetti quantitativi e qualitativi dei fenomeni contemporanei\, tra cui si ricorda: Quasi umani. I richiedenti asilo in Italia (curatela con Eva Pföstl)\, 2014; Non solo Balotelli. Le Seconde Generazioni in Italia (curatela con Eva Pföstl)\, 2013; La città degli “altri”. Tecniche di (dis)integrazione scolastica (a cura di)\, 2012; Genere e identità. La personal home page nel mondo accademico\, 2009; Genere e potere. Per una rifondazione delle scienze umane (a cura di)\, 2008; Le forme del conoscere. I dati nella ricerca empirica\, 2006
URL:https://www.sissco.it/calendario/umani-diritti-teoria-e-prassi-delle-liberta-fondamentali-a-cura-di-simonetta-bisi/
LOCATION:Biblioteca di storia moderna e contemporanea\, Via Michelangelo Caetani\, 32\, Roma\, 00186\, Italia
CATEGORIES:Presentazione di libro/i
ORGANIZER;CN="Gisella Bochicchio":MAILTO:b-stmo.info@beniculturali.it
END:VEVENT
BEGIN:VEVENT
DTSTART;TZID=Europe/Rome:20150615T170000
DTEND;TZID=Europe/Rome:20150615T235900
DTSTAMP:20260425T005630
CREATED:20150530T174422Z
LAST-MODIFIED:20150530T174449Z
UID:10001372-1434387600-1434412740@www.sissco.it
SUMMARY:"NON SOLO CANZONETTE. L'Italia della Ricostruzione e del Miracolo attraverso il Festival di Sanremo"
DESCRIPTION:Lunedì’ 15 giugno alla Fondazione Einaudi di Torino si terrà la presentazione del nuovo saggio storico di Leonardo Campus: “NON SOLO CANZONETTE. L’Italia della Ricostruzione e del Miracolo attraverso il Festival di Sanremo” (Le Monnier\, 2015\, pp.303). \nIl libro\, aperto dalla nota introduttiva di Stefano Bollani\, ricostruisce un periodo cruciale della storia recente italiana attraverso una fonte inusuale ma preziosa: le canzoni del Festival di Sanremo. \nCon l’autore ne discuteranno gli storici dell’Università di Torino Giovanni De Luna e Paolo Soddu e il saggista Marco Peroni\, già autore a sua volta di un libro sull’uso storiografico delle canzoni. \nVi aspettiamo!
URL:https://www.sissco.it/calendario/non-solo-canzonette-litalia-della-ricostruzione-e-del-miracolo-attraverso-il-festival-di-sanremo/
LOCATION:Fondazione Luigi Einaudi (Palazzo d’Azeglio)\, Via principe Amedeo 34\, Torino\, Italia
CATEGORIES:Presentazione di libro/i
END:VEVENT
BEGIN:VEVENT
DTSTART;TZID=Europe/Rome:20150615T170000
DTEND;TZID=Europe/Rome:20150615T235900
DTSTAMP:20260425T005630
CREATED:20150608T073848Z
LAST-MODIFIED:20150608T073848Z
UID:10000121-1434387600-1434412740@www.sissco.it
SUMMARY:Emma Schiavon\, Interventiste nella Grande guerra. Assistenza\, propaganda\, lotta per i diritti a Milano e in Italia\, 1911-1919
DESCRIPTION:Lunedì 15 giugno 2015\, alle ore 17.00\, presso la Biblioteca di storia moderna e contemporanea (Palazzo Mattei di Giove – Via Michelangelo Caetani 32\, Roma)\, verrà presentato il volume di Emma Schiavon\, Interventiste nella Grande guerra. Assistenza\, propaganda\, lotta per i diritti a Milano e in Italia\, 1911-1919 (Firenze\, Le Monnier\, 2015). Intervengono: Paola Di Cori\, Catia Papa. Coordina: Rosanna De Longis.  \nAllo scoppio della prima guerra mondiale molte donne\, soprattutto di ceto medio\, appoggiarono con convinzione lo sforzo bellico dei rispettivi governi\, e altrettanto fecero i principali movimenti femministi europei. Dappertutto le organizzazioni femministe assunsero un ruolo cruciale nel controllo del fronte interno\, nato insieme alla guerra di massa\, e molte militanti andarono a ricoprire incarichi di responsabilità del tutto inusuali. Il presente lavoro indaga per la prima volta l’interventismo femminile e femminista italiano\, le questioni politiche sollevate dal movimento delle donne durante la guerra e il ruolo cruciale giocato all’interno dei Comitati di assistenza civile\, a partire dalla città di Milano\, per allargare lo sguardo su tutto il panorama nazionale. L’interventismo femminista voleva senz’altro opporsi al militarismo tedesco\, ma aveva soprattutto obiettivi propri in ordine all’integrazione delle donne nello stato nazionale\, in particolare la conquista dei diritti civili\, economici e politici ancora completamente negati alle italiane. \nEmma Schiavon ha studiato il nesso donne-guerra-cittadinanza in vari contesti e pubblicato articoli e saggi sul tema nelle riviste «Passato e presente»\, «Genesis»\, «DWF». Sulle lotte per il suffragio ha invece recentemente pubblicato Torino 1911. Il primo congresso pro suffragio femminile a cinquant’anni dall’Unità (2012). Collabora con il Cirsde (Centro interdipartimentale di studi delle donne dell’Università di Torino)\, fa parte della Società italiana delle storiche ed è fra le fondatrici dell’Ardp (Archivio delle donne in Piemonte).
URL:https://www.sissco.it/calendario/emma-schiavon-interventiste-nella-grande-guerra-assistenza-propaganda-lotta-per-i-diritti-a-milano-e-in-italia-1911-1919/
LOCATION:Biblioteca di storia moderna e contemporanea\, Via Michelangelo Caetani\, 32\, Roma\, 00186\, Italia
CATEGORIES:Presentazione di libro/i
ORGANIZER;CN="Gisella Bochicchio":MAILTO:b-stmo.info@beniculturali.it
END:VEVENT
BEGIN:VEVENT
DTSTART;TZID=Europe/Rome:20150618T170000
DTEND;TZID=Europe/Rome:20150618T235900
DTSTAMP:20260425T005630
CREATED:20150611T034941Z
LAST-MODIFIED:20150611T034941Z
UID:10000124-1434646800-1434671940@www.sissco.it
SUMMARY:Togliatti e la democrazia. Scritti scelti\, di Sergio Gentili e Aldo Pirone
DESCRIPTION:Giovedì 18 giugno 2015\, alle ore 17.00\, presso la Biblioteca di storia moderna e contemporanea (Palazzo Mattei di Giove – Via Michelangelo Caetani 32\, Roma)\, verrà presentato il volume Togliatti e la democrazia. Scritti scelti di Sergio Gentili e Aldo Pirone\, Bordeaux\, 2014. Ne parlano con gli autori: Carlo Felice Casula\, Alfredo D?Attorre. \nPossiamo annoverare Togliatti fra i fondatori della democrazia italiana? In che modo la Svolta di Salerno contribuì alla costruzione della rappresentanza democratica in Italia? Perché fu osteggiato da più parti\, a Mosca come a Roma? Un racconto di storia\, di politica e di scelte di vita che\, attraverso gli scritti di Palmiro Togliatti\, ci restituisce il significato e il valore di ?democrazia? e di ?uguaglianza?. Una critica all?oblio sceso sulla nostra storia nazionale\, sull?antifascismo\, sulla nascita della nostra Carta costituzionale: in una parola\, sulla conquista della democrazia. \nSergio Gentili\, dirigente Pci delle Frattocchie e dell?Istituto di formazione politica ?Palmiro Togliatti?\, deputato per il Pds/Ds\, ha partecipato alla stesura del ?Manifesto dei valori? del Pd e alla fondazione dell?associazione Ecologisti Democratici. Ha scritto: Ecologia e Sinistra. Un incontro difficile (2002)\, La buona politica. Il PCI\, la Liberazione e la Rivoluzione democratica (2012)\, Dal Pd al Partito democratico (2013).   \nAldo Pirone ha lavorato all?Unità\, a Paese sera e all?Agenzia Ansa. Iscrittosi giovanissimo alla Federazione giovanile comunista (Fgci) ne è stato dirigente così come del Pci. Alla fine degli anni Settanta è stato impegnato nella sezione organizzazione nazionale del Pci e nella commissione esteri (1981-83). È stato tra i fondatori romani della ?Sinistra ecologista?. Attualmente si occupa di problemi urbanistici\, mobilità e ambiente.
URL:https://www.sissco.it/calendario/togliatti-e-la-democrazia-scritti-scelti-di-sergio-gentili-e-aldo-pirone/
LOCATION:Biblioteca di storia moderna e contemporanea\, Via Michelangelo Caetani\, 32\, Roma\, 00186\, Italia
CATEGORIES:Presentazione di libro/i
ORGANIZER;CN="Gisella Bochicchio":MAILTO:b-stmo.info@beniculturali.it
END:VEVENT
BEGIN:VEVENT
DTSTART;TZID=Europe/Rome:20150624T170000
DTEND;TZID=Europe/Rome:20150624T235900
DTSTAMP:20260425T005630
CREATED:20150620T041121Z
LAST-MODIFIED:20150620T041121Z
UID:10000126-1435165200-1435190340@www.sissco.it
SUMMARY:Storia della scuola in Italia. Dall'Unità a oggi\, di Giuseppe Ricuperati
DESCRIPTION:Mercoledì 24 giugno 2015\, alle ore 17.00\, in collaborazione con l’Istituto storico italiano per l’età moderna e contemporanea\, presso la Biblioteca di storia moderna e contemporanea (Palazzo Mattei di Giove – Via Michelangelo Caetani 32\, Roma)\, verrà presentato il volume Storia della scuola in Italia. Dall’Unità a oggi di Giuseppe Ricuperati\, La Scuola\, 2015. Intervengono: Luigi Berlinguer\, Maria Chiara Carrozza\, Mauro Moretti\, Marcello Verga. Coordina: Rosanna De Longis.
URL:https://www.sissco.it/calendario/storia-della-scuola-in-italia-dallunita-a-oggi-di-giuseppe-ricuperati/
LOCATION:Biblioteca di storia moderna e contemporanea\, Via Michelangelo Caetani\, 32\, Roma\, 00186\, Italia
CATEGORIES:Presentazione di libro/i
ORGANIZER;CN="Gisella Bochicchio":MAILTO:b-stmo.info@beniculturali.it
END:VEVENT
BEGIN:VEVENT
DTSTART;TZID=Europe/Rome:20150626T203000
DTEND;TZID=Europe/Rome:20150626T235900
DTSTAMP:20260425T005630
CREATED:20150619T070029Z
LAST-MODIFIED:20150619T070029Z
UID:10000125-1435350600-1435363140@www.sissco.it
SUMMARY:"Lavoro di comunità e ricostruzione civile in Italia". Presentazione del libro di Carlo De Maria (Viella 2015)\, con Roberto Balzani e Mariuccia Salvati
DESCRIPTION:Presentazione del libro di Carlo De Maria\, Lavoro di comunità e ricostruzione civile in Italia. Margherita Zoebeli e il Centro educativo italo-svizzero di Rimini\, Viella\, Roma 2015 \nSaluto di Elisa Giovannetti\, Assessora alla Cultura del Comune di Forlì \nNe discutono con l’autore:\nRoberto Balzani\, Università di Bologna\nMariuccia Salvati\, Fondazione Basso\, Roma \nCoordina:\nPietro Caruso\, Direttore de “Il Pensiero mazziniano”
URL:https://www.sissco.it/calendario/lavoro-di-comunita-e-ricostruzione-civile-in-italia-presentazione-del-libro-di-carlo-de-maria-viella-2015-con-roberto-balzani-e-mariuccia-salvati/
LOCATION:Istituto storico della Resistenza e dell’Età contemporanea di Forlì-Cesena\, Casa Saffi\, Via Albicini\, 25\, Forlì\, 47121\, Italia
CATEGORIES:Presentazione di libro/i
ORGANIZER;CN="Istituto storico di Forl%C3%AC-Cesena":MAILTO:istorecofo@gmail.com
END:VEVENT
BEGIN:VEVENT
DTSTART;TZID=Europe/Rome:20150628T210000
DTEND;TZID=Europe/Rome:20150628T235900
DTSTAMP:20260425T005630
CREATED:20150624T151245Z
LAST-MODIFIED:20150624T151507Z
UID:10000129-1435525200-1435535940@www.sissco.it
SUMMARY:L'Italia del boom attraverso il Festival di Sanremo: NON SOLO CANZONETTE (Viterbo)
DESCRIPTION:Domenica 28 giugno alle ore ore 21.00\, nell’ambito dell’edizione 2015 del Festival culturale “Caffeina”\, verrà presentato a VITERBO (Piazza del Fosso) il saggio storico di Leonardo Campus “NON SOLO CANZONETTE. L’Italia della Ricostruzione e del Miracolo attraverso il Festival di Sanremo” (Le Monnier\, 2015\, pp. 303). \nL’autore ne discuterà con il giornalista Massimiliano Capo. \nLeonardo Campus (1980) è dottore di ricerca in Storia Contemporanea (Università La Sapienza\, Roma). Ha pubblicato studi storici in Italia e all’estero\, tra cui il libro I sei giorni che sconvolsero il mondo. La crisi dei missili di Cuba e le sue percezioni internazionali (Le Monnier\, 2014). Da anni lavora inoltre come giornalista e come autore TV per Raistoria. Ha conseguito il diploma di V anno in Pianoforte al Conservatorio Alfredo Casella de L’Aquila ed ha svolto per anni attività di musicista.
URL:https://www.sissco.it/calendario/litalia-del-boom-attraverso-il-festival-di-sanremo-non-solo-canzonette/
LOCATION:Festival Caffeina\, Piazza del Fosso\, VITERBO\, Italia
CATEGORIES:Presentazione di libro/i
END:VEVENT
BEGIN:VEVENT
DTSTART;TZID=Europe/Rome:20150630T170000
DTEND;TZID=Europe/Rome:20150630T235900
DTSTAMP:20260425T005630
CREATED:20150624T125138Z
LAST-MODIFIED:20150624T125138Z
UID:10000128-1435683600-1435708740@www.sissco.it
SUMMARY:Un socialista del Novecento. Uguaglianza\, libertà e diritti nel percorso di Lelio Basso
DESCRIPTION:Un socialista del Novecento. Uguaglianza\, libertà e diritti nel percorso di Lelio Basso \nPresentazione del libro di Chiara Giorgi\, con Stefano Rodotà\, Giacomo Marramao\, Mariuccia Salvati
URL:https://www.sissco.it/calendario/un-socialista-del-novecento-uguaglianza-liberta-e-diritti-nel-percorso-di-lelio-basso/
LOCATION:Fondazione Lelio e Lisli Basso\, via della Dogana Vecchia 5\, Roma\, 00186\, Italia
CATEGORIES:Presentazione di libro/i
END:VEVENT
END:VCALENDAR