BEGIN:VCALENDAR
VERSION:2.0
PRODID:-//SISSCO - ECPv6.15.20//NONSGML v1.0//EN
CALSCALE:GREGORIAN
METHOD:PUBLISH
X-ORIGINAL-URL:https://www.sissco.it
X-WR-CALDESC:Eventi per SISSCO
REFRESH-INTERVAL;VALUE=DURATION:PT1H
X-Robots-Tag:noindex
X-PUBLISHED-TTL:PT1H
BEGIN:VTIMEZONE
TZID:Europe/Rome
BEGIN:DAYLIGHT
TZOFFSETFROM:+0100
TZOFFSETTO:+0200
TZNAME:CEST
DTSTART:20140330T010000
END:DAYLIGHT
BEGIN:STANDARD
TZOFFSETFROM:+0200
TZOFFSETTO:+0100
TZNAME:CET
DTSTART:20141026T010000
END:STANDARD
BEGIN:DAYLIGHT
TZOFFSETFROM:+0100
TZOFFSETTO:+0200
TZNAME:CEST
DTSTART:20150329T010000
END:DAYLIGHT
BEGIN:STANDARD
TZOFFSETFROM:+0200
TZOFFSETTO:+0100
TZNAME:CET
DTSTART:20151025T010000
END:STANDARD
BEGIN:DAYLIGHT
TZOFFSETFROM:+0100
TZOFFSETTO:+0200
TZNAME:CEST
DTSTART:20160327T010000
END:DAYLIGHT
BEGIN:STANDARD
TZOFFSETFROM:+0200
TZOFFSETTO:+0100
TZNAME:CET
DTSTART:20161030T010000
END:STANDARD
END:VTIMEZONE
BEGIN:VEVENT
DTSTART;TZID=Europe/Rome:20150707T174500
DTEND;TZID=Europe/Rome:20150707T235900
DTSTAMP:20260424T230046
CREATED:20150701T142623Z
LAST-MODIFIED:20150701T142623Z
UID:10001376-1436291100-1436313540@www.sissco.it
SUMMARY:iniziativa a partire dal volume Abbasso la guerra. Neutralisti in piazza alla vigilia della Prima guerra mondiale in Italia
DESCRIPTION:“Il diritto all’informazione e il racconto della storia: a cent’anni dalla Grande Guerra. Riflessione a partire dal volume Abbasso la guerra. Neutralisti in piazza alla vigilia della Prima guerra mondiale in Italia\, a cura di Fulvio Cammarano\, Le Monnier 2015”.  \n  \nIntervengono: \nFulvio Cammarano \nMarco De Nicolò \nMaria Antonietta Mongiu \nMarco Pignotti \nCoordina Gianluca Scroccu \n  \nOrganizza il Corso di Laurea in Lingue e Comunicazione\, con il patrocinio e il contributo della Fondazione Luca Raggio\, della presidenza regione Sardegna del Fai e del Fai giovani di Cagliari
URL:https://www.sissco.it/calendario/iniziativa-a-partire-dal-volume-abbasso-la-guerra-neutralisti-in-piazza-alla-vigilia-della-prima-guerra-mondiale-in-italia/
LOCATION:Sala conferenze Search\, Largo Carlo Felice 2\, Cagliari\, Italia
CATEGORIES:Presentazione di libro/i
ORGANIZER;CN="Gianluca Scroccu":MAILTO:gianluca.scroccu@gmail.com
END:VEVENT
BEGIN:VEVENT
DTSTART;TZID=Europe/Rome:20150713T170000
DTEND;TZID=Europe/Rome:20150713T235900
DTSTAMP:20260424T230046
CREATED:20150708T070248Z
LAST-MODIFIED:20150708T070248Z
UID:10001378-1436806800-1436831940@www.sissco.it
SUMMARY:L’ITALIA CONTEMPORANEA DAGLI ANNI OTTANTA A OGGI:  ISTITUZIONI E POLITICA
DESCRIPTION:AGOSTINO GIOVAGNOLI\nGAETANO QUAGLIARIELLO\nIRENE STOLZI\nLUIGI ZANDA \nPresentano il volume\na cura di Simona Colarizi\, Agostino Giovagnoli e Paolo Pombeni \nL’ITALIA CONTEMPORANEA DAGLI ANNI OTTANTA A OGGI: ISTITUZIONI E POLITICA\nCarocci Editore \nLUNEDI 13 LUGLIO 2015 ORE 17\nBIBLIOTECA DEL SENATO “GIOVANNI SPADOLINI”\nSALA ATTI PARLAMENTARI\nROMA PIAZZA DELLA MINERVA 38 \nL’accesso alla Sala è consentito fino al raggiungimento della capienza massima.Per gli uomini è d’obbligo indossare giacca e cravatta. E’ suggerito l’accredito
URL:https://www.sissco.it/calendario/litalia-contemporanea-dagli-anni-ottanta-a-oggi-istituzioni-e-politica/
LOCATION:BIBLIOTECA DEL SENATO “GIOVANNI SPADOLINI”\, Piazza della Minerva 38\, Roma\, Italia
CATEGORIES:Presentazione di libro/i
ORGANIZER;CN="Unnamed Organizer":MAILTO:info@fondazionegramsci.org; ufficiostudipd@senato.it
END:VEVENT
END:VCALENDAR