BEGIN:VCALENDAR
VERSION:2.0
PRODID:-//SISSCO - ECPv6.15.20//NONSGML v1.0//EN
CALSCALE:GREGORIAN
METHOD:PUBLISH
X-ORIGINAL-URL:https://www.sissco.it
X-WR-CALDESC:Eventi per SISSCO
REFRESH-INTERVAL;VALUE=DURATION:PT1H
X-Robots-Tag:noindex
X-PUBLISHED-TTL:PT1H
BEGIN:VTIMEZONE
TZID:Europe/Rome
BEGIN:DAYLIGHT
TZOFFSETFROM:+0100
TZOFFSETTO:+0200
TZNAME:CEST
DTSTART:20140330T010000
END:DAYLIGHT
BEGIN:STANDARD
TZOFFSETFROM:+0200
TZOFFSETTO:+0100
TZNAME:CET
DTSTART:20141026T010000
END:STANDARD
BEGIN:DAYLIGHT
TZOFFSETFROM:+0100
TZOFFSETTO:+0200
TZNAME:CEST
DTSTART:20150329T010000
END:DAYLIGHT
BEGIN:STANDARD
TZOFFSETFROM:+0200
TZOFFSETTO:+0100
TZNAME:CET
DTSTART:20151025T010000
END:STANDARD
BEGIN:DAYLIGHT
TZOFFSETFROM:+0100
TZOFFSETTO:+0200
TZNAME:CEST
DTSTART:20160327T010000
END:DAYLIGHT
BEGIN:STANDARD
TZOFFSETFROM:+0200
TZOFFSETTO:+0100
TZNAME:CET
DTSTART:20161030T010000
END:STANDARD
END:VTIMEZONE
BEGIN:VEVENT
DTSTART;TZID=Europe/Rome:20151106T170000
DTEND;TZID=Europe/Rome:20151106T235900
DTSTAMP:20260424T153401
CREATED:20151022T150206Z
LAST-MODIFIED:20151113T220623Z
UID:10001411-1446829200-1446854340@www.sissco.it
SUMMARY:Giornalisti e stampa periodica nel ‘dopofascismo’
DESCRIPTION:Venerdì 6 novembre 2015 alle ore 17.00\, presso la Biblioteca di storia moderna e contemporanea (Palazzo Mattei di Giove – Via Michelangelo Caetani 32\, Roma)\, si terrà una tavola rotonda sul tema Giornalisti e stampa periodica nel ‘dopofascismo’ con Sandro Bulgarelli\, Marcello Ciocchetti\, Franco Contorbia\, coordinati da Rosanna De Longis\, in occasione della pubblicazione del catalogo Periodici italiani 1943-1950 nelle raccolte della Biblioteca di storia moderna e contemporanea\, a cura di Eugenio Semboloni e Susanna Spezia. Prefazione di Alberto Petrucciani\, Biblink\, 2015 (Collana Novecento periodico\, 8). \nGli “incunaboli dell’Italia libera”: la definizione di Alberto Petrucciani ben si attaglia a quotidiani e riviste degli anni del ‘dopofascismo’\, un periodo di straordinaria vitalità  per la stampa periodica e per la stessa attività giornalistica. Nelle aree geografiche e nei mesi di occupazione tedesca e di amministrazione repubblichina la rinascita dei periodici resta sottotraccia\, non assente né interrotta\, nei fogli clandestini\, mentre dopo la Liberazione il panorama della stampa attraverserà rapide trasformazioni.\nSulle esperienze di quello snodo cruciale per l’intera società italiana si interrogheranno i partecipanti alla tavola rotonda che prende spunto dalla pubblicazione del catalogo Periodici italiani 1943-1950 nelle raccolte della Biblioteca di storia moderna e contemporanea\, con il quale la Biblioteca ha proseguito nel lavoro di censimento e indagine critica delle proprie raccolte bibliografiche iniziato da tempo.  L’arco cronologico in base al quale sono stati selezionati i titoli descritti nel recente catalogo permette di rappresentare i momenti fondamentali che scandiscono le vicende italiane tra guerra e dopoguerra\, dall’intervento degli Alleati sui mezzi di informazione all’ampliamento degli orizzonti comunicativi\, alla nascita dell’Italia repubblicana\, alla crescita della dialettica politica e del dibattito culturale.  \nEugenio Semboloni e Susanna Spezia si occupano\, presso la Biblioteca di storia moderna e contemporanea\, dei servizi di orientamento e informazioni bibliografiche\, di catalogazione e gestione delle pubblicazioni periodiche e delle risorse digitali\nAlberto Petrucciani insegna Archivistica\, bibliografia e biblioteconomia all’Università di Roma Sapienza.  \nPer informazioni:  b-stmo.info@beniculturali.it; www.bsmc.it;
URL:https://www.sissco.it/calendario/giornalisti-e-stampa-periodica-nel-dopofascismo/
LOCATION:Biblioteca di storia moderna e contemporanea\, Via Michelangelo Caetani\, 32\, Roma\, 00186\, Italia
CATEGORIES:Presentazione di libro/i
ORGANIZER;CN="Gisella Bochicchio":MAILTO:b-stmo.info@beniculturali.it
END:VEVENT
BEGIN:VEVENT
DTSTART;TZID=Europe/Rome:20151111T170000
DTEND;TZID=Europe/Rome:20151111T235900
DTSTAMP:20260424T153401
CREATED:20151014T195922Z
LAST-MODIFIED:20151014T195922Z
UID:10000157-1447261200-1447286340@www.sissco.it
SUMMARY:"Un socialista del Novecento. Uguaglianza libertà e diritti nel percorso di Lelio Basso"\, nell'ambito di "E' la nostra storia. VIII. Antifascismo\, diritti\, libertà"
DESCRIPTION:Nell’ambito di “E’ la nostra storia. VIII. Antifascismo\, diritti\, libertà” \nSimone Neri Serneri\, Leonardo Rapone e Gianpasquale Santomassimo presentano il libro di Chiara Giorgi “Un socialista del Novecento.Uguaglianza libertà e diritti nel percorso di Lelio Basso” (Carocci\, 2015).
URL:https://www.sissco.it/calendario/un-socialista-del-novecento-uguaglianza-liberta-e-diritti-nel-percorso-di-lelio-basso-nellambito-di-e-la-nostra-storia-viii-antifascismo-diritti-liberta/
LOCATION:Sala della Biblioteca – Isrt\, via Carducci 5/37\, Firenze\, 50121\, Italia
CATEGORIES:Presentazione di libro/i
ORGANIZER;CN="Istituto Storico della Resistenza in Toscana":MAILTO:isrt@istoresistenzatoscana.it
END:VEVENT
BEGIN:VEVENT
DTSTART;TZID=Europe/Rome:20151111T173000
DTEND;TZID=Europe/Rome:20151111T230000
DTSTAMP:20260424T153401
CREATED:20151109T173044Z
LAST-MODIFIED:20151111T130207Z
UID:10000170-1447263000-1447282800@www.sissco.it
SUMMARY:L’Italia mazziniana e la nascita degli Stati post asburgici
DESCRIPTION:In occasione della pubblicazione del volume Il Patto di Roma e la Legione Ceco-Slovacca. Tra Grande Guerra e Nuova Europa \nMercoledì 11 novembre 2015\, alle ore 17.30\, presso la Biblioteca di Storia Moderna e Contemporanea (Palazzo Mattei di Giove – Via Michelangelo Caetani 32\, Roma)\, si terrà una tavola rotonda sul tema: L’Italia mazziniana e la nascita degli Stati post asburgici in occasione della pubblicazione del volume Il Patto di Roma e la Legione Ceco-Slovacca. Tra Grande Guerra e Nuova Europa\, a cura di Francesco Leoncini\, Kellermann\, 2014. Intervengono: Francesco Caccamo\, Giuseppe Dierna\, Francesco Leoncini. Coordina: Federigo Argentieri. Il Patto di Roma\, siglato alla fine del “Congresso delle nazionalità oppresse dall’Impero austro-ungarico” dell’8-10 aprile 1918\, costituisce il superamento del Patto di Londra in base al quale l’Italia era entrata in guerra. La conseguente costituzione di un “Esercito Czeco-Slovaco\, unico ed autonomo posto dal punto di vista nazionale\, politico\, giuridico sotto l’autorità del Consiglio Nazionale dei Paesi Czeco-Slovachi” di Parigi\, rappresenta il risultato più rilevante di quella svolta nella politica estera italiana a favore della dissoluzione della Monarchia asburgica e per il riconoscimento del principio di nazionalità. Il volume riscopre un capitolo a lungo trascurato dalla storiografia sulla Grande Guerra e passato in sordina alla fine del conflitto\, sovrastato dalla rinnovata ostilità nei confronti degli jugoslavi e dalla pretestuosa invenzione della “vittoria mutilata”. Nello stesso tempo esso dà ampio rilievo a un passaggio decisivo della storia dei cechi e degli slovacchi che vede come protagonista\, in campo diplomatico e militare\, lo slovacco Milan Rastislav Štefánik\, personalità poliedrica\, astronomo ed aviatore\, naturalizzato francese\, particolarmente legato all’Italia. Vi è infine il recupero del coinvolgimento del Mezzogiorno e delle Isole Maggiori nell’impegno bellico.Francesco Leoncini\, studioso di storia ceco-slovacca e autorevole interprete della realtà politica e sociale della Mitteleuropa\, ha insegnato dal 1971 al 2011 all’Università Ca’ Foscari di Venezia. Tra le sue pubblicazioni: La questione dei Sudeti 1918-1938\, Liviana\, finalista al premio Acqui-Storia 1976 e tradotta in tedesco; L’opposizione all’Est 1956-1981. Raccolta di testi con introduzione e bibliografia\, Lacaita; L’Europa centrale. Conflittualità e progetto. Passato e presente tra Praga\, Budapest e Varsavia\, Cafoscarina; Alexander Dub?ek e Jan Palach. Protagonisti della storia europea; L’Europa del disincanto. Dal ’68 praghese alla crisi del neoliberismo\, entrambi da Rubbettino. Per Studio Tesi ha curato la prima edizione critica dell’opera programmatica di Tomáš Garrigue Masaryk\, La Nuova Europa. Il punto di vista slavo\, scritta nel corso del primo conflitto mondiale.
URL:https://www.sissco.it/calendario/litalia-mazziniana-e-la-nascita-degli-stati-post-asburgici-in-occasione-della-pubblicazione-del-volume-il-patto-di-roma-e-la-legione-ceco-slovacca-tra-grande-guerra-e-nuova-europa/
LOCATION:Biblioteca di storia moderna e contemporanea\, Via Michelangelo Caetani\, 32\, Roma\, 00186\, Italia
CATEGORIES:Presentazione di libro/i
ORGANIZER;CN="Gisella Bochicchio":MAILTO:b-stmo.info@beniculturali.it
END:VEVENT
BEGIN:VEVENT
DTSTART;TZID=Europe/Rome:20151116T170000
DTEND;TZID=Europe/Rome:20151116T230000
DTSTAMP:20260424T153401
CREATED:20151110T044006Z
LAST-MODIFIED:20151111T230541Z
UID:10001418-1447693200-1447714800@www.sissco.it
SUMMARY:L’immagine politica. Forme del contropotere tra cinema\, video e fotografia nell'Italia degli anni Settanta
DESCRIPTION:Lunedì 16 novembre 2015\, alle ore 17.00\, presso la Biblioteca di storia moderna e contemporanea (Palazzo Mattei di Giove Via Michelangelo Caetani 32\, Roma)\, sarà presentato il volume L’immagine politica. Forme del contropotere tra cinema\, video e fotografia nell\’Italia degli anni Settanta di Christian Uva\, Mimesis\, 2015. Ne parlano con l’autore: Guido Panvini\, Stefania Parigi\, Ermanno Taviani. \nIl libro propone una riflessione sulle articolazioni assunte dall’immagine\, in quanto strumento e terreno di lotta politica\, nel periodo delle grandi mobilitazioni sociali compreso tra la fine degli anni Sessanta e le ultime fasi del decennio successivo\, con particolare riguardo per il ’77. Calandosi all’interno di tale contesto storico\, l’indagine approfondisce la processualità e le possibili maniere d’essere dell’immagine politica in quanto modo d’espressione di un’istanza di “contropotere”\, prendendo come riferimento case studies tratti dal cinema\, dal video e dalla fotografi a (campi di ricerca al centro\, ognuno\, di uno specifico capitolo). Da questi orizzonti distinti ma non distanti emergono\, in una continua dialettica tra immagini politiche e politica delle immagini\, frammenti iconici e schegge audiovisive ora capaci di imporsi\, nel bene e nel male\, nel cosiddetto “immaginario collettivo”\, diventando veri e propri simboli di quegli anni\, ora in grado di veicolare\, in maniera più indiretta ma non per questo meno efficace\, un’autentica carica eversiva situata sul terreno dei linguaggi e delle estetiche prima ancora che su quello dei contenuti. \nChristian Uva è professore associato presso l’Università Roma Tre dove insegna Storia del cinema\, Tecnologie del cinema e dell’audiovisivo e Cinema e Storia. Ha scritto numerosi saggi sulla tecnologia digitale nel cinema e sui rapporti tra l’orizzonte iconico/audiovisivo e la storia italiana\, con particolare riguardo per gli anni Settanta. È direttore delle collane editoriali cinemaespanso (Bulzoni) e Cinema (Rubbettino). È inoltre fondatore e condirettore della rivista «Cinema e Storia» (Rubbettino). Ha pubblicato\, tra gli altri\, i seguenti volumi: Schermi di piombo. Il terrorismo nel cinema italiano (2007)\, Impronte digitali. Il cinema e le sue immagini tra regime fotografico e tecnologia numerica (Bulzoni\, 2009)\, Cinema digitale. Teorie e pratiche (2012) e Sergio Leone. Il cinema come favola politica (2013).
URL:https://www.sissco.it/calendario/limmagine-politica-forme-del-contropotere-tra-cinema-video-e-fotografia-nellitalia-degli-anni-settanta/
LOCATION:b\, Via Michelangelo Caetani\, 32\, Roma\, 00186\, Italia
CATEGORIES:Presentazione di libro/i
ORGANIZER;CN="Gisella Bochicchio":MAILTO:b-stmo.info@beniculturali.it
END:VEVENT
BEGIN:VEVENT
DTSTART;VALUE=DATE:20151117
DTEND;VALUE=DATE:20151118
DTSTAMP:20260424T153401
CREATED:20151111T102435Z
LAST-MODIFIED:20151111T225109Z
UID:10001419-1447718400-1447804799@www.sissco.it
SUMMARY:L'America a destra. L'antiamericanismo nella stampa neofascista dal Patto Atlantico alla seconda guerra del Golfo
DESCRIPTION:Gentili professori\, colleghi ed amici\, riprendono le presentazioni al St. Patrick\’s Pub di Roma. Quest\’anno\, però\, saranno i \’Martedì del St. Pat\’s\’. Presentazioni che vedono martedì 17 novembre 2015\, alle ore 18.00\, il volume di Luca Tedesco \’L\’America a destra. L\’antiamericanismo nella stampa neofascista dal Patto Atlantico alla seconda guerra del Golfo\’\, Le Lettere\, 2015. Vi aspetto numerosi\, davanti a un bel boccale di birra\, per discutere con l\’autore di questo interessante libro.\nNella speranza di avervi fatto cosa gradita\,\nVi saluto cordialmente.\nAndrea Ungari\n3387773472
URL:https://www.sissco.it/calendario/presentazione-st-patricks-pub-di-roma-martedi-17-novembre-2015-ore-18-00-luca-tedesco/
CATEGORIES:Presentazione di libro/i
ORGANIZER;CN="Andrea Ungari":MAILTO:aungari@luiss.it
END:VEVENT
BEGIN:VEVENT
DTSTART;TZID=Europe/Rome:20151117T163000
DTEND;TZID=Europe/Rome:20151117T235900
DTSTAMP:20260424T153401
CREATED:20151116T144652Z
LAST-MODIFIED:20151116T144836Z
UID:10000173-1447777800-1447804740@www.sissco.it
SUMMARY:Achille Erba\, tra ricerca storica e impegno religioso
DESCRIPTION:ACHILLE ERBA TRA STUDI STORICI E IMPEGNO RELIGIOSO \nUn profilo dell’attività scientifica e dell’impegno religioso di Achille Erba\, padre barnabita e docente dell’Università di Torino morto improvvisamente tre anni fa\, è stato tracciato in un recente libro che sarà presentato martedì 17 novembre 2015\, alle 16.30\, nella sala della Fondazione Luigi Firpo\, a Torino\, in Via Principe Amedeo\, 34. Alla presentazione del volume\, intitolato Fra ricerca storica e impegno religioso. L’opera di Achille Erba (Ed. Il Mulino)\, parteciperanno Maria Luisa Doglio\, Maurilio Guasco\, Gian Giacomo Migone\, Gian Mario Bravo e Bartolo Gariglio\, oltre alle curatrici Dora Marucco e Vincenza Zangara.\nIl libro\, pubblicato dalla Fondazione Michele Pellegrino\, raccoglie le riflessioni proposte da amici e colleghi di Achille Erba\, attraverso le quali è possibile avvicinare la personalità e l’opera di questo studioso dagli ampi interessi e dalle spiccate capacità interpretative. In appendice al volume\, sono pubblicati tre testi\, inediti o difficilmente reperibili\, che consentono di cogliere i temi e i criteri di analisi che il padre Erba proponeva per ricostruire e comprendere le trasformazioni della storia della Chiesa in epoca moderna e contemporanea. \nPer informazioni: fondazione.pellegrino@unito.it \nwww.fondazionemichelepellegrino.it/news/47-presentazione-volume-su-achille-erba.html \nwww.mulino.it/isbn/9788815257604
URL:https://www.sissco.it/calendario/achille-erba-tra-ricerca-storica-e-impegno-religioso/
LOCATION:Fondazione Luigi Firpo\, Via Principe Amedeo\, 34\, TORINO\, 10100\, Italia
CATEGORIES:Presentazione di libro/i
ORGANIZER;CN="Fondazione Michele Pellegrino":MAILTO:fondazione.pellegrino@unito.it
END:VEVENT
BEGIN:VEVENT
DTSTART;TZID=Europe/Rome:20151117T170000
DTEND;TZID=Europe/Rome:20151117T235900
DTSTAMP:20260424T153401
CREATED:20151014T200210Z
LAST-MODIFIED:20151014T200210Z
UID:10000158-1447779600-1447804740@www.sissco.it
SUMMARY:"L’eredità della Resistenza. Storia\, cultura\, politiche dal dopoguerra a oggi"\, nell'ambito di "E' la nostra storia. VIII. Antifascismo\, diritti\, libertà"
DESCRIPTION:Nell’ambito di “E’ la nostra storia. VIII. Antifascismo\, diritti\, libertà” \nFilippo Focardi\, Silvia Salvatici e Guri Schwarz presentano il libro di Philip Cooke “L’eredità della Resistenza. Storia\, cultura\, politiche dal dopoguerra a oggi”  (Viella\, 2015)
URL:https://www.sissco.it/calendario/leredita-della-resistenza-storia-cultura-politiche-dal-dopoguerra-a-oggi-nellambito-di-e-la-nostra-storia-viii-antifascismo-diritti-liberta/
LOCATION:Sala della Biblioteca – Isrt\, via Carducci 5/37\, Firenze\, 50121\, Italia
CATEGORIES:Presentazione di libro/i
ORGANIZER;CN="Istituto Storico della Resistenza in Toscana":MAILTO:isrt@istoresistenzatoscana.it
END:VEVENT
BEGIN:VEVENT
DTSTART;TZID=Europe/Rome:20151123T150000
DTEND;TZID=Europe/Rome:20151123T230000
DTSTAMP:20260424T153401
CREATED:20151111T173437Z
LAST-MODIFIED:20151116T143414Z
UID:10001420-1448290800-1448319600@www.sissco.it
SUMMARY:La "scoperta" dei disoccupati
DESCRIPTION:Presentazione del volume di MANFREDI ALBERTI\, LA “SCOPERTA” DEI DISOCCUPATI \nNe discutono con l’autore: \nAugusto De Benedetti Università di Bologna \nGiorgio Tassinari Università di Bologna \nFrancesco Garibaldo Fondazione Claudio Sabattini \nModera:\nEloisa Betti\nUniversità di Bologna\, IWM Vienna\nSegue dibattito \n 
URL:https://www.sissco.it/calendario/presentazione-del-volume-di-m-alberti-la-scoperta-dei-disoccupati/
LOCATION:BOLOGNA\, Piazza S. Giovanni in Monte\, 2\, Bologna\, 40124\, Italia
CATEGORIES:Presentazione di libro/i
END:VEVENT
BEGIN:VEVENT
DTSTART;VALUE=DATE:20151124
DTEND;VALUE=DATE:20151125
DTSTAMP:20260424T153401
CREATED:20151116T203410Z
LAST-MODIFIED:20151116T203410Z
UID:10000174-1448323200-1448409599@www.sissco.it
SUMMARY:Una concreta utopia. La costruzione sociale del lavoro fra conflitto industriale e contrattazione sindacale\, 1968-1974
DESCRIPTION:Dibattito con Renato Cecchi\, Paolo Giovannini\, Giovanni Gozzini e Simonetta Soldani a partire dal fascicolo n. 278 di “Italia Contemporanea” (agosto 2015)\, curato per la parte monografica da Pietro Causarano
URL:https://www.sissco.it/calendario/una-concreta-utopia-la-costruzione-sociale-del-lavoro-fra-conflitto-industriale-e-contrattazione-sindacale-1968-1974/
LOCATION:Polo Scienze Sociali UNIFI (Novoli – FIRENZE)\, via delle Pandette - Edificio D5 (Aula Spreafico II piano)\, FIRENZE\, Italia
CATEGORIES:Presentazione di libro/i
ORGANIZER;CN="Pitro Causarano":MAILTO:pietro.causarano@unifi.it
END:VEVENT
BEGIN:VEVENT
DTSTART;VALUE=DATE:20151124
DTEND;VALUE=DATE:20151125
DTSTAMP:20260424T153401
CREATED:20151118T093334Z
LAST-MODIFIED:20151119T134231Z
UID:10000175-1448323200-1448409599@www.sissco.it
SUMMARY:La Grande Guerra e l'Europa danubiano-balcanica
DESCRIPTION:Gentili soci e socie\,\nmartedì 24 novembre\, alle ore 18.00\, proseguono gli incontri al St. Patrick’s Pub di Roma. Verrà presentato\, infatti\, il volume “La Grande guerra e l’Europa danubiano-balcanica”\, Il Veltro\, 2015. Interverranno i professori Francesco Guida e Luca Riccardi.\nVi aspetto numerosi\, davanti a un bel boccale di birra\, per discutere su questo importante tema\, in occasione del Centenario della Grande Guerra.\nNella speranza di avervi fatto cosa gradita\,\nVi saluto cordialmente.\nAndrea Ungari 3387773472.
URL:https://www.sissco.it/calendario/st-patricks-pub-martedi-24-novembre-ore-18-00-la-grande-guerra-e-leuropa-danubiano-balcanica/
LOCATION:St. Patrick’s Pub\, Via Calabria\, 30\, Roma\, 00100\, Italia
CATEGORIES:Presentazione di libro/i
ORGANIZER;CN="Andrea Ungari":MAILTO:aungari@luiss.it
END:VEVENT
END:VCALENDAR