BEGIN:VCALENDAR
VERSION:2.0
PRODID:-//SISSCO - ECPv6.15.20//NONSGML v1.0//EN
CALSCALE:GREGORIAN
METHOD:PUBLISH
X-WR-CALNAME:SISSCO
X-ORIGINAL-URL:https://www.sissco.it
X-WR-CALDESC:Eventi per SISSCO
REFRESH-INTERVAL;VALUE=DURATION:PT1H
X-Robots-Tag:noindex
X-PUBLISHED-TTL:PT1H
BEGIN:VTIMEZONE
TZID:Europe/Rome
BEGIN:DAYLIGHT
TZOFFSETFROM:+0100
TZOFFSETTO:+0200
TZNAME:CEST
DTSTART:20150329T010000
END:DAYLIGHT
BEGIN:STANDARD
TZOFFSETFROM:+0200
TZOFFSETTO:+0100
TZNAME:CET
DTSTART:20151025T010000
END:STANDARD
BEGIN:DAYLIGHT
TZOFFSETFROM:+0100
TZOFFSETTO:+0200
TZNAME:CEST
DTSTART:20160327T010000
END:DAYLIGHT
BEGIN:STANDARD
TZOFFSETFROM:+0200
TZOFFSETTO:+0100
TZNAME:CET
DTSTART:20161030T010000
END:STANDARD
BEGIN:DAYLIGHT
TZOFFSETFROM:+0100
TZOFFSETTO:+0200
TZNAME:CEST
DTSTART:20170326T010000
END:DAYLIGHT
BEGIN:STANDARD
TZOFFSETFROM:+0200
TZOFFSETTO:+0100
TZNAME:CET
DTSTART:20171029T010000
END:STANDARD
END:VTIMEZONE
BEGIN:VEVENT
DTSTART;TZID=Europe/Rome:20160916T174500
DTEND;TZID=Europe/Rome:20160916T230000
DTSTAMP:20260423T205130
CREATED:20160908T171433Z
LAST-MODIFIED:20160911T115104Z
UID:10000289-1474047900-1474066800@www.sissco.it
SUMMARY:I nemici della Repubblica
DESCRIPTION:Il libro I nemici della Repubblica. Storia degli anni di piombo\, di Vladimiro Satta\, edito da Rizzoli\, Milano 2016\, sarà presentato venerdì 16 settembre 2016\, alle ore 17.45\, presso la Nuova Libreria Rinascita in via della Posta 7\, Brescia. Interverranno il giornalista Pino Casamassima\, il senatore prof. Paolo Corsini e il prof. Francesco Perfetti \, direttore di Nuova Storia Contemporanea. Sarà presente l’autore. 
URL:https://www.sissco.it/calendario/16-settembre-2016-brescia-presentazione-del-libro-i-nemici-della-repubblica/
LOCATION:Nuova Libreria Rinascita\, via della Posta 7\, Brescia (BS)\, 25121\, Italia
CATEGORIES:Presentazione di libro/i
ORGANIZER;CN="Vladimiro Satta":MAILTO:vladimiro.satta@gmail.com
END:VEVENT
BEGIN:VEVENT
DTSTART;TZID=Europe/Rome:20160922T180000
DTEND;TZID=Europe/Rome:20160922T230000
DTSTAMP:20260423T205130
CREATED:20160913T141341Z
LAST-MODIFIED:20160914T154339Z
UID:10001537-1474567200-1474585200@www.sissco.it
SUMMARY:Programmazione\, cultura economica e metodo di governo
DESCRIPTION:Fondazione Isec vi invita alla presentazione del volume a cura di Enzo Russo Programmazione\, cultura economica e metodo di governo (Quaderni della Fondazione Brodolini\, n. 5).\nIntervengono: \nAldo Carera\, Università Cattolica di Milano\nFabio Lavista\, Università Bocconi di Milano \nCoordina: \nAndrea Panaccione\, Università degli studi di Modena e Reggio \nSarà presente il curatore.\nFondazione Isec\, Villa Mylius\, Largo La Marmora 17\, Sesto San Giovanni (MM1 Sesto Rondò)\nInfo e prenotazioni: comunicazione@fondazioneisec.it\nScarica l’invito.
URL:https://www.sissco.it/calendario/presentazione-del-volume-programmazione-cultura-economica-e-metodo-di-governo/
LOCATION:Fondazione Isec\, Villa Mylius\, Largo La Marmora 17\, Sesto San Giovanni (MI)\, Italia
CATEGORIES:Presentazione di libro/i
ORGANIZER;CN="Sara Zanisi":MAILTO:comunicazione@fondazioneisec.it
END:VEVENT
BEGIN:VEVENT
DTSTART;TZID=Europe/Rome:20160922T180000
DTEND;TZID=Europe/Rome:20160922T230000
DTSTAMP:20260423T205130
CREATED:20160913T141509Z
LAST-MODIFIED:20160914T155205Z
UID:10001538-1474567200-1474585200@www.sissco.it
SUMMARY:Il coraggio di volare. La CUB: venticinque anni di storia del sindacato di base
DESCRIPTION:Fondazione Isec vi invita alla presentazione del volume di Piergiorgio Tiboni\, Il coraggio di volare. La CUB: venticinque anni di storia del sindacato di base (Guerini e Associati\, 2015) \nIntervengono: \n	Stefano Agnoletto\, Fondazione Isec\n	Myriam Bergamaschi\, Fodazione Isec\n	Antonio Pizzinato\, Presidente onorario Anpi Lombardia \nSarà presente l’autore. \nNell’occasione verrà inaugurata insieme all’autore la mostra fotografica “Lavoro\, società\, diritti. Fotografie di Uliano Lucas”. \nFondazione Isec\, Villa Mylius\, Largo La Marmora 17\, Sesto San Giovanni (MM1 Sesto Rondò) \nInfo e prenotazioni: comunicazione@fondazioneisec.it\nScarica l’invito
URL:https://www.sissco.it/calendario/presentazione-del-volume-di-tiboni-il-coraggio-di-volare-la-cub-venticinque-anni-di-storia-del-sindacato-di-base/
LOCATION:Fondazione Isec\, Villa Mylius\, Largo La Marmora 17\, Sesto San Giovanni (MI)\, Italia
CATEGORIES:Presentazione di libro/i
ORGANIZER;CN="Sara Zanisi":MAILTO:comunicazione@fondazioneisec.it
END:VEVENT
BEGIN:VEVENT
DTSTART;TZID=Europe/Rome:20160930T163000
DTEND;TZID=Europe/Rome:20160930T235900
DTSTAMP:20260423T205130
CREATED:20160924T134241Z
LAST-MODIFIED:20160924T134241Z
UID:10001543-1475253000-1475279940@www.sissco.it
SUMMARY:Sindacalismi\, sindacalismo
DESCRIPTION:Nell’ambito delle iniziative per la Settimana degli archivi storici\, delle biblioteche e dei centri di documentazione della Cgil\, verrà presentato a L’Aquila\, presso l’Auditorium della Cgil\, il libro di Fabrizio Loreto\, Sindacalismi\, sindacalismo. La rappresentanza del lavoro in Italia nel primo Novecento: culture\, figure\, politiche (1900-1914)\, Roma\, Ediesse\, 2015.
URL:https://www.sissco.it/calendario/sindacalismi-sindacalismo/
LOCATION:Auditorium Cgil\, Via Saragat - Località Campo di Pile\, L'Aquila\, Italia
CATEGORIES:Presentazione di libro/i
ORGANIZER;CN="Paolo Raspadori":MAILTO:paolo.raspadori@unipg.it
END:VEVENT
END:VCALENDAR