BEGIN:VCALENDAR
VERSION:2.0
PRODID:-//SISSCO - ECPv6.15.20//NONSGML v1.0//EN
CALSCALE:GREGORIAN
METHOD:PUBLISH
X-ORIGINAL-URL:https://www.sissco.it
X-WR-CALDESC:Eventi per SISSCO
REFRESH-INTERVAL;VALUE=DURATION:PT1H
X-Robots-Tag:noindex
X-PUBLISHED-TTL:PT1H
BEGIN:VTIMEZONE
TZID:Europe/Rome
BEGIN:DAYLIGHT
TZOFFSETFROM:+0100
TZOFFSETTO:+0200
TZNAME:CEST
DTSTART:20150329T010000
END:DAYLIGHT
BEGIN:STANDARD
TZOFFSETFROM:+0200
TZOFFSETTO:+0100
TZNAME:CET
DTSTART:20151025T010000
END:STANDARD
BEGIN:DAYLIGHT
TZOFFSETFROM:+0100
TZOFFSETTO:+0200
TZNAME:CEST
DTSTART:20160327T010000
END:DAYLIGHT
BEGIN:STANDARD
TZOFFSETFROM:+0200
TZOFFSETTO:+0100
TZNAME:CET
DTSTART:20161030T010000
END:STANDARD
BEGIN:DAYLIGHT
TZOFFSETFROM:+0100
TZOFFSETTO:+0200
TZNAME:CEST
DTSTART:20170326T010000
END:DAYLIGHT
BEGIN:STANDARD
TZOFFSETFROM:+0200
TZOFFSETTO:+0100
TZNAME:CET
DTSTART:20171029T010000
END:STANDARD
END:VTIMEZONE
BEGIN:VEVENT
DTSTART;TZID=Europe/Rome:20161202T170000
DTEND;TZID=Europe/Rome:20161202T235900
DTSTAMP:20260423T143546
CREATED:20161128T095357Z
LAST-MODIFIED:20161128T095357Z
UID:10000329-1480698000-1480723140@www.sissco.it
SUMMARY:Storia di Zara. Dalle origini ai giorni nostri di Lucio Toth
DESCRIPTION:Venerdì 2 dicembre 2016\, alle ore 17.00\, presso la Biblioteca di storia moderna e contemporanea (Palazzo Mattei di Giove\, Via Michelangelo Caetani 32\, Roma)\, sarà\npresentato il volume Storia di Zara. Dalle origini ai giorni nostri di Lucio Toth\, Edizioni Biblioteca dell’immagine\, 2016. Intervengono: Ester Capuzzo\, Rita\nTolomeo. Coordina: Andreas Gottsmann.\nOgni tanto il nome di Zara riappare nei giornali e la sua storia è oggetto di studi e di ricerche nelle Università\, non solo italiane o croate. Parlando della Dalmazia\, si deve ricordare per forza la sua città più antica e contesa\, che ne è stata capoluogo\, o modesta capitale di un regno mai esistito se non sulla carta. Perché nella realtà storica\, dopo Roma e Bisanzio\, è stato dominio della Corona d’Ungheria\, della Repubblica Veneta\, degli imperi napoleonico e Austro-Ungarico\, malgrado la\ncorona regale inalberata sul suo stemma con i tre leopardi in campo azzurro. In origine il campo era\nrosso. Fu Venezia a volerne cambiare il colore per non confonderlo con la porpora del gonfalone della Serenissima. Città importante da essere contesa nei secoli da potenze continentali e marittime: gli Imperi romano e bizantino\, quello carolingio\, il Regno croato e ungherese\, gli Angiò di Napoli\, gli Imperi di Napoleone e degli Asburgo\, l’Italia unita e la ex Iugoslavia. E prima fra tutte la Repubblica di San Marco\, che di questa Zara non sapeva fare a meno. C’è una marea nelle cose umane per usare le parole di Shakespeare – che ha i suoi flussi misteriosi e gioca con il destino di uomini e comunità. E di questa antica comunità\, la liburnica Idassa\, la romana Iadera\, la bizantina Diadora\, l’italiana e veneta Zara\, la croata Zadar\, si racconta in questo libro.
URL:https://www.sissco.it/calendario/storia-di-zara-dalle-origini-ai-giorni-nostri-di-lucio-toth/
LOCATION:Biblioteca di storia moderna e contemporanea\, Via Michelangelo Caetani\, 32\, Roma\, 00186\, Italia
CATEGORIES:Presentazione di libro/i
ORGANIZER;CN="Gisella Bochicchio":MAILTO:b-stmo.info@beniculturali.it
END:VEVENT
BEGIN:VEVENT
DTSTART;TZID=Europe/Rome:20161205T203000
DTEND;TZID=Europe/Rome:20161205T235900
DTSTAMP:20260423T143546
CREATED:20161129T190405Z
LAST-MODIFIED:20161129T190405Z
UID:10001579-1480969800-1480982340@www.sissco.it
SUMMARY:I nemici della Repubblica. Storia degli anni di piombo
DESCRIPTION:Lunedì 5 dicembre 2016\, alle ore 20.30\, presso la Biblioteca Comunale di Fogliano Redipuglia\, sarà presentato il libro di Vladimiro Satta I nemici della Repubblica. Storia degli anni di piombo\, Rizzoli\, Milano 2016. Interverranno Ivan Buttignon (storico e politologo)\, Enzo Kermol (ricercatore\, psicologo e giornalista) e Luca Perrino (giornalista). Sarà presente l’autore.
URL:https://www.sissco.it/calendario/i-nemici-della-repubblica-storia-degli-anni-di-piombo-4/
LOCATION:Biblioteca comunale di Fogliano Redipuglia\, via Madonnina 4\, Fogliano Redipuglia (Gorizia)\, 34070\, Italia
CATEGORIES:Presentazione di libro/i
END:VEVENT
BEGIN:VEVENT
DTSTART;TZID=Europe/Rome:20161206T100000
DTEND;TZID=Europe/Rome:20161206T235900
DTSTAMP:20260423T143546
CREATED:20161128T151049Z
LAST-MODIFIED:20161128T151049Z
UID:10000330-1481018400-1481068740@www.sissco.it
SUMMARY:La questione. Come liberare la storia del mezzogiorno dagli stereotipi
DESCRIPTION:Discussione sul libro:\nLa questione. Come liberare la storia del mezzogiorno dagli stereotipidi Salvatore Lupo. Donzelli\, Roma 2016\nIntroduceSebastiano Martelli – Università degli Studi di Salerno\nCoordinaAndrea Marino – Università degli Studi di Salerno\nIntervengonoCarmine Pinto – Università degli Studi di SalernoGiuseppe Provenzano – Vice direttore SVIMEZAmedeo Lepore – Assessore regionale all’economia\nSarà presente l’autore
URL:https://www.sissco.it/calendario/la-questione-come-liberare-la-storia-del-mezzogiorno-dagli-stereotipi/
LOCATION:Università di Salerno – Aula “G. Imbucci” DIPSUM\, via Giovanni Paolo II\, 132\, Fisciano (SALERNO)\, 84084\, Italia
CATEGORIES:Presentazione di libro/i
ORGANIZER;CN="Elio Frescani":MAILTO:seminariopermanentestoria@gmail.com
END:VEVENT
BEGIN:VEVENT
DTSTART;TZID=Europe/Rome:20161207T173000
DTEND;TZID=Europe/Rome:20161207T235900
DTSTAMP:20260423T143546
CREATED:20161001T214629Z
LAST-MODIFIED:20161001T214629Z
UID:10000296-1481131800-1481155140@www.sissco.it
SUMMARY:Onde fasciste. La propaganda araba di Radio Bari (1934-43)
DESCRIPTION:Institute of Historical Research\, London\nModern Italian History Seminar Series \nAutumn Term 2016-2017\n Conveners: Ilaria Favretto (Kingston)\, Carlotta Ferrara degli Uberti (UCL)\, Maurizio Isabella (QMUL)\, Axel Körner (UCL)\, Carl Levy (Goldsmiths).\n All meetings will take place on Wednesdays at 5:30\, Institute of Historical Research\, Senate House (Malet St\, London\, WC1E 7HU)\, unless otherwise stated (for room details\, see the list of events below). For updated information see http://www.history.ac.uk\n7 December 2016\n Book launch and discussion of:\nArturo Marzano (University of Pisa)\nOnde fasciste. La propaganda araba di Radio Bari (1934-43) (Carocci\, Roma 2015).\nDiscussants: Carlotta Ferrara degli Uberti (UCL) and Ester Lo Biundo (Reading)\n Chair: Carlotta Ferrara degli Uberti \nVenue: Past & Present room\, 202 (IHR)
URL:https://www.sissco.it/calendario/onde-fasciste-la-propaganda-araba-di-radio-bari-1934-43/
LOCATION:Institute of Historical Research\, Senate House\, Malet St\, Londra\, WC1E 7HU\, Regno Unito
CATEGORIES:Presentazione di libro/i
ORGANIZER;CN="Carlotta Ferrara degli Uberti":MAILTO:c.ferrara@ucl.ac.uk
END:VEVENT
BEGIN:VEVENT
DTSTART;TZID=Europe/Rome:20161209T170000
DTEND;TZID=Europe/Rome:20161209T235900
DTSTAMP:20260423T143546
CREATED:20161129T130718Z
LAST-MODIFIED:20161129T130718Z
UID:10001578-1481302800-1481327940@www.sissco.it
SUMMARY:Il sindaco gentile
DESCRIPTION:venerdì  9  dicembre  2016\,  alle ore 17\,00\nsala   “G. Bottiglieri”  – Provincia di Salerno\n presentazione del libro di  Marcello Ravveduto\n Il sindaco gentile\nGli appalti\, la camorra e un uomo onesto.\nLa storia di Marcello Torre \nPresiede e coordina il sen. Alfonso ANDRIA\n         Introduce:   Vittorio  SALEMME\,  della Società Salernitana di Storia Patria\nIntervengono: Gigi DI FIORE\,  inviato de “Il Mattino”\n              Alfonso CONTE\, Università di Salerno\n          Partecipa  Annamaria Torre\,  “Libera Memoria” e figlia di Marcello\n              Sarà presente  l’Autore
URL:https://www.sissco.it/calendario/il-sindaco-gentile/
LOCATION:Provincia di Salerno\, Piazza s. Agostino\, Salerno\, 84100\, Italia
CATEGORIES:Presentazione di libro/i
END:VEVENT
BEGIN:VEVENT
DTSTART;TZID=Europe/Rome:20161212T163000
DTEND;TZID=Europe/Rome:20161212T235900
DTSTAMP:20260423T143546
CREATED:20161206T071735Z
LAST-MODIFIED:20161206T071735Z
UID:10001583-1481560200-1481587140@www.sissco.it
SUMMARY:Anni Cinquanta. Il decennio più lungo del secolo breve
DESCRIPTION:Lunedì 12 dicembre 2016\, alle ore 17.00\, presso l’Auditorium dell’Istituto centrale per i beni sonori ed audiovisivi\, con la collaborazione della Biblioteca di\nstoria moderna e contemporanea (Palazzo Mattei di Giove\, Via Michelangelo Caetani 32\, Roma)\, sarà presentato il monografico 2016 della rivista “Cinema e Storia” Anni Cinquanta. Il decennio più lungo del secolo breve\, a cura di Elena Dagrada. Intervengono: Lucilla Albano\, Andrea Sangiovanni. Coordina: Claudio Lazzaro.\nSarà presente la curatrice. In occasione del quinto anniversario della rivista\, interverranno anche i\ndirettori scientifici Paolo Mattera e Christian Uva\nNella storia del cinema italiano\, gli anni Cinquanta si impongono come il decennio più lungo del secolo breve. Cominciano\, infatti\, già nel 1948 e si prolungano compatti fino alle soglie del 1960.\nDa un lato\, intrecciano la storia del cinema con quella della neonata Repubblica italiana\, che vede concretarsi i risultati più significativi del laborioso processo di ricostruzione post-bellica proprio nel 1948\, quando la parabola del neorealismo conosce la consacrazione ufficiale e al tempo stesso registra le prime avvisaglie di una crisi destinata a monopolizzare il dibattito critico – e non solo quello – per tutti gli anni Cinquanta. Dall’altro\, a fronte di un inizio anticipato così denso e coeso\, l’intero decennio procede all’insegna dei complessi scenari della Guerra Fredda\, le cui ripercussioni condizionano variamente la politica interna e la gestione politica della cultura. È in questo clima\nrovente che prende avvio il faticoso cammino verso il miracolo economico\, accompagnato dalle prime avvisaglie di una modernità nostrana e dall’emancipazione di un pubblico che al neorealismo preferisce da sempre melodrammi\, commedie e soprattutto i divi d’oltreoceano. Questo numero di «Cinema e Storia» cerca di restituire la complessità di una stagione culturale che occupa un posto\ncentrale nella storia dell’Italia repubblicana\, la cui eredità è a ben vedere ancora viva e quanto mai\nattuale.\nElena Dagrada insegna Teoria e analisi del linguaggio cinematografico e Filmologia presso il Dipartimento\ndi Beni Culturali e Ambientali dell\’Università degli Studi di Milano. Tra le sue ultime pubblicazioni si\nricordano: Le varianti trasparenti. I film con Ingrid Bergman di Roberto Rossellini (2005\, 2a ed. accresciuta\n2008)\, La grande rapina al treno. The Great Train Robbery (Edwin S. Porter\, 1903) e la storia del cinema\n(2011)\, Between the Eye and the World. The Emergence of the Point-of-View Shot (2014).
URL:https://www.sissco.it/calendario/anni-cinquanta-il-decennio-piu-lungo-del-secolo-breve/
LOCATION:Auditorium dell\’Istituto centrale per i beni sonori e audiovisivi\, Via Michelangelo Caetani\, 32\, Roma\, 00186\, Italia
CATEGORIES:Presentazione di libro/i
ORGANIZER;CN="Gisella Bochicchio":MAILTO:b-stmo.info@beniculturali.it
END:VEVENT
BEGIN:VEVENT
DTSTART;TZID=Europe/Rome:20161213T160000
DTEND;TZID=Europe/Rome:20161213T235900
DTSTAMP:20260423T143546
CREATED:20161205T093146Z
LAST-MODIFIED:20161205T093146Z
UID:10001581-1481644800-1481673540@www.sissco.it
SUMMARY:La Lega delle Autonomie 1916-2016
DESCRIPTION:Cento anni di storia del riformismo per il governo locale. \nMartedì 13 dicembre 2016\, dalle ore 16\, nella Sala della Sacrestia della Camera dei Deputati in Vicolo Valdina 3/A\, verrà presentato il volume La Lega delle Autonomie 1916-2016.  \nIntervengono: il prof. Guido Melis dell’Università di Roma; Marco Filippeschi\, Sindaco di Pisa e Presidente di Legautonomie; Oriano Giovanelli\, dell’Ufficio di presidenza di Legautonomie; Walter Tocci\, senatore\, Direttore del Centro per la Riforma dello Stato. \nSaluti di Paolo Fontanelli dell’Ufficio di Presidenza della Camera dei Deputati. \n  \n 
URL:https://www.sissco.it/calendario/la-lega-delle-autonomie-1916-2016/
CATEGORIES:Presentazione di libro/i
ORGANIZER;CN="Oscar Gaspari":MAILTO:oscggasp@gmail.com
END:VEVENT
BEGIN:VEVENT
DTSTART;TZID=Europe/Rome:20161216T170000
DTEND;TZID=Europe/Rome:20161216T235900
DTSTAMP:20260423T143546
CREATED:20161206T175330Z
LAST-MODIFIED:20161206T175330Z
UID:10001584-1481907600-1481932740@www.sissco.it
SUMMARY:Presentazione "Vite di partito"
DESCRIPTION:Venerdì 16 dicembre 2016 (ore 17)\, Sala Gigli\, Palazzo Pegaso\, via Cavour n. 4 a Firenze\npresentazione di “Vite di partito” \ncon EUGENIO GIANI\, FRANCO ANDREUCCI E VALENTINA VADI  \nGiorgio Sacchetti\, Vite di Partito. Traiettorie esistenziali nel PCI togliattiano. Priamo Bigiandi (1900-1961)\, Edizioni Scientifiche Italiane\, Napoli\, pp. 200\, euro 20.  \nPriamo Bigiandi (1900-1961) «minatore deputato» non è un dissidente\, né un eretico e né un ribelle; fedele alla linea fino alle estreme conseguenze sopporterà\, con stoicismo e senza fiatare\, la sua emarginazione politica decretata\, ufficialmente\, dalla macchina implacabile del Partito togliattiano\, ma in realtà decisa da più prosaiche e miserevoli ragioni. La sua biografia politica ci offre l’occasione per un’interessante lettura\, certo in filigrana\, di una delle tante «periferie» del PCI\, nel cuore delle cosiddette subculture «rosse». Dove la tradizione conta per la conservazione di alcuni valori\, quali solidarietà e uguaglianza\, che poi si fanno norma sociale e appartenenza comunitaria. Ma dove si formano anche nei ranghi degli apparati politici\, per permanervi a lungo\, quei piccoli mondi a sé evocati nel Mistero napoletano di Ermanno Rea. Ed è proprio lì che «improvvisamente\, un giorno\, le lancette degli orologi si bloccarono» e «la storia\, sequestrata\, cessò di respirare…». Il contesto è quello «cupo e melmoso» di una federazione comunista negli anni Cinquanta.
URL:https://www.sissco.it/calendario/presentazione-vite-di-partito-2/
LOCATION:Sala Gigli\, Palazzo del Pegaso\, Via Cavour n. 4\, Firenze\, 50129\, Italia
CATEGORIES:Presentazione di libro/i
ORGANIZER;CN="Giorgio Sacchetti":MAILTO:sacchetti.giorgio@gmail.com
END:VEVENT
BEGIN:VEVENT
DTSTART;TZID=Europe/Rome:20161216T170000
DTEND;TZID=Europe/Rome:20161216T235900
DTSTAMP:20260423T143546
CREATED:20161208T095541Z
LAST-MODIFIED:20161217T211815Z
UID:10000333-1481907600-1481932740@www.sissco.it
SUMMARY:Political Audiences. A Reception History of Early Italian Television di Damiano Garofalo
DESCRIPTION:Giovedì 15 dicembre 2016\, alle ore 17.00\, presso l’Auditorium dell’Istituto centrale per i beni sonori ed audiovisivi\, la Biblioteca di storia moderna e contemporanea e l\’Istituto centrale per i beni sonori e audiovisivi presentano il volume Political Audiences. A Reception History of Early Italian Television di Damiano Garofalo\, Mimesis International\, 2016. Intervengono: Romana Andò\, Luca Peretti\, Peter Sarram. Coordina: Vanessa Roghi.\nIl volume analizza la ricezione popolare della televisione italiana durante gli anni del cosiddetto\n“lungo” miracolo economico (1954-1969). A questo proposito\, l’autore si concentra sulla percezione del mezzo televisivo e delle prime trasmissione da parte dei pubblici cattolici e comunisti. L’analisi è stata condotta attraverso una ricerca approfondita di tutti i riferimenti ai consumi televisivi presenti nelle rubriche epistolari dei due principali rotocalchi di quegli anni: il comunista \”Vie Nuove\” e il cattolico \”Famiglia Cristiana\”. Attraverso l’analisi dei discorsi collettivi\nche hanno accompagnato l’avvento della televisione in Italia\, questo studio riflette sul ruolo di\nmediazione svolto dalla televisione e sul suo impatto nella società italiana a cavallo tra gli anni\ncinquanta e sessanta. La proposta innovativa di questo contributo\, pertanto\, è di rappresentare un\nprimo approdo verso una storia culturale della televisione italiana ancora tutta da scrivere.\nDamiano Garofalo insegna Storia della televisione e dei media presso l’Università di Padova\, l’Università di Udine e la Sapienza Università di Roma.
URL:https://www.sissco.it/calendario/political-audiences-a-reception-history-of-early-italian-television-di-damiano-garofalo/
LOCATION:Auditorium dell\’Istituto centrale per i beni sonori e audiovisivi\, Via Michelangelo Caetani\, 32\, Roma\, 00186\, Italia
CATEGORIES:Presentazione di libro/i
ORGANIZER;CN="Gisella Bochicchio":MAILTO:b-stmo.info@beniculturali.it
END:VEVENT
BEGIN:VEVENT
DTSTART;TZID=Europe/Rome:20161219T170000
DTEND;TZID=Europe/Rome:20161219T235900
DTSTAMP:20260423T143546
CREATED:20161217T213625Z
LAST-MODIFIED:20161217T213625Z
UID:10000336-1482166800-1482191940@www.sissco.it
SUMMARY:La fine del comunismo in Europa. Regimi e dissidenze (1956-1989) a cura di Tito Forcellese\, Giovanni Franchi\, Antonio Macchia
DESCRIPTION:Lunedì 19 dicembre 2016\, alle ore 17.00\, sarà presentato il volume La fine del comunismo in Europa. Regimi e dissidenze (1956-1989) a cura di Tito Forcellese\, Giovanni Franchi\, Antonio Macchia\, Rubbettino\, 2016.\nIntervengono: Francesco Bonini\, Gabriella Cotta.\nCoordina: Federigo Argentieri.
URL:https://www.sissco.it/calendario/la-fine-del-comunismo-in-europa-regimi-e-dissidenze-1956-1989-a-cura-di-tito-forcellese-giovanni-franchi-antonio-macchia/
LOCATION:Biblioteca di storia moderna e contemporanea\, Via Michelangelo Caetani\, 32\, Roma\, 00186\, Italia
CATEGORIES:Presentazione di libro/i
ORGANIZER;CN="Gisella Bochicchio":MAILTO:b-stmo.info@beniculturali.it
END:VEVENT
END:VCALENDAR