BEGIN:VCALENDAR
VERSION:2.0
PRODID:-//SISSCO - ECPv6.15.20//NONSGML v1.0//EN
CALSCALE:GREGORIAN
METHOD:PUBLISH
X-WR-CALNAME:SISSCO
X-ORIGINAL-URL:https://www.sissco.it
X-WR-CALDESC:Eventi per SISSCO
REFRESH-INTERVAL;VALUE=DURATION:PT1H
X-Robots-Tag:noindex
X-PUBLISHED-TTL:PT1H
BEGIN:VTIMEZONE
TZID:Europe/Rome
BEGIN:DAYLIGHT
TZOFFSETFROM:+0100
TZOFFSETTO:+0200
TZNAME:CEST
DTSTART:20160327T010000
END:DAYLIGHT
BEGIN:STANDARD
TZOFFSETFROM:+0200
TZOFFSETTO:+0100
TZNAME:CET
DTSTART:20161030T010000
END:STANDARD
BEGIN:DAYLIGHT
TZOFFSETFROM:+0100
TZOFFSETTO:+0200
TZNAME:CEST
DTSTART:20170326T010000
END:DAYLIGHT
BEGIN:STANDARD
TZOFFSETFROM:+0200
TZOFFSETTO:+0100
TZNAME:CET
DTSTART:20171029T010000
END:STANDARD
BEGIN:DAYLIGHT
TZOFFSETFROM:+0100
TZOFFSETTO:+0200
TZNAME:CEST
DTSTART:20180325T010000
END:DAYLIGHT
BEGIN:STANDARD
TZOFFSETFROM:+0200
TZOFFSETTO:+0100
TZNAME:CET
DTSTART:20181028T010000
END:STANDARD
END:VTIMEZONE
BEGIN:VEVENT
DTSTART;TZID=Europe/Rome:20170201T170000
DTEND;TZID=Europe/Rome:20170201T235900
DTSTAMP:20260423T110203
CREATED:20170126T122035Z
LAST-MODIFIED:20170126T122035Z
UID:10000349-1485968400-1485993540@www.sissco.it
SUMMARY:Una città in fuga. I livornesi tra sfollamento\, deportazione razziale e guerra civile (1943-1944)
DESCRIPTION:Presentazione del libro: \n“Una città in fuga. I livornesi tra sfollamento\, deportazione razziale e guerra civile (1943-1944)”\, ETS\, Pisa\, 2016 \nIntervengono: \nEnrico Acciai\, autore \nCatia Sonetti\, direttrice Istoreco
URL:https://www.sissco.it/calendario/una-citta-in-fuga-i-livornesi-tra-sfollamento-deportazione-razziale-e-guerra-civile-1943-1944/
LOCATION:Villa del Presidente\, Via Marradi\, 116\, Livorno\, Italia
CATEGORIES:Presentazione di libro/i
END:VEVENT
BEGIN:VEVENT
DTSTART;TZID=Europe/Rome:20170201T170000
DTEND;TZID=Europe/Rome:20170201T235900
DTSTAMP:20260423T110203
CREATED:20170127T205305Z
LAST-MODIFIED:20170127T205305Z
UID:10000350-1485968400-1485993540@www.sissco.it
SUMMARY:Palmiro Togliatti e il comunismo del Novecento
DESCRIPTION:Mercoledì 1° febbraio 2017\, alle ore 17.00\, presso la Biblioteca di storia moderna e contemporanea (Palazzo Mattei di Giove – Via Michelangelo Caetani 32\, Roma)\, sarà presentato il volume Palmiro Togliatti e il comunismo del Novecento\, a cura di Alexander Höbel e Salvatore Tinè\, Carocci\, 2016.\nIntervengono: Giorgio Caredda\, Claudio Natoli\, Silvio Pons.\nCoordina: Albertina Vittoria.\nSaranno presenti i curatori. \nLeader storico del PCI\, teorico della “via italiana al socialismo”\, Palmiro Togliatti è stato anche – fino al termine della sua vita – un dirigente di primo piano del movimento comunista internazionale\, al quale ha apportato un contributo rilevante e originale che non può essere disgiunto dal ruolo ricoperto nella storia italiana. La sua concezione dell’internazionalismo e del socialismo in Occidente lo colloca dunque tra le figure più interessanti\, e ancora da studiare\, del comunismo novecentesco. \nAlexander Höbel\, assegnista di ricerca in Storia contemporanea presso l’Università di Napoli “Federico II”\, collabora con la Fondazione Gramsci. Responsabile di redazione di “Studi Storici” e membro della redazione romana di “Historia Magistra”\, è autore dei libri Il Pci di Luigi Longo (1964-1969) (Napoli 2010) e Luigi Longo\, una vita partigiana (1900-1945) (Roma 2013).
URL:https://www.sissco.it/calendario/palmiro-togliatti-e-il-comunismo-del-novecento/
LOCATION:Biblioteca di storia moderna e contemporanea\, Via Michelangelo Caetani\, 32\, Roma\, 00186\, Italia
CATEGORIES:Presentazione di libro/i
ORGANIZER;CN="Gisella Bochicchio":MAILTO:b-stmo.info@beniculturali.it
END:VEVENT
BEGIN:VEVENT
DTSTART;TZID=Europe/Rome:20170207T170000
DTEND;TZID=Europe/Rome:20170207T235900
DTSTAMP:20260423T110203
CREATED:20170129T233204Z
LAST-MODIFIED:20170129T233204Z
UID:10001598-1486486800-1486511940@www.sissco.it
SUMMARY:1917. L’anno della rivoluzione
DESCRIPTION:Martedì 7 febbraio 2017\, alle ore 17.00\, presso la Biblioteca di storia moderna e contemporanea (Palazzo Mattei di Giove  – Via Michelangelo Caetani 32\, Roma)\, sarà presentato il volume 1917. L’anno della rivoluzione di Angelo d’Orsi\, Laterza\, 2016. Intervengono: Cecilia Dau Novelli\, Guido Liguori\, Raul Mordenti. Coordina: Rosanna De Longis. Sarà presente l’autore. \nIl racconto di un anno che ha cambiato la storia: Fatima e Caporetto\, il Palazzo d’Inverno e la Casa Bianca\, Lenin e Mata Hari…\nA marzo una rivoluzione ‘democratica’ costringe lo zar Nicola II ad abdicare. In aprile gli Usa fanno il loro ingresso nel conflitto mondiale\, a maggio tre pastorelli vedono una ‘Signora’ biancovestita a Fatima in Portogallo\, a luglio il capitano inglese Lawrence (detto poi d’Arabia) strappa Aqaba ai turchi e ad agosto Benedetto XV pronuncia le sue parole contro ‘l’inutile strage’ che da tre anni sta insanguinando l’Europa e il mondo. A settembre si moltiplicano gli ammutinamenti al fronte e i tumulti nelle città contro la guerra\, ad ottobre a Parigi viene fucilata Margaretha Zelle\, danzatrice nota come Mata Hari\, e contemporaneamente le truppe italiane vengono travolte a Caporetto. A novembre\, mentre i bolscevichi conquistano il Palazzo d’Inverno\, la Dichiarazione Balfour apre la strada alla creazione dello Stato di Israele e a una nuova organizzazione del Medio Oriente. A dicembre in Italia il presidente del Consiglio Orlando esorta il paese a «resistere! resistere! resistere!»…\n12 mesi per raccontare\, tra fatti e ideologie\, l’anno in cui tutto è cambiato\, in cui il Novecento si è fatto secolo\, in cui sono stati stretti nodi che ancora ci imprigionano. Un affresco mosso e dai colori forti e appassionati. 12 capitoli attraverso i quali l’autore suggerisce accostamenti inediti e riferimenti al presente\, che per tanti versi ne ha raccolto l’eredità. \nAngelo d’Orsi è professore ordinario di Storia del pensiero politico all’Università di Torino. Dirige “Historia Magistra. Rivista di storia critica”\, “Gramsciana. Rivista internazionale di studi su Antonio Gramsci”\, il FestivalStoria e collabora a varie testate giornalistiche. Tra le sue pubblicazioni: La cultura a Torino tra le due guerre (Einaudi 2000); Intellettuali nel Novecento italiano (Einaudi 2001); I chierici alla guerra. La seduzione bellica sugli intellettuali da Adua a Baghdad (Bollati Boringhieri 2005); Guernica\, 1937. Le bombe\, la barbarie\, la menzogna (Donzelli 2007); 1989. Del come la storia è cambiata\, ma in peggio (Ponte alle Grazie 2009); L’Italia delle idee. Il pensiero politico in un secolo e mezzo di storia (Bruno Mondadori 2011).
URL:https://www.sissco.it/calendario/1917-lanno-della-rivoluzione/
LOCATION:Biblioteca di storia moderna e contemporanea\, Via Michelangelo Caetani\, 32\, Roma\, 00186\, Italia
CATEGORIES:Presentazione di libro/i
ORGANIZER;CN="Gisella Bochicchio":MAILTO:b-stmo.info@beniculturali.it
END:VEVENT
BEGIN:VEVENT
DTSTART;TZID=Europe/Rome:20170208T170000
DTEND;TZID=Europe/Rome:20170208T235900
DTSTAMP:20260423T110203
CREATED:20170129T232731Z
LAST-MODIFIED:20170129T232731Z
UID:10001597-1486573200-1486598340@www.sissco.it
SUMMARY:La Grande guerra delle donne
DESCRIPTION:Mercoledì 8 febbraio 2017\, alle ore 17.00\, in collaborazione con la Società italiana delle storiche e con la Fondazione Nilde Iotti\, presso la Biblioteca di storia moderna e contemporanea (Palazzo Mattei di Giove – Via Michelangelo Caetani 32\, Roma)\, saranno presentati i volumi Donne “comuni” nell’Europa della Grande guerra\, a cura di Roberto Bianchi e Monica Pacini (n. monografico di «Genesis»\, 2016/1) e La Grande guerra delle italiane. Mobilitazioni\, diritti\, trasformazioni\, a cura di Stefania Bartoloni\, Viella\, 2016.\nIntervengono: Marina D’Amelia\, Emilio Franzina\, Alessandra Staderini. Coordina: Rosanna De Longis. \nLa totalità delle donne dei paesi belligeranti fu toccata dalla guerra: in modi diversi dagli uomini\, bambine\, fanciulle e donne dovettero fare i conti con un conflitto d i dimensioni globali che lasciò sui campi di battaglia dieci milioni di soldati\, causò un numero imprecisato di morti fra i civili\, mobilitò immense risorse economiche\, sociali e culturali\, coinvolse i paesi neutrali\, ridisegnò le carte geografiche e segnò la fine della supremazia europea sul mondo. I contributi che compongono il volume a cura di Stefania Bartoloni analizzano le reazioni femminili di fronte al conflitto e alle sue conseguenze\, e come queste influirono sulla vita delle donne\, sulla famiglia\, sul lavoro\, sull’attività politica e assistenziale\, sulle identità e le relazioni tra i generi\, sulla costruzione della memoria.\nLa ricorrenza del centenario del primo conflitto mondiale ha rappresentato – sottolineano Roberto Bianchi e Monica Pacini nell’introduzione del fascicolo di «Genesis» – “un’occasione per testare l’efficacia della griglia di analisi di genere in rapporto a le fait guerrier su un orizzonte temporale lungo e geograficamente esteso\, avendo alle spalle il bagaglio di ricerche\, interrogativi e inquietudini suscitate dalle ‘nuove guerre’ e dai massacri di massa degli ultimi venticinque anni”; il tema delle donne “comuni” nell’Europa in guerra è sembrata “una prospettiva utile per far dialogare la specificità della società italiana con quella di altri paesi mobilitati nell’avventura e nella sciagura della prima guerra totale moderna”.
URL:https://www.sissco.it/calendario/la-grande-guerra-delle-donne/
LOCATION:Biblioteca di storia moderna e contemporanea\, Via Michelangelo Caetani\, 32\, Roma\, 00186\, Italia
CATEGORIES:Presentazione di libro/i
ORGANIZER;CN="Gisella Bochicchio":MAILTO:b-stmo.info@beniculturali.it
END:VEVENT
BEGIN:VEVENT
DTSTART;TZID=Europe/Rome:20170209T170000
DTEND;TZID=Europe/Rome:20170209T235900
DTSTAMP:20260423T110203
CREATED:20170128T103701Z
LAST-MODIFIED:20170128T103701Z
UID:10001596-1486659600-1486684740@www.sissco.it
SUMMARY:Presentazione "Il dirottamento della Achille Lauro e i suoi inattesi e sorprendenti risvolti"
DESCRIPTION:Presentazione del volume di Matteo Gerlini “Il dirottamento della Achille Lauro e i suoi inattesi e sorprendenti risvolti” (Mondadori education 2016). Ne discutono con l’autore: Lucia Annunziata\, Giuliano Amato\, Luigi Cavalchini\, Leopoldo Nuti
URL:https://www.sissco.it/calendario/presentazione-il-dirottamento-della-achille-lauro-e-i-suoi-inattesi-e-sorprendenti-risvolti/
LOCATION:Istituto Luigi Sturzo – Sala Perin del Vaga\, Via delle Coppelle\, 35\, Roma\, Italia
CATEGORIES:Presentazione di libro/i
END:VEVENT
BEGIN:VEVENT
DTSTART;TZID=Europe/Rome:20170216T170000
DTEND;TZID=Europe/Rome:20170216T235900
DTSTAMP:20260423T110203
CREATED:20170204T003454Z
LAST-MODIFIED:20170204T003454Z
UID:10001602-1487264400-1487289540@www.sissco.it
SUMMARY:Il posto di ciascuno. Fratelli\, sorelle e fratellanze (XVI-XIX secolo)
DESCRIPTION:Giovedì 16 febbraio 2017\, alle ore 17.00\, in collaborazione con l’Istituto storico italiano per l’età moderna e contemporanea\, presso la Biblioteca di storia moderna e contemporanea (Palazzo Mattei di Giove – Via Michelangelo Caetani 32\, Roma)\, sarà presentato il volume Il posto di ciascuno. Fratelli\, sorelle e fratellanze (XVI-XIX secolo) di Benedetta Borello\, Viella\, 2016. Intervengono: Renata Ago\, Maria Pia Donato\, Maria Antonietta Visceglia. Coordina: Marcello Verga. Sarà presente l’autrice.\nCosa significava avere un fratello o una sorella nell’Europa di antico regime? In che modo funzionava la rete dei sostegni parentali in un mondo di rapporti poco “liquidi”\, nel quale il familismo non aveva una connotazione negativa? Questo libro affronta tali questioni osservando anzitutto come si comportavano i fratelli tra loro e quanto litigavano sulle cose di casa; ma si occupa anche dell’amore fraterno come ideale cristiano e dello spirito che animava le fratellanze di\nmestiere o che serrava i ranghi dei fratelli in armi. Ogni relazione tra fratelli e sorelle aveva e ha una\ndoppia vita: quella delle esistenze quotidiane\, che lo scavo negli archivi restituisce nella sua materialità; e quella pensata\, immaginata\, idealizzata nei discorsi e raffigurata nei dipinti. I quadri\, la disposizione delle stanze nelle piante degli architetti\, i trattati giuridici\, quelli di medicina e di geografia\, le decisioni dei tribunali e persino gli atti notarili servivano infatti a definire la posizione da ricoprire all’interno di un gruppo coeso di simili: un posto ben preciso che ciascuno poteva accettare serenamente\, avversare con violenza\, negoziare morbidamente e\, talvolta\, apertamente negare\, ma che era inequivocabilmente il suo.\nBenedetta Borello insegna storia moderna e contemporanea all’università dell’Aquila. Si è occupata a lungo di storia delle élites italiane e di storia della famiglia in Europa tra XV e XIX secolo. Tra le sue pubblicazioni: Trame sovrapposte. La socialità aristocratica e le reti di relazioni femminili a Roma\, XVII-XVIII secolo (ESI 2003)\, con Renata Ago\, Famiglie. Circuiti di beni\,\ncircolazioni di affetti in età moderna (Roma 2008)\, Pubblico e pubblici di Antico regime (Pacini\n2009).
URL:https://www.sissco.it/calendario/il-posto-di-ciascuno-fratelli-sorelle-e-fratellanze-xvi-xix-secolo/
LOCATION:Biblioteca di storia moderna e contemporanea\, Via Michelangelo Caetani\, 32\, Roma\, 00186\, Italia
CATEGORIES:Presentazione di libro/i
ORGANIZER;CN="Gisella Bochicchio":MAILTO:b-stmo.info@beniculturali.it
END:VEVENT
BEGIN:VEVENT
DTSTART;TZID=Europe/Rome:20170217T170000
DTEND;TZID=Europe/Rome:20170217T235900
DTSTAMP:20260423T110203
CREATED:20170204T003706Z
LAST-MODIFIED:20170204T003706Z
UID:10001601-1487350800-1487375940@www.sissco.it
SUMMARY:Due libri su Simone Weil
DESCRIPTION:Venerdì 17 febbraio 2017\, alle ore 17.00\, in collaborazione con Azioni Parallele e IISF (Istituto Italiano per gli Studi Filosofici) Scuola di Roma\, presso la Biblioteca di storia moderna e contemporanea (Palazzo Mattei di Giove – Via Michelangelo Caetani 32\, Roma)\, presentazione dei volumi Esistenza e storia in Simone Weil\, a cura di Luigi Antonio Manfreda\, Federica Negri\, Aldo Meccariello\, Asterios edizioni\, 2016 e\nSimone Weil. L’attenzione al reale\, di Robert Chenavier\, a cura di Federica Negri\, Asterios edizioni\, 2016. Intervengono: Gabriella Caramore\, Mario Tronti. Coordina:\nGabriella Baptist. Saranno presenti i curatori e gli autori dei due volumi.\n“Morta all’età di trentaquattro anni nel 1943\, Simone Weil ha dimostrato\, nella sua vita e nel suo\npensiero\, una tale responsabilità al tempo stesso intellettuale\, morale e politica\, da conferire alla sua\nopera un’esigenza di coerenza\, pur senza diventare mai una specie di sistema.” (R. Chenavier)\nEsistenza e storia in Simone Weil raccoglie gli atti di un convegno realizzato a Monte Porzio Catone\nil 15 e 16 Aprile 2015 Gli studiosi che hanno animato il convegno sono stati sollecitati in maniera\nprofonda da questa pensatrice coerente ed estrema del ‘900\, evidenziando il grande interesse che è\ntuttora riscontrabile nelle sue opere. La tematica del convegno posizionatasi su esistenza e storia è\nstata la sfida bella e difficile per tutti gli interventi che hanno colto le ragioni di una vita che si fa\nopera\, di un pensiero in movimento che non smette di parlarci ancora. (dall’Introduzione dei curatori)\nCiò che emerge dal volume di Chenavier è l’immagine “camaleontica” della Weil in tutta la sua stupefacente grandezza\, che l’autore tratteggia con scientifico distacco e chirurgica precisione. Il compito di consegnare al lettore l’idea di quello che è stato l’iter intellettuale ed esistenziale della Weil è affidato al primo capitolo\, Dalla “vita reale” al “paese reale”\, nel quale (volutamente) l’autore ripercorre\, senza pause e in un vortice di informazioni\, tutti i sentieri percorsi dalla Weil durante il suo cammino. È invece compito degli altri capitoli esplicitare e dare ragione dei concetti\nchiave emersi nel primo. (Luca Bianchin\, Azioni parallele http://www.azioniparallele.it/31-simone-weil/140-\nchenavier-attenzione-weil.html)
URL:https://www.sissco.it/calendario/due-libri-su-simone-weil/
LOCATION:Biblioteca di storia moderna e contemporanea\, Via Michelangelo Caetani\, 32\, Roma\, 00186\, Italia
CATEGORIES:Presentazione di libro/i
ORGANIZER;CN="Gisella Bochicchio":MAILTO:b-stmo.info@beniculturali.it
END:VEVENT
BEGIN:VEVENT
DTSTART;TZID=Europe/Rome:20170220T210000
DTEND;TZID=Europe/Rome:20170220T235900
DTSTAMP:20260423T110203
CREATED:20170210T182055Z
LAST-MODIFIED:20170210T182619Z
UID:10000360-1487624400-1487635140@www.sissco.it
SUMMARY:«"Sembrava nevicasse" La Eternit di Casale Monferrato e la Fibronit di Broni: due comunità di fronte all'amianto» di Bruno Ziglioli
DESCRIPTION:“Sembrava nevicasse”\n  La Eternit di Casale Monferrato e la Fibronit di Broni: due comunità di fronte all’amianto\n(FrancoAngeli 2016)\n di Bruno Ziglioli \nPresentano il volume\n Paolo Mazzarello e Michele Rostan (Università di Pavia) \nCoordina Marina Tesoro (Università di Pavia) \nSarà presente l’Autore \n  \nOre 21 \n 
URL:https://www.sissco.it/calendario/sembrava-nevicasse-la-eternit-di-casale-monferrato-e-la-fibronit-di-broni-due-comunita-di-fronte-allamianto-di-bruno-ziglioli/
LOCATION:Collegio Ghislieri – Aula Goldoniana\, piazza Ghislieri 5\, Pavia\, 27100\, Italia
CATEGORIES:Presentazione di libro/i
END:VEVENT
BEGIN:VEVENT
DTSTART;TZID=Europe/Rome:20170223T170000
DTEND;TZID=Europe/Rome:20170223T235900
DTSTAMP:20260423T110203
CREATED:20170206T133311Z
LAST-MODIFIED:20170206T133311Z
UID:10001603-1487869200-1487894340@www.sissco.it
SUMMARY:Dal libero scambio all’autarchia. Gino Borgatta e gli «interessi dell’economia nazionale»
DESCRIPTION:Giovedì 23 febbraio 2017\, alle ore 17.00\, presso la Biblioteca di storia moderna e contemporanea (Palazzo Mattei di Giove – Via Michelangelo Caetani 32\, Roma)\, sarà presentato il volume Dal libero scambio all’autarchia. Gino Borgatta e gli «interessi dell’economia nazionale» di Luca Tedesco\, Aracne\, 2016. Intervengono: Manfredi Alberti\, Simone Misiani. Coordina: Giovanni Farese. Sarà presente l’autore. \nGino Borgatta è stato oggetto di interesse da parte della comunità scientifica italiana e internazionale soprattutto in relazione ai suoi studi di sociologia finanziaria. Meno indagato è stato invece il lavoro svolto dall’economista aostano\, allievo di Vilfredo Pareto e Luigi Einaudi\, in materia di politica commerciale\, ambito in cui ha ricoperto un ruolo rilevante sia sotto il profilo scientifico che politico. Le analisi di Borgatta circa il protezionismo cerealicolo e siderurgico\, infatti\, inaugurarono una ricca stagione di studi\, mentre indubbiamente originale fu la sua proposta in tema di autarchia negli anni Trenta. La stessa proposta sarebbe stata veicolata sulla grande stampa d’opinione\, facendo di Borgatta un infaticabile opinion maker. \nLuca Tedesco\, già docente Erasmus presso la Freie Universität di Berlino e Professore associato in Storia contemporanea presso l’Università degli Studi Roma Tre\, dirige la collana Liberismi italiani dell’Istituto Bruno Leoni di Torino. Ha pubblicato diverse monografie e articoli sulla storia del pensiero economico\, tra cui Il protezionismo come irrazionalità economica e “sentimento di egoismo patriottico” nell’analisi e nella denuncia di Gino Borgatta sulla grande stampa d’opinione\, 2016; Gino Borgatta e la crisi economica degli anni Trenta tra protezionismo condizionato e autarchia inderogabile\, in «Il pensiero economico italiano»\, 1\, 2012; Il canto del cigno del liberoscambismo: la Lega antiprotezionista e il suo primo convegno nazionale\, 2008; Un tentativo di fronte “padronale”: la Confintesa (1956-1958)\, in «Ventunesimo Secolo»\, 15\, 2008 e L’alternativa liberista. Crisi di fine secolo\, antiprotezionismo e finanza democratica nei liberisti radicali (1898–1904)\, 2002.
URL:https://www.sissco.it/calendario/dal-libero-scambio-allautarchia-gino-borgatta-e-gli-interessi-delleconomia-nazionale/
LOCATION:Biblioteca di storia moderna e contemporanea\, Via Michelangelo Caetani\, 32\, Roma\, 00186\, Italia
CATEGORIES:Presentazione di libro/i
ORGANIZER;CN="Gisella Bochicchio":MAILTO:b-stmo.info@beniculturali.it
END:VEVENT
BEGIN:VEVENT
DTSTART;TZID=Europe/Rome:20170223T180000
DTEND;TZID=Europe/Rome:20170223T235900
DTSTAMP:20260423T110203
CREATED:20170213T131109Z
LAST-MODIFIED:20170213T131109Z
UID:10000353-1487872800-1487894340@www.sissco.it
SUMMARY:Giovanni Pirelli intellettuale del Novecento
DESCRIPTION:Fondazione ISEC vi invita alla Libreria Utopia (Milano) per un dialogo sul volume Giovanni Pirelli intellettuale del Novecento (ISEC-Mimesis edizioni\, 2016) a cura di Mariamargherita Scotti:\nGiovanni Scirocco (Università degli studi di Bergamo)\ndialogherà con la curatrice.\nCoordina l’incontro Lucio Morawetz (Libreria Utopia)\n \nSaranno presenti gli autori: Clara Amodeo\, Rachel Love\, Giuseppe Lupo\, Tullio Ottolini\, Pablo Rossi Doria\, Alberto Saibene\, Gabriella Solaro\n \n \nGiovedì 23 febbraio 2017 ore 18\nLibreria Utopia\, Via Marsala 2\, Milano
URL:https://www.sissco.it/calendario/giovanni-pirelli-intellettuale-del-novecento/
LOCATION:Milano\, Libreria Utopia\, Via Marsala 2\, Milano\, Italia
CATEGORIES:Presentazione di libro/i
ORGANIZER;CN="Sara Zanisi":MAILTO:comunicazione@fondazioneisec.it
END:VEVENT
BEGIN:VEVENT
DTSTART;TZID=Europe/Rome:20170224T180000
DTEND;TZID=Europe/Rome:20170224T235900
DTSTAMP:20260423T110203
CREATED:20170214T184816Z
LAST-MODIFIED:20170214T184816Z
UID:10000354-1487959200-1487980740@www.sissco.it
SUMMARY:Nuova presentazione a Roma de I nemici della Repubblica. Storia degli anni di piombo
DESCRIPTION:Venerdì 24 febbraio 2017 alle ore 18.00\, a Roma\, presso la libreria Coreander di Piazza San Giovanni in Laterano 62\, Massimo Teodori e Vittorio Vidotto presenteranno il volume di Vladimiro Satta I nemici della Repubblica. Storia degli anni di piombo\, Rizzoli\, Milano 2016. Sarà presente l’autore.\n  \n 
URL:https://www.sissco.it/calendario/nuova-presentazione-a-roma-de-i-nemici-della-repubblica-storia-degli-anni-di-piombo/
CATEGORIES:Presentazione di libro/i
ORGANIZER;CN="Vladimiro Satta":MAILTO:vladimiro.satta@gmail.com
END:VEVENT
BEGIN:VEVENT
DTSTART;TZID=Europe/Rome:20170228T153000
DTEND;TZID=Europe/Rome:20170228T235900
DTSTAMP:20260423T110203
CREATED:20170225T161509Z
LAST-MODIFIED:20170225T161509Z
UID:10001610-1488295800-1488326340@www.sissco.it
SUMMARY:Mezzogiorno e Liberazione
DESCRIPTION:Presentazione del volume:\nLa partecipazione del Mezzogiorno\nalla Liberazione d’Italia (1943-1945)\nEdizioni Le Monnier\, Firenze\, 2016 \nPromosso dall’ANPI – Associazione nazionale partigiani d’Italia \nA cura di Enzo Fimiani\nCon saggi di:\nIsabella Insolvibile\nChiara Donati\nToni Rovatti\ne contributi di:\nClaudio Dellavalle\, Guido D’Agostino\, Carlo M. Fiorentino \nAlla presenza del Presidente del Senato della Repubblica \npartecipano:\nSilvana Amati\, Segretario di Presidenza del Senato della Repubblica\nCarlo Smuraglia\, Presidente nazionale ANPI\nPaolo Corsini\, Vicepresidente Commissione Esteri del Senato della Repubblica\n già docente di Storia moderna Università di Parma\nGuido D’Agostino\, Presidente Istituto campano per la storia della Resistenza\,\ndell’antifascismo e dell’età contemporanea\nClaudio Dellavalle\, Presidente Istituto piemontese per la storia della Resistenza\ne della società contemporanea (ISTORETO)\nCoordina: Enzo Fimiani \nINGRESSO A INVITO
URL:https://www.sissco.it/calendario/mezzogiorno-e-liberazione/
LOCATION:Senato della Repubblica – Palazzo Giustiniani – Sala Zuccari\, Via della Dogana Vecchia 29\, Roma\, 00186\, Italia
CATEGORIES:Presentazione di libro/i
ORGANIZER;CN="Enzo Fimiani":MAILTO:e.fimiani@libero.it
END:VEVENT
END:VCALENDAR