BEGIN:VCALENDAR
VERSION:2.0
PRODID:-//SISSCO - ECPv6.15.20//NONSGML v1.0//EN
CALSCALE:GREGORIAN
METHOD:PUBLISH
X-WR-CALNAME:SISSCO
X-ORIGINAL-URL:https://www.sissco.it
X-WR-CALDESC:Eventi per SISSCO
REFRESH-INTERVAL;VALUE=DURATION:PT1H
X-Robots-Tag:noindex
X-PUBLISHED-TTL:PT1H
BEGIN:VTIMEZONE
TZID:Europe/Rome
BEGIN:DAYLIGHT
TZOFFSETFROM:+0100
TZOFFSETTO:+0200
TZNAME:CEST
DTSTART:20160327T010000
END:DAYLIGHT
BEGIN:STANDARD
TZOFFSETFROM:+0200
TZOFFSETTO:+0100
TZNAME:CET
DTSTART:20161030T010000
END:STANDARD
BEGIN:DAYLIGHT
TZOFFSETFROM:+0100
TZOFFSETTO:+0200
TZNAME:CEST
DTSTART:20170326T010000
END:DAYLIGHT
BEGIN:STANDARD
TZOFFSETFROM:+0200
TZOFFSETTO:+0100
TZNAME:CET
DTSTART:20171029T010000
END:STANDARD
BEGIN:DAYLIGHT
TZOFFSETFROM:+0100
TZOFFSETTO:+0200
TZNAME:CEST
DTSTART:20180325T010000
END:DAYLIGHT
BEGIN:STANDARD
TZOFFSETFROM:+0200
TZOFFSETTO:+0100
TZNAME:CET
DTSTART:20181028T010000
END:STANDARD
END:VTIMEZONE
BEGIN:VEVENT
DTSTART;TZID=Europe/Rome:20171107T170000
DTEND;TZID=Europe/Rome:20171107T235900
DTSTAMP:20260422T182933
CREATED:20171030T211743Z
LAST-MODIFIED:20181005T193344Z
UID:10001710-1510074000-1510099140@www.sissco.it
SUMMARY:Mafie del mio stivale. Storia delle organizzazioni criminali italiane e straniere nel nostro Paese
DESCRIPTION:Martedì 7 novembre 2017\, alle ore 17.00\,  presso la Biblioteca di storia moderna e contemporanea (Palazzo Mattei di Giove – Via Michelangelo Caetani 32\, Roma)\, sarà presentato il volume Mafie del mio stivale. Storia\ndelle organizzazioni criminali italiane e straniere nel nostro Paese di Enzo Ciconte\, Manni\, 2017. Saluti:\nPatrizia Rusciani. Ne parla con l’autore:\nGiuseppe Pignatone. \nCos’è la mafia\, come e quando è nata\, come si è sviluppata\, come è cambiata\, quali sono i suoi legami con il potere\, con la politica\, con le istituzioni\, con l’imprenditoria? Enzo Ciconte ricostruisce la storia delle organizzazioni criminali: cosa nostra\, ‘ndrangheta\,\ncamorra\, sacra corona unita e anche quelle di origine straniera (cinese\, albanese\, nigeriana\, colombiana\, bulgara\, romena e altre) da anni attive e stanziali in Italia. Partendo dalle origini\, che si possono far risalire agli inizi dell’Ottocento\, passando dal momento cruciale dell’Unità d’Italia e del fascismo\, per arrivare alla Repubblica e alle connessioni sempre vive tra   politica   e   cupole:   quella   delle   mafie   non   è   soltanto   una   storia   criminale\,   ma sostanzialmente una storia del potere. Con linguaggio divulgativo e narrazione avvincente Enzo Ciconte ci consegna un saggio fondamentale e necessario per comprendere il fenomeno mafioso in tutte le sue articolazioni. Un libro che è anche un manuale di resistenza civile\, un invito alle giovani generazioni perché dalla conoscenza possa nascere\nun futuro di riscatto.
URL:https://www.sissco.it/calendario/mafie-del-mio-stivale-storia-delle-organizzazioni-criminali-italiane-e-straniere-nel-nostro-paese-di-enzo-ciconte/
LOCATION:Biblioteca di storia moderna e contemporanea\, Via Michelangelo Caetani\, 32\, Roma\, 00186\, Italia
CATEGORIES:Presentazione di libro/i
ORGANIZER;CN="Gisella Bochicchio":MAILTO:b-stmo.info@beniculturali.it
END:VEVENT
BEGIN:VEVENT
DTSTART;TZID=Europe/Rome:20171108T183000
DTEND;TZID=Europe/Rome:20171108T183000
DTSTAMP:20260422T182933
CREATED:20171016T092019Z
LAST-MODIFIED:20171016T092019Z
UID:10000455-1510165800-1510165800@www.sissco.it
SUMMARY:Cause perdute? Dai Borbone alla Catalogna
DESCRIPTION:
URL:https://www.sissco.it/calendario/cause-perdute-dai-borbone-alla-catalogna/
LOCATION:Libreria Laterza\, Via Dante 49/53\, Bari
CATEGORIES:Presentazione di libro/i
END:VEVENT
BEGIN:VEVENT
DTSTART;TZID=Europe/Rome:20171115T153000
DTEND;TZID=Europe/Rome:20171115T235900
DTSTAMP:20260422T182933
CREATED:20171012T142633Z
LAST-MODIFIED:20171019T155044Z
UID:10001705-1510759800-1510790340@www.sissco.it
SUMMARY:In cattedra con la valigia
DESCRIPTION:Il 15 novembre 2017\, alle ore 15.30\, verrà presentato a Bergamo il Rapporto 2017 sulle migrazioni interne in Italia (M. Colucci\, S. Gallo\, a cura di\, “In cattedra con la valigia. Gli insegnanti tra stabilizzazione e mobilità”\, Donzelli\, 2017). Saranno presenti uno dei curatori\, Michele Colucci\, e due autori\, Paolo Barcella e Domenico Perrotta. La presentazione è stata organizzata dalla Biblioteca Di Vittorio di Bergamo\, con la collaborazione della Federazione Lavoratori della Conoscenza e dell’associazione ProteoFareSapere. \nPer informazioni sul volume: https://migrazioninterne.it/
URL:https://www.sissco.it/calendario/in-cattedra-con-la-valigia/
LOCATION:Istituto “Vittorio Emanuele” – Bergamo\, Via Lussana\, 2\, Bergamo\, 24124\, Italia
CATEGORIES:Presentazione di libro/i
ORGANIZER;CN="Paolo Barcella":MAILTO:paolo.barcella@unibg.it
END:VEVENT
BEGIN:VEVENT
DTSTART;TZID=Europe/Rome:20171116T170000
DTEND;TZID=Europe/Rome:20171116T235900
DTSTAMP:20260422T182933
CREATED:20171102T210321Z
LAST-MODIFIED:20171102T210321Z
UID:10001713-1510851600-1510876740@www.sissco.it
SUMMARY:La casa pubblica: storia dell’Istituto autonomo case popolari di Torino\, di Daniela Adorni\, Maria D’Amuri\, Davide Tabor
DESCRIPTION:Giovedì 16 novembre 2017\, alle ore 17.00\, presso la Biblioteca di storia moderna e contemporanea\n(Palazzo Mattei di Giove – Via Michelangelo Caetani 32\, Roma)\, sarà presentato il volume\nLa casa pubblica: storia dell’Istituto autonomo case popolari di Torino\, di Daniela Adorni\, Maria D’Amuri\, Davide Tabor\nIntervengono: Bruno   Bonomo\,   Carlo   Maria   Travaglini\, Luciano   Villani. Coordina: Alessandra Gissi.\nSaranno presenti gli autori. \nQuesto libro parla di case\, parla delle persone che le abitavano e parla delle politiche abitative pubbliche nel Novecento. Lo fa partendo dall’analisi della storia dell’Istituto autonomo case popolari di Torino\, uno dei principali enti coinvolti nella realizzazione degli interventi nel campo dell’edilizia sociale in una grande città industriale. L’obiettivo è ricostruire con un taglio storico il complesso modello di governo della casa pubblica\, esaminando i vari attori coinvolti\, istituzionali e sociali.\nIl volume è diviso in tre parti: la prima si occupa della fondazione dello Iacp e delle politiche abitative tra età liberale e fascismo; la seconda si concentra sulle emergenze e sulla gestione dell’ente nel periodo della Ricostruzione e del miracolo economico; la terza parte ricostruisce il rapporto tra l’ente e gli abitanti delle case popolari tra gli anni Cinquanta e gli anni Ottanta.
URL:https://www.sissco.it/calendario/la-casa-pubblica-storia-dellistituto-autonomo-case-popolari-di-torino-di-daniela-adorni-maria-damuri-davide-tabor/
LOCATION:Biblioteca di storia moderna e contemporanea\, Via Michelangelo Caetani\, 32\, Roma\, 00186\, Italia
CATEGORIES:Presentazione di libro/i
ORGANIZER;CN="Gisella Bochicchio":MAILTO:b-stmo.info@beniculturali.it
END:VEVENT
BEGIN:VEVENT
DTSTART;TZID=Europe/Rome:20171121T110000
DTEND;TZID=Europe/Rome:20171121T235900
DTSTAMP:20260422T182933
CREATED:20171114T081809Z
LAST-MODIFIED:20171114T081809Z
UID:10000464-1511262000-1511308740@www.sissco.it
SUMMARY:Guerra e Cinema
DESCRIPTION:GUERRA E CINEMA\nGiornata di studi in onore del professore emerito Massimo Mazzetti\n 21 novembre 2017\nSaluti:\nAurelio Tommasetti\, Rettore dell’Università degli Studi di Salerno\nMaurizio Sibilio\, Direttore DISUFF\nAnnibale Elia\, Direttore DISPSC\nMaria Giovanna Riitano\, Direttore DISPAC\nRosa Grillo\, Direttore DIPSUM\n \nh. 11.30\nPresentazione del volume War Films. Interpretazioni storiche del cinema di guerra\, a cura di Stefano Pisu\nInterverranno:\nCarmine Pinto (Circec\, Università di Salerno)\,\nSebastiano Martelli (Università di Salerno)\nVirgilio Ilari (Presidente della Società Italiana di Storia Militare)\nMassimo Mazzetti (Università di Salerno)\nCoordina Pietro Cavallo (Filmidea\, Università di Salerno)\nSarà presente il curatore\nore 13.30 Conferimento di una targa ricordo al professore emerito Massimo Mazzetti\nAula Imbucci – Laboratorio Interdipartimentale Storia e Media Audiovisivi – Università degli Studi di Salerno
URL:https://www.sissco.it/calendario/guerra-e-cinema/
LOCATION:Aula “Imbucci” – DIPSUM Università di Salerno\, via Giovanni Paolo II\, 132\, Fisciano (SALERNO)\, 84084\, Italia
CATEGORIES:Presentazione di libro/i
ORGANIZER;CN="Elio Frescani":MAILTO:efrescani@unisa.it
END:VEVENT
BEGIN:VEVENT
DTSTART;TZID=Europe/Rome:20171121T163000
DTEND;TZID=Europe/Rome:20171121T235900
DTSTAMP:20260422T182933
CREATED:20171119T175141Z
LAST-MODIFIED:20171119T175220Z
UID:10001718-1511281800-1511308740@www.sissco.it
SUMMARY:American Sociology and Holocaust Studies
DESCRIPTION:Presentazione del volume American Sociology and Holocaust Studies: The Alleged Silence and the Creation of the Sociological Delay (Boston: Academic Studies Press\, 2017)\, giorno 21 novembre\, dalle ore 16.30 alle ore 19.00\, presso l’Aula “Giovanni Arrighi” del DISPeS\, Unical. \nDialogano con l’autrice: Paolo Jedlowski\, Università della Calabria\, Francesco Raniolo\, Università della Calabria\, Antonella Salomoni\, Università della Calabria\, Renate Siebert\, Università della Calabria\, Alberto Ventura\, Università della Calabria.
URL:https://www.sissco.it/calendario/american-sociology-and-holocaust-studies/
LOCATION:Università della Calabria\, via Pietro Bucci\, Arcavacata di Rende\, 87036\, Italia
CATEGORIES:Presentazione di libro/i
ORGANIZER;CN="Adele Valeria Messina":MAILTO:adelevaleria@gmail.com
END:VEVENT
BEGIN:VEVENT
DTSTART;TZID=Europe/Rome:20171123T170000
DTEND;TZID=Europe/Rome:20171123T235900
DTSTAMP:20260422T182933
CREATED:20171115T145341Z
LAST-MODIFIED:20171115T150014Z
UID:10000466-1511456400-1511481540@www.sissco.it
SUMMARY:In onda. L’italia dalle radio libere ai network nazionali (1970-1990)\, di Raffaello A. Doro
DESCRIPTION:Giovedì 23 novembre 2017\, alle ore 17.00\, presso l’Auditorium dell’Istituto centrale per i beni sonori e audiovisivi (Palazzo Mattei di Giove – Via Michelangelo Caetani 32\, Roma)\, sarà presentato il volume\nIn onda. L’italia dalle radio libere ai network\nnazionali (1970-1990)\, di Raffaello A. Doro\,\nViella\, 2017. Intervengono: Felice Liperi\, Marilisa Merolla\, Edoardo Novelli\, Maurizio Ridolfi.\nCoordina: Massimo Pistacchi.\nSarà presente l\’autore.\nQual è stato il ruolo delle nuove radio private\, locali e nazionali – comparse in modo capillare nel territorio nazionale a partire dalla metà degli anni Settanta – nella società italiana? E quale la loro importanza all’interno di un sistema dei mass media in rapida evoluzione\, con la centralità della televisione? Come si è passati dal sistema monopolistico della Radio Rai alle migliaia di esperienze di radio libere\, locali\, private\, indipendenti? Dall’esempio delle radio offshore in Nord Europa ai\nprimi esperimenti clandestini in Italia\, dalla Radio Sicilia Libera di Danilo Dolci alla legge di Riforma della Rai del 1975 e alla sentenza della Corte costituzionale del 1976\, dalle radio politiche a  quelle  musicali\,   dall’impegno   all’evasione\,  un  ventennio  di   storia  della  radio  è  ricostruito studiandone l’impatto all’interno del sistema dei mezzi di comunicazione di massa\, ed esaminando contenuti\, strategie editoriali e degli ascolti\, cesure e trasformazioni di un’epoca in cui il desiderio di libertà si esprimeva andando\, anziché on line\, in onda.
URL:https://www.sissco.it/calendario/in-onda-litalia-dalle-radio-libere-ai-network-nazionali-1970-1990-di-raffaello-a-doro/
LOCATION:Istituto centrale per i beni sonori e audiovisivi\, Via Michelangelo Caetani\, 32\, Roma\, 00186\, Italia
CATEGORIES:Presentazione di libro/i
ORGANIZER;CN="Gisella Bochicchio":MAILTO:b-stmo.info@beniculturali.it
END:VEVENT
BEGIN:VEVENT
DTSTART;TZID=Europe/Rome:20171124T170000
DTEND;TZID=Europe/Rome:20171124T235900
DTSTAMP:20260422T182933
CREATED:20171115T202355Z
LAST-MODIFIED:20171115T202355Z
UID:10000469-1511542800-1511567940@www.sissco.it
SUMMARY:La Germania necessaria. L’emergere di una nuova leading power tra potenza economica e modello culturale\, di Beatrice Benocci
DESCRIPTION:Venerdì 24 novembre 2017\, alle ore 17.00\, presso la Biblioteca di storia moderna e contemporanea (Palazzo Mattei di Giove – Via Michelangelo Caetani 32\, Roma)\,\nsarà presentato il volume  \nLa Germania necessaria. L’emergere di una nuova\nleading power tra potenza economica e modello culturale di Beatrice Benocci (FrancoAngeli\, 2017).  \nIntervengono: Raffaele D’Agata\, Alexander Höbel. Coordina: Vincenzo Grienti. Sarà presente l’autrice. \nNel 2012 la Germania non si presentava più solo quale attore economico affidabile\, non più solo come membro leader della Ue\, ma sembrava muoversi autonomamente nello scacchiere internazionale e nelle aree di crisi\, promuovendosi anche quale partner culturale. Era questa una novità interessante\, che apriva spazi di analisi e nuove domande sul percorso che la Germania aveva\nvissuto: da stato totalitario a paese vinto\, da paese membro della comunità europea e atlantica a paese nuovamente unito\, ora espressione di un modello culturale condivisibile a livello globale.\nAncor più sorprendente era il fatto che se la Germania era cambiata\, lo era anche l\’Europa\, e non solo a causa della crisi economica. Molto avevano giocato gli allargamenti a Est e\, non in ultimo\, le difficoltà incontrate dall\’Europa comunitaria nell\’assumere un chiaro ruolo internazionale. In definitiva\, era mutato il rapporto di controllato/controllore in favore di un nuovo concetto di \”necessità\” di Germania. Si poneva\, a partire da quel momento\, il tema spinoso\, ma anche affascinante\, di una Germania necessaria e nuova leading power.
URL:https://www.sissco.it/calendario/la-germania-necessaria-lemergere-di-una-nuova-leading-power-tra-potenza-economica-e-modello-culturale-di-beatrice-benocci/
LOCATION:Biblioteca di storia moderna e contemporanea\, Via Michelangelo Caetani\, 32\, Roma\, 00186\, Italia
CATEGORIES:Presentazione di libro/i
ORGANIZER;CN="Gisella Bochicchio":MAILTO:b-stmo.info@beniculturali.it
END:VEVENT
BEGIN:VEVENT
DTSTART;TZID=Europe/Rome:20171127T170000
DTEND;TZID=Europe/Rome:20171127T235900
DTSTAMP:20260422T182933
CREATED:20171125T111913Z
LAST-MODIFIED:20171125T111913Z
UID:10001725-1511802000-1511827140@www.sissco.it
SUMMARY:La disoccupazione nella storia d'Italia
DESCRIPTION:Presentazione del libro di Manfredi Alberti \nSenza lavoro. La disoccupazione in Italia dall’Unità a oggi \nLaterza 2016 \nNe discutono con l\’autore: \nDaniele Gioffredi (segreteria CGIL Pistoia) \nGianfranco Francese (presidente IRES Toscana)
URL:https://www.sissco.it/calendario/la-disoccupazione-nella-storia-ditalia/
LOCATION:Biblioteca San Giorgio\, sala Bigongiari\, via Sandro Pertini\, snc\, Pistoia\, Italia
CATEGORIES:Presentazione di libro/i
END:VEVENT
BEGIN:VEVENT
DTSTART;TZID=Europe/Rome:20171128T170000
DTEND;TZID=Europe/Rome:20171128T235900
DTSTAMP:20260422T182933
CREATED:20171117T162049Z
LAST-MODIFIED:20171117T162049Z
UID:10001716-1511888400-1511913540@www.sissco.it
SUMMARY:Polizie speciali. Dal fascismo alla Repubblica\, di Vittorio Coco
DESCRIPTION:Martedì 28 novembre 2017\, alle ore 17.00\, presso la Biblioteca di storia moderna e contemporanea (Palazzo Mattei di Giove – Via Michelangelo Caetani 32\, Roma)\, sarà presentato il volume\nPolizie speciali. Dal fascismo alla Repubblica\, di Vittorio Coco\, Laterza\, 2017. Intervengono: Paul Corner\, Guido Melis. Coordina: Igor Mineo. Sarà presente l’autore. \nA partire dal 1942 il confine orientale italiano fu il teatro di una violentissima repressione antipartigiana. Protagonisti ne furono gli uomini dell’Ispettorato generale di pubblica sicurezza\, che contribuirono a spargere il terrore in tutta la regione. Non si trattò di una violenza improvvisata ed estemporanea\, ma l’estremo risultato di una consumata esperienza maturata sul campo. Negli anni Trenta\, infatti\, molti di loro avevano già fatto parte di organismi che avevano efficacemente contrastato la mafia siciliana e il banditismo sardo. Si trattava di corpi speciali di polizia\, che il regime fascista aveva creato sul modello delle contemporanee strutture di indagine politica come l’Ovra\, ma di cui si potevano ritrovare dei precedenti già nella Grande Guerra e nella tarda età liberale. Fu proprio in queste circostanze che cominciò a formarsi quel ristretto gruppo di specialisti che\, tra utopie d’ordine e ambizioni personali\, nel corso dei rivolgimenti politici di un trentennio seppero imporsi come riconosciuti professionisti del settore. Dopo il crollo del fascismo\, infatti\, nonostante un passato di compromissioni con il regime\, li ritroveremo ancora una volta in Sicilia\, per fronteggiare la rinnovata emergenza dell’ordine pubblico.
URL:https://www.sissco.it/calendario/polizie-speciali-dal-fascismo-alla-repubblica-di-vittorio-coco/
LOCATION:Biblioteca di storia moderna e contemporanea\, Via Michelangelo Caetani\, 32\, Roma\, 00186\, Italia
CATEGORIES:Presentazione di libro/i
ORGANIZER;CN="Gisella Bochicchio":MAILTO:b-stmo.info@beniculturali.it
END:VEVENT
END:VCALENDAR