BEGIN:VCALENDAR
VERSION:2.0
PRODID:-//SISSCO - ECPv6.15.20//NONSGML v1.0//EN
CALSCALE:GREGORIAN
METHOD:PUBLISH
X-ORIGINAL-URL:https://www.sissco.it
X-WR-CALDESC:Eventi per SISSCO
REFRESH-INTERVAL;VALUE=DURATION:PT1H
X-Robots-Tag:noindex
X-PUBLISHED-TTL:PT1H
BEGIN:VTIMEZONE
TZID:Europe/Rome
BEGIN:DAYLIGHT
TZOFFSETFROM:+0100
TZOFFSETTO:+0200
TZNAME:CEST
DTSTART:20170326T010000
END:DAYLIGHT
BEGIN:STANDARD
TZOFFSETFROM:+0200
TZOFFSETTO:+0100
TZNAME:CET
DTSTART:20171029T010000
END:STANDARD
BEGIN:DAYLIGHT
TZOFFSETFROM:+0100
TZOFFSETTO:+0200
TZNAME:CEST
DTSTART:20180325T010000
END:DAYLIGHT
BEGIN:STANDARD
TZOFFSETFROM:+0200
TZOFFSETTO:+0100
TZNAME:CET
DTSTART:20181028T010000
END:STANDARD
BEGIN:DAYLIGHT
TZOFFSETFROM:+0100
TZOFFSETTO:+0200
TZNAME:CEST
DTSTART:20190331T010000
END:DAYLIGHT
BEGIN:STANDARD
TZOFFSETFROM:+0200
TZOFFSETTO:+0100
TZNAME:CET
DTSTART:20191027T010000
END:STANDARD
END:VTIMEZONE
BEGIN:VEVENT
DTSTART;TZID=Europe/Rome:20180302T170000
DTEND;TZID=Europe/Rome:20180302T235900
DTSTAMP:20260422T110259
CREATED:20180129T183721Z
LAST-MODIFIED:20181005T193404Z
UID:10001738-1520010000-1520035140@www.sissco.it
SUMMARY:Donne di fronte alla guerra. Pace\, diritti e democrazia (1878-1918)
DESCRIPTION:Venerdì 2 marzo 2018\, alle ore 17.00\, la Biblioteca di storia moderna e contemporanea (Palazzo Mattei di Giove – Via Michelangelo Caetani 32\, Roma)\, in collaborazione con la Società italiana delle storiche\, presenta il volume Donne di fronte alla guerra. Pace\, diritti e democrazia (1878-1918) di Stefania Bartoloni\, Laterza\, 2017.\nIntervengono: Daniela Luigia Caglioti\, Maria Susanna Garroni\, Renato Moro. Coordina: Rosanna De Longis.\nSarà presente l’autrice. \nA differenza dei tanti uomini pronti a misurarsi in quella che considerarono un’eroica ed elettrizzante avventura\, le donne italiane non invocarono la guerra.\nCi fu poi un gruppo di utopiste\, legate a una rete internazionale di militanti\, che avanzò una ferma critica al sistema di potere maschile. Per quella élite di femministe e di suffragiste erano gli uomini a capo dei governi e della diplomazia\, che sceglievano di dirimere i conflitti tra le nazioni attraverso lo strumento della guerra\, a provocare dolore e spargimenti di sangue. Per questo motivo\, negli anni a cavallo tra Ottocento e Novecento e nel corso del primo conflitto mondiale\, chiesero più diritti e più democrazia per le donne e sollecitarono la loro partecipazione nelle decisioni sulle vicende nazionali e internazionali. \nStefania Bartoloni insegna Storia contemporanea e Storia delle donne e di genere in età contemporanea presso l’Università degli Studi Roma Tre. È tra le fondatrici della Società Italiana delle Storiche. Tra le sue pubblicazioni: Italiane alla guerra. L’assistenza ai feriti (1915-1918) (Marsilio 2003\, nel 2004 Premio Gisa Giani\, Premio Capri-San Michele e Premio Feudo Città di Maida); Il fascismo e le donne nella «Rassegna femminile italiana» 1925-1930 (Biblink 2012); La Grande Guerra delle italiane. Mobilitazioni\, diritti\, trasformazioni (a cura di\, Viella 2016).
URL:https://www.sissco.it/calendario/donne-di-fronte-alla-guerra-pace-diritti-e-democrazia-1878-1918-di-stefania-bartoloni/
LOCATION:Biblioteca di storia moderna e contemporanea\, Via Michelangelo Caetani\, 32\, Biblioteca di storia moderna e contemporanea\, 00186\, Italia
CATEGORIES:Presentazione di libro/i
ORGANIZER;CN="Gisella Bochicchio":MAILTO:b-stmo.info@beniculturali.it
END:VEVENT
BEGIN:VEVENT
DTSTART;TZID=Europe/Rome:20180307T163000
DTEND;TZID=Europe/Rome:20180307T235900
DTSTAMP:20260422T110259
CREATED:20180212T201924Z
LAST-MODIFIED:20180212T201924Z
UID:10000492-1520440200-1520467140@www.sissco.it
SUMMARY:Considerate che avevo quindici anni. Il diario di prigionia di Magda Minciotti tra Resistenza e deportazione\, a cura di Anna Paola Moretti
DESCRIPTION:Mercoledì 7 marzo 2018\, alle ore 17.00\, in occasione della Giornata internazionale delle donne\, presso la Biblioteca di storia moderna e contemporanea (Palazzo Mattei di Giove – Via Michelangelo Caetani 32\, Roma)\, sarà presentato il volume Considerate che avevo quindici anni. Il diario di prigionia di Magda Minciotti tra Resistenza e deportazione di Anna Paola Moretti\, affinità elettive\, 2017. Intervengono: Beatrice Pisa\, Simona Lunadei. Coordina: Rosanna De Longis. Durante la presentazione letture a cura dell’Associazione parolincontro. Sarà presente l’autrice. \nTorna alla luce a distanza di settanta anni un documento straordinario\, il diario che Magda Minciotti\, giovanissima partigiana di Chiaravalle\, scrisse durante la sua prigionia in mano alle SS e la deportazione per lavoro coatto nei lager Siemens a Norimberga e Bayreuth. Racconta la solitudine\, la nostalgia\, lo sconforto\, il dolore per la morte del fratello deportato con lei\, insieme alle strategie messe in atto per resistere alla disumanizzazione. Nel clima di generale indifferenza con cui la società del dopoguerra accolse il ritorno dei deportati\, Magda conservò il diario in silenzio\, per lunghissimi anni\, consegnandolo al figlio poco prima della sua morte. Col corredo di altri documenti si disegna anche la biografia di Magda\, a partire dalla sua formazione in una famiglia che aderiva agli ideali mazziniani e partecipò compatta alla Resistenza in provincia di Ancona. La vicenda di Magda ci apre alla conoscenza della deportazione per lavoro coatto praticata dai nazisti in tutta Europa\, subita massicciamente anche da uomini e donne italiane\, a cui la storiografia ha da poco iniziato a rivolgere la sua attenzione.
URL:https://www.sissco.it/calendario/considerate-che-avevo-quindici-anni-il-diario-di-prigionia-di-magda-minciotti-tra-resistenza-e-deportazione-a-cura-di-anna-paola-moretti/
LOCATION:Biblioteca di storia moderna e contemporanea\, Via Michelangelo Caetani\, 32\, Roma\, 00186\, Italia
CATEGORIES:Presentazione di libro/i
ORGANIZER;CN="Gisella Bochicchio":MAILTO:b-stmo.info@beniculturali.it
END:VEVENT
BEGIN:VEVENT
DTSTART;TZID=Europe/Rome:20180307T180000
DTEND;TZID=Europe/Rome:20180307T235900
DTSTAMP:20260422T110259
CREATED:20180225T123940Z
LAST-MODIFIED:20180225T123940Z
UID:10000502-1520445600-1520467140@www.sissco.it
SUMMARY:Storia di un paradosso. L'antisemitismo a sinistra in Francia
DESCRIPTION:Presentazione del libro di Michel Dreyfus (Free Ebrei\, Torino 2017).\nPartecipano Gadi Luzzatto Voghera\, Maria Grazia Meriggi\, Vincenzo Pinto\, Valentina Pisanty
URL:https://www.sissco.it/calendario/storia-di-un-paradosso-lantisemitismo-a-sinistra-in-francia/
LOCATION:Casa della memoria\, Via Federico Confalonieri 14\, Milano\, Italia
CATEGORIES:Presentazione di libro/i
END:VEVENT
BEGIN:VEVENT
DTSTART;TZID=Europe/Rome:20180309T170000
DTEND;TZID=Europe/Rome:20180309T235900
DTSTAMP:20260422T110259
CREATED:20180302T191124Z
LAST-MODIFIED:20180302T191124Z
UID:10000505-1520614800-1520639940@www.sissco.it
SUMMARY:L'invenzione di un culto. Santa Filomena da taumaturga a guerriera della fede di Sergio La Salvia
DESCRIPTION:Venerdì 9 marzo 2018\, alle ore 17.00\, presso la Biblioteca di storia moderna e contemporanea (Palazzo Mattei di Giove – Via Michelangelo Caetani 32\, Roma)\, in collaborazione con Associazione di Studi Storici Sergio La Salvia e Associazione Italiana per lo Studio della Santità\, dei Culti e dell’Agiografia (AISSCA)\, sarà presentato il volume L’invenzione di un culto. Santa Filomena da taumaturga a guerriera della fede di Sergio La Salvia. Introduzione di Sofia Boesch Gajano e Lucia Sebastiani\, Viella\, 2017. Intervengono: Tommaso Caliò\, Massimiliano Ghilardi. Coordina: Fabio Fabbri. Saranno presenti Sofia Boesch Gajano e Lucia Sebastiani. \nStorico dell’età contemporanea\, Sergio La Salvia affronta con rigore metodologico e intelligenza critica un tema posto all’intersezione fra storia religiosa\, politica e culturale\, che aveva attirato l’attenzione di Benedetto Croce: le origini e il successo del culto di santa Filomena\, la “santa taumaturga del XIX secolo”. La ricerca indaga il ruolo giocato dal clero ai diversi livelli gerarchici\, compresi i pontefici\, dagli ordini religiosi\, dalle autorità politiche\, attraverso inediti percorsi nella cultura “alta” e nella letteratura religiosa “minore”\, nella storiografia apologetica e in quella critica\, ricostruendo la storia di un culto capace di resistere ai pur solidi argomenti scientifici dell’archeologia e dell’agiografia e di godere di una popolarità testimoniata\, oltre che dagli scritti\, dalle immagini\, dalle devozioni\, anche da scrittori come Alexandre Dumas\, da poeti come Giuseppe Gioacchino Belli\, e da un filosofo come Antonio Rosmini. Il saggio\, già pubblicato nel 1984 nel volume Culto dei santi\, istituzioni e classi sociali in età preindustriale\, è riproposto come un classico della storiografia agiografica. \nSergio La Salvia (1940-2013) è stato professore di Storia contemporanea e segretario Generale dell’Istituto per la Storia del Risorgimento italiano. Fra i temi delle sue ricerche: i partiti nell’Italia dell’800\, le dinamiche della formazione dello Stato unitario\, il concetto di Nazione\, la questione ebraica (soprattutto nello Stato Pontificio tra XVIII e XIX secolo)\, gli epistolari di grandi personaggi. Fra le sue opere: Giornalismo lombardo. Gli “Annali universali di statistica” (1824-1844) (1977); Giuseppe Garibaldi (1995); La rivoluzione e i partiti. Il movimento democratico nella crisi dell’unità nazionale (1999).
URL:https://www.sissco.it/calendario/linvenzione-di-un-culto-santa-filomena-da-taumaturga-a-guerriera-della-fede-di-sergio-la-salvia/
LOCATION:Biblioteca di storia moderna e contemporanea\, Via Michelangelo Caetani\, 32\, Roma\, 00186\, Italia
CATEGORIES:Presentazione di libro/i
ORGANIZER;CN="Gisella Bochicchio":MAILTO:b-stmo.info@beniculturali.it
END:VEVENT
BEGIN:VEVENT
DTSTART;TZID=Europe/Rome:20180312T182000
DTEND;TZID=Europe/Rome:20180312T235900
DTSTAMP:20260422T110259
CREATED:20180225T160523Z
LAST-MODIFIED:20180225T160523Z
UID:10000503-1520878800-1520899140@www.sissco.it
SUMMARY:L'Église et la guerre des ondes. Radio Vatican\, de sa fondation à l'après-guerre
DESCRIPTION:Il 12 marzo 2018\, alle ore 18.20\, si terrà presso la Salle des Actes dell’Università di Parigi-Sorbona una tavola rotonda attorno al libro di Raffaella Perin\, La radio del papa. Propaganda e diplomazia nella seconda guerra mondiale\, il Mulino\, Bologna 2017. Discuteranno assieme all’autrice il prof. Martin Dumont (IRER-Sorbonne Université)\, il prof. Daniele Menozzi (Scuola Normale Superiore di Pisa)\, e la prof.ssa Laura Pettinaroli (Institut Catholique de Paris). \nPer ragioni di sicurezza l’iscrizione è obbligatoria. Per partecipare si prega di inviare una mail a Martin Dumont\, martin.dumont@gmail.com
URL:https://www.sissco.it/calendario/leglise-et-la-guerre-des-ondes-radio-vatican-de-sa-fondation-a-lapres-guerre/
LOCATION:Salle des Actes de Sorbonne-Université (fac. des Lettres)\, 54 rue Saint-Jacques \, Parigi\, Francia
CATEGORIES:Presentazione di libro/i
ORGANIZER;CN="Martin Dumont%2C secr%C3%A9taire g%C3%A9n%C3%A9ral de l'IRER":MAILTO:martin.dumont@gmail.com
END:VEVENT
BEGIN:VEVENT
DTSTART;TZID=Europe/Rome:20180314T170000
DTEND;TZID=Europe/Rome:20180314T235900
DTSTAMP:20260422T110259
CREATED:20180305T124357Z
LAST-MODIFIED:20180305T124357Z
UID:10000510-1521046800-1521071940@www.sissco.it
SUMMARY:La grande retrovia in territorio nemico. Bologna e la sua provincia nella Grande Guerra (1914-1918)\, di Fabio Degli Esposti
DESCRIPTION:Mercoledì 14 marzo 2018\, alle ore 17.00\, presso la Biblioteca di storia moderna e contemporanea (Palazzo Mattei di Giove – Via Michelangelo Caetani 32\, Roma)\, sarà presentato il volume La grande retrovia in territorio nemico. Bologna e la sua provincia nella Grande Guerra (1914-1918) di Fabio Degli Esposti\, Unicopli\, 2017. Intervengono: Antonio Fiori\, Giovanna Procacci\, Alessandra Staderini. Coordina: Fabio Fabbri. Sarà presente l’autore. \nLa prima guerra mondiale è generalmente considerata la prima guerra totale della storia. Alle sofferenze dei soldati al fronte corrispose un’intensa mobilitazione delle società civili: riorganizzazione dei sistemi economici\, razionamento delle risorse alimentari\, severa limitazione delle libertà. Questo volume studia le profonde trasformazioni avvenute in Italia in quegli anni cruciali scegliendo come punto di osservazione la provincia di Bologna. Il governo dichiarò il capoluogo emiliano e il suo territorio “zona di guerra” fin dal 24 maggio 1915: si volle così stroncare ogni eventuale opposizione del movimento socialista\, che qui era fortissimo\, alla mobilitazione dell’esercito. Con il prolungarsi della guerra la “provincia rossa” emerse sempre più come “grande retrovia” di cruciale importanza strategica per lo sforzo bellico e la decisione di mantenere un regime eccezionale venne confermata. Studiare la guerra a Bologna diventa così studiare la guerra in Italia e\, per molti aspetti\, in Europa. \nFabio Degli Esposti è ricercatore di storia contemporanea all’Università di Modena e Reggio Emilia. Ha pubblicato numerosi saggi su temi di storia economica e sociale italiana ed europea fra Otto e Novecento\, dedicati soprattutto al rapporto fra istituzioni militari e sviluppo economico. Da anni si occupa del primo conflitto mondiale con particolare riguardo agli aspetti della vita politica\, economica e culturale delle società belligeranti.
URL:https://www.sissco.it/calendario/la-grande-retrovia-in-territorio-nemico-bologna-e-la-sua-provincia-nella-grande-guerra-1914-1918-di-fabio-degli-esposti/
LOCATION:Biblioteca di storia moderna e contemporanea\, Via Michelangelo Caetani\, 32\, Roma\, 00186\, Italia
CATEGORIES:Presentazione di libro/i
ORGANIZER;CN="Gisella Bochicchio":MAILTO:b-stmo.info@beniculturali.it
END:VEVENT
BEGIN:VEVENT
DTSTART;TZID=Europe/Rome:20180314T170000
DTEND;TZID=Europe/Rome:20180314T235900
DTSTAMP:20260422T110259
CREATED:20180311T110923Z
LAST-MODIFIED:20180311T110923Z
UID:10001760-1521046800-1521071940@www.sissco.it
SUMMARY:tutta colpa del '68?
DESCRIPTION:presentazione a cura di Elisa Signori  del volume Il Sessantotto sequestrato. Cecoslovacchia\, Polonia\, Jugoslavia e dintorni di Guido Crainz\, Donzelli 2018
URL:https://www.sissco.it/calendario/tutta-colpa-del-68/
LOCATION:Università di Pavia\, salone teresiano biblioteca universitaria\, Pavia\, 27100\, Italia
CATEGORIES:Presentazione di libro/i
ORGANIZER;CN="elisa signori":MAILTO:signori@unipv.it
END:VEVENT
BEGIN:VEVENT
DTSTART;TZID=Europe/Rome:20180314T171500
DTEND;TZID=Europe/Rome:20180314T235900
DTSTAMP:20260422T110259
CREATED:20180306T092952Z
LAST-MODIFIED:20180306T092952Z
UID:10001756-1521047700-1521071940@www.sissco.it
SUMMARY:Presentazione del libro "Dall'università di élite all'università di massa"
DESCRIPTION:Presentazione del volume\n“Dall’università di élite all’università di massa. L’Ateneo di Padova dal secondo dopoguerra alla contestazione sessantottesca”\, a cura di Alba Lazzaretto e Giulia Simone\, Padova University Press\, 2017.\nPresiederà il prof. Gaetano Thiene.\nInterverranno i professori Gregorio Piaia e Giulia Albanese.
URL:https://www.sissco.it/calendario/presentazione-del-libro-dalluniversita-di-elite-alluniversita-di-massa/
LOCATION:Archivio Antico del Palazzo del Bo (Università di Padova)\, Via VIII Febbraio 2\, Padova\, 35122\, Italia
CATEGORIES:Presentazione di libro/i
END:VEVENT
BEGIN:VEVENT
DTSTART;TZID=Europe/Rome:20180314T180000
DTEND;TZID=Europe/Rome:20180314T235900
DTSTAMP:20260422T110259
CREATED:20180306T152839Z
LAST-MODIFIED:20180306T152909Z
UID:10001757-1521050400-1521071940@www.sissco.it
SUMMARY:La stoffa dell'Italia. Storia e cultura della moda dal 1945 a oggi
DESCRIPTION:Presentazione del libro di Emanuela Scarpellini\,\nLa stoffa dell’Italia. Storia e cultura della moda dal 1945 a oggi\, Laterza\ncon Enrica Morini e l’autrice
URL:https://www.sissco.it/calendario/la-stoffa-dellitalia-storia-e-cultura-della-moda-dal-1945-a-oggi/
LOCATION:Fondazione Corriere della Sera\, Via Balzan 3\, Milano\, 20121\, Italia
CATEGORIES:Presentazione di libro/i
ORGANIZER;CN="Emanuela Scarpellini":MAILTO:emanuela.scarpellini@unimi.it
END:VEVENT
BEGIN:VEVENT
DTSTART;TZID=Europe/Rome:20180320T110000
DTEND;TZID=Europe/Rome:20180320T235900
DTSTAMP:20260422T110259
CREATED:20180313T101800Z
LAST-MODIFIED:20180313T101800Z
UID:10001764-1521543600-1521590340@www.sissco.it
SUMMARY:Una pace necessaria. I rapporti italiano-albanesi nella prima fase della Guerra fredda
DESCRIPTION:Presentazione del volume collettivo Una pace necessaria. I rapporti italiano-albanesi nella prima fase della Guerra fredda\, curato da Paolo Rago ed edito da Laterza.
URL:https://www.sissco.it/calendario/una-pace-necessaria-i-rapporti-italiano-albanesi-nella-prima-fase-della-guerra-fredda/
LOCATION:Ministero degli Affari esteri\, Sala Aldo Moro\, piazzale della Farnesina 1\, Roma\, Italia
CATEGORIES:Presentazione di libro/i
ORGANIZER;CN="Antonio D'Alessandri":MAILTO:antonio.dalessandri@uniroma3.it
END:VEVENT
BEGIN:VEVENT
DTSTART;TZID=Europe/Rome:20180320T170000
DTEND;TZID=Europe/Rome:20180320T235900
DTSTAMP:20260422T110259
CREATED:20180312T142412Z
LAST-MODIFIED:20180312T142412Z
UID:10001762-1521565200-1521590340@www.sissco.it
SUMMARY:A scuola di politica. Il modello comunista di Frattocchie (1944-1993\,) di Anna Tonelli
DESCRIPTION:Martedì 20 marzo 2018\, alle ore 17.00\, presso la Biblioteca di storia moderna e contemporanea (Palazzo Mattei di Giove – Via Michelangelo Caetani 32\, Roma)\,\nsarà presentato del volume A scuola di politica. Il modello comunista di Frattocchie (1944-1993) di Anna Tonelli\, Laterza\, 2017. Intervengono: Franco Ottaviano\, Albertina Vittoria. Coordina: Alexander Höbel. Sarà presente l’autrice.\nLa scuola comunista delle Frattocchie\, il cui obiettivo fu quello di dare una formazione politica e\nculturale alla classe dirigente del Partito comunista italiano\, comincia la sua attività nel 1944 e\nchiude i battenti solo nel 1993\, dopo 49 lunghi anni di attività. L’autrice ricostruisce per la prima\nvolta la storia della più celebre scuola di politica esistita in Italia: i meccanismi di reclutamento (chi\nfurono gli alunni delle scuole\, da dove provenivano\, com’erano scelti)\, la formazione politica e\nideologica (come si studiava\, su che cosa\, chi insegnava e in che modo)\, la vita collettiva (la mensa\,\nle ‘brigate di studio’\, le discussioni\, le attività ludiche)\, la valutazione e i risultati (le pagelle\, gli\nesami). Una ricognizione storica in cui emerge come l’educazione alla politica abbia rappresentato\nuna pedagogia vera e propria in grado di intrecciare tutti gli aspetti della vita individuale e\ncollettiva: la capacità di stare insieme\, l’elevamento ideologico\, lo spirito di gruppo\, l’affezione alla\nfede rossa\, la disciplina e la moralità. Senza trascurare naturalmente i metodi e i criteri\, all’inizio di\nduro stampo staliniano\, per la formazione dei quadri dirigenti.\nAnna Tonelli è professore di Storia contemporanea presso l’Università di Urbino Carlo Bo\, dove insegna\nanche Storia dei sistemi e dei partiti politici e Storia del giornalismo. Si occupa di storia culturale e di storia politica e sociale\, con un’attenzione particolare verso la mentalità\, il costume\, la memoria. Collabora a\n“L’Indice dei Libri” ed è direttore scientifico dell’Istituto di Storia contemporanea di Pesaro e Urbino. Fra i suoi libri più recenti\, Comizi d’amore. Politica e sentimenti dal ‘68 ai Papa boys (2007); Falce e tortello.\nStoria politica e sociale delle Feste dell’Unità (1945-2011) (2012).
URL:https://www.sissco.it/calendario/a-scuola-di-politica-il-modello-comunista-di-frattocchie-1944-1993-di-anna-tonelli/
LOCATION:Biblioteca di storia moderna e contemporanea\, Via Michelangelo Caetani\, 32\, Roma\, 00186\, Italia
CATEGORIES:Presentazione di libro/i
ORGANIZER;CN="Gisella Bochicchio":MAILTO:b-stmo.info@beniculturali.it
END:VEVENT
BEGIN:VEVENT
DTSTART;TZID=Europe/Rome:20180321T170000
DTEND;TZID=Europe/Rome:20180321T235900
DTSTAMP:20260422T110259
CREATED:20180312T142739Z
LAST-MODIFIED:20180312T142739Z
UID:10001763-1521651600-1521676740@www.sissco.it
SUMMARY:Donne dentro la guerra. Il primo conflitto mondiale in area veneta\, a cura di Nadia Maria Filippini
DESCRIPTION:Mercoledì 21 marzo 2018\, alle ore 17.00\, in occasione della Giornata internazionale delle donne\, la Biblioteca di storia moderna e contemporanea (Palazzo Mattei di\nGiove – Via Michelangelo Caetani 32\, Roma)\, in collaborazione con la Società italiana delle storiche\, presenta il volume Donne dentro la guerra. Il primo conflitto mondiale in area veneta a cura di Nadia Maria Filippini\, Viella\, 2017.\nIntervengono: Emilio Franzina\, Anna Maria Isastia\, Beatrice Pisa. Coordina: Rosanna De Longis. Sarà presente la curatrice.\nLa Grande Guerra non è stata un’esperienza omogenea per la popolazione civile. Nella cosiddetta “zona di guerra”\, a ridosso dei fronti di combattimento\, le donne subirono in anteprima gli effetti di una guerra totale: bombardamenti e devastazioni\, commistione con le truppe\, requisizioni\, violenze\, stupri\, evacuazioni e profugato. Il coinvolgimento nelle vicende belliche accentuò il loro ruolo di vittime\, ma stimolò anche per converso un protagonismo più attivo con l’assunzione di ruoli e\nincarichi rilevanti sul fronte interno. Il libro analizza questi diversi aspetti\, mettendo a fuoco le ripercussioni sulla vita quotidiana\, il dibattito politico\, la mobilitazione delle donne\, l’attività dei Comitati di assistenza civile\, il ruolo e l’azione di alcune figure di protagoniste.\nIl quadro che ne emerge\, per alcuni versi inedito\, mostra una realtà a lungo oscurata nella ricostruzione delle memorie\, aggiungendo un tassello importante alla storia della Grande Guerra in una prospettiva di genere. \nNadia Maria Filippini ha insegnato Storia delle donne presso l’Università Ca’ Foscari di Venezia.\nSocia fondatrice della Società italiana delle storiche\, ha fatto parte del direttivo e della redazione di\n«Genesis». Tra le sue opere: Generare\, partorire\, nascere. Una storia dall’antichità alla provetta\n(2017)\, La nascita straordinaria. Tra madre e figlio: la rivoluzione del taglio cesareo (sec. XVIIIXIX) (1995)\, la curatela di Una democrazia incompiuta: donne e politica in Italia dall’Ottocento ai nostri giorni (con A. Scattigno\, 2007) e di Donne sulla scena pubblica: società e politica in Veneto tra Sette e Ottocento (2006).
URL:https://www.sissco.it/calendario/donne-dentro-la-guerra-il-primo-conflitto-mondiale-in-area-veneta-a-cura-di-nadia-maria-filippini/
LOCATION:Biblioteca di storia moderna e contemporanea\, Via Michelangelo Caetani\, 32\, Roma\, 00186\, Italia
CATEGORIES:Presentazione di libro/i
ORGANIZER;CN="Gisella Bochicchio":MAILTO:b-stmo.info@beniculturali.it
END:VEVENT
BEGIN:VEVENT
DTSTART;TZID=Europe/Rome:20180322T180000
DTEND;TZID=Europe/Rome:20180322T235900
DTSTAMP:20260422T110259
CREATED:20180311T111342Z
LAST-MODIFIED:20180311T111342Z
UID:10001761-1521741600-1521763140@www.sissco.it
SUMMARY:E' inutile avere ragione? Paolo Treves antifascista e socialista
DESCRIPTION:presentazione di In un paese schiavo con sensi liberi. Antologia degli scritti di Paolo Treves\, Milano\, Biblion 2017. \nNe discute la curatrice Francesca Fiorani con Nicola Del Corno\, Elisa Signori\, Francesco Torchiani
URL:https://www.sissco.it/calendario/e-inutile-avere-ragione-paolo-treves-antifascista-e-socialista/
LOCATION:Pavia \, Collegio Ghislieri\, Italia
CATEGORIES:Presentazione di libro/i
END:VEVENT
BEGIN:VEVENT
DTSTART;TZID=Europe/Rome:20180323T163000
DTEND;TZID=Europe/Rome:20180323T235900
DTSTAMP:20260422T110259
CREATED:20180314T110211Z
LAST-MODIFIED:20180314T110211Z
UID:10001765-1521822600-1521849540@www.sissco.it
SUMMARY:Storia fotografia memoria. Produzione\, uso e ricezione delle immagini tra pubblico e privato: tavola rotonda
DESCRIPTION:Venerdì 23 marzo marzo 2018\, alle ore 16.30\, presso la Biblioteca di storia moderna e contemporanea (Palazzo Mattei di Giove – Via Michelangelo Caetani 32\, Roma)\, in collaborazione con la Società Italiana per lo Studio della Fotografia (SISF) e l’Istituto piemontese per la storia della Resistenza e della società contemporanea “Giorgio Agosti”\, si terrà una tavola rotonda sul tema Storia fotografia memoria. Produzione\, uso e ricezione delle immagini tra pubblico e privato\, a partire dalla pubblicazione del volume Una memoria per immagini.\nGuerra e Resistenza nelle fotografie di Ettore Serafino\, di Alessandra Giovannini Luca e Davide Tabor\, Franco Angeli\, 2017.\nIntervengono: Maddalena Carli\, Alessandra Gissi\, Serge Noiret\, Domenico Rizzo. Coordina: Maria Francesca\nBonetti. Saranno presenti gli autori.  \nLe fotografie della Resistenza italiana accumulate nel corso dei decenni sono migliaia: le hanno raccolte anzitutto gli ex partigiani\, nel tentativo di tenere vivo\, anche con le immagini\, il ricordo della guerra di Liberazione. Il libro parla di questi scatti e affronta il problema della memoria visuale della Resistenza indagandone i meccanismi di costruzione\, la fisionomia e i caratteri di diffusione. Nel novero delle raccolte fotografiche dedicate alla guerra e alla Resistenza in Italia\, i tre album del comandante partigiano Ettore Serafino costituiscono in questo senso una fonte\nstraordinaria: accompagnati da una ricca documentazione personale e creati unendo le riprese eseguite da lui stesso a quelle effettuate da altri autori\, essi sono in grado di testimoniare il lungo processo di formazione della memoria visuale di quella importante stagione. La prima parte del libro si sofferma sulla produzione degli scatti ripercorrendo le vicende che anticipano la composizione dei tre volumi. La seconda si concentra sul loro montaggio e ordinamento da parte di Serafino nell\’immediato dopoguerra\, e rivolge particolare attenzione alle diverse funzioni e modalità di impiego delle fotografie nel corso del tempo\, in bilico tra fruizione privata e uso pubblico.\nIl libro è frutto di un progetto dell’Istituto piemontese per la storia della Resistenza e della società contemporanea “Giorgio Agosti” sostenuto con i fondi Otto per Mille della Chiesa Valdese.
URL:https://www.sissco.it/calendario/storia-fotografia-memoria-produzione-uso-e-ricezione-delle-immagini-tra-pubblico-e-privato-tavola-rotonda/
LOCATION:Biblioteca di storia moderna e contemporanea\, Via Michelangelo Caetani\, 32\, Roma\, 00186\, Italia
CATEGORIES:Presentazione di libro/i
ORGANIZER;CN="Gisella Bochicchio":MAILTO:b-stmo.info@beniculturali.it
END:VEVENT
BEGIN:VEVENT
DTSTART;TZID=Europe/Rome:20180326T180000
DTEND;TZID=Europe/Rome:20180326T235900
DTSTAMP:20260422T110259
CREATED:20180317T190159Z
LAST-MODIFIED:20180317T190159Z
UID:10000519-1522087200-1522108740@www.sissco.it
SUMMARY:Presentazione del carteggio Moro-La Pira
DESCRIPTION:Presentazione del volume “Moro e La Pira. Due percorsi per il bene comune” Edizioni Polistampa\, Firenze 2017 (I Libri della Badia). \nModera: Luciano Caimi (Università Cattolica del S. Cuore) \nIntervengono: Massimo De Giuseppe (Università IULM) \nGuido Formigoni (Università IULM) \nMarco Luppi (Istituto universitario Sophia)
URL:https://www.sissco.it/calendario/presentazione-del-carteggio-moro-la-pira/
LOCATION:Sala San Satiro (Sant’Ambrogio)\, Piazza Sant’Ambrogio\, 15\, Milano\, Italia
CATEGORIES:Presentazione di libro/i
END:VEVENT
BEGIN:VEVENT
DTSTART;TZID=Europe/Rome:20180327T170000
DTEND;TZID=Europe/Rome:20180327T235900
DTSTAMP:20260422T110259
CREATED:20180325T150311Z
LAST-MODIFIED:20180325T150311Z
UID:10001772-1522170000-1522195140@www.sissco.it
SUMMARY:De Gasperi Scrive Invito 27 Marzo 2018
DESCRIPTION:Gentili soci\, \nricevo dagli organizzatori e invio a tutti voi\, sperando di farvi cosa gradita. \nCordialmente\, \nLucio Valent
URL:https://www.sissco.it/calendario/de-gasperi-scrive-invito-27-marzo-2018/
CATEGORIES:Presentazione di libro/i
END:VEVENT
BEGIN:VEVENT
DTSTART;TZID=Europe/Rome:20180328T170000
DTEND;TZID=Europe/Rome:20180328T235900
DTSTAMP:20260422T110259
CREATED:20180325T135708Z
LAST-MODIFIED:20180325T140241Z
UID:10001770-1522256400-1522281540@www.sissco.it
SUMMARY:Interdizioni israelitiche
DESCRIPTION:Viene presentata la nuova edizione delle “Interdizioni israelitiche” di Carlo Cattaneo\, curata da Gianmarco Pondrano Altavilla\, con le prefazioni di Noemi Di Segni\, Ofer Sachs\, Maurizio Bernardo.\nL’opera viene presentata da Zeffiro Ciuffoletti e da Gigliola Sacerdoti Mariani\, con il coordinamento di Valentino Baldacci. Conclusioni di Gianmarco Pondrano Altavilla.\nLa presetazione è promossa dall’Associazione Italia-Israele di Firenze con la collaborazione della Fondazione Spadolini Nuova Antologia\, la Fondazione Ernesto Rossi-Gaetano Salvemini\, il Coordinamento toscano per la promozione dei valori risorgimentali\, il Circolo di cultura politica Fratelli Rosselli.
URL:https://www.sissco.it/calendario/interdizioni-israelitiche/
LOCATION:Biblioteca della Fondazione Spadolini\, Via Pian de' Giullari 36/A\, Firenze\, Italia
CATEGORIES:Presentazione di libro/i
ORGANIZER;CN="Valentino Baldacci":MAILTO:firenze.assitaliaisraele@gmail.com
END:VEVENT
END:VCALENDAR