BEGIN:VCALENDAR
VERSION:2.0
PRODID:-//SISSCO - ECPv6.15.20//NONSGML v1.0//EN
CALSCALE:GREGORIAN
METHOD:PUBLISH
X-WR-CALNAME:SISSCO
X-ORIGINAL-URL:https://www.sissco.it
X-WR-CALDESC:Eventi per SISSCO
REFRESH-INTERVAL;VALUE=DURATION:PT1H
X-Robots-Tag:noindex
X-PUBLISHED-TTL:PT1H
BEGIN:VTIMEZONE
TZID:Europe/Rome
BEGIN:DAYLIGHT
TZOFFSETFROM:+0100
TZOFFSETTO:+0200
TZNAME:CEST
DTSTART:20170326T010000
END:DAYLIGHT
BEGIN:STANDARD
TZOFFSETFROM:+0200
TZOFFSETTO:+0100
TZNAME:CET
DTSTART:20171029T010000
END:STANDARD
BEGIN:DAYLIGHT
TZOFFSETFROM:+0100
TZOFFSETTO:+0200
TZNAME:CEST
DTSTART:20180325T010000
END:DAYLIGHT
BEGIN:STANDARD
TZOFFSETFROM:+0200
TZOFFSETTO:+0100
TZNAME:CET
DTSTART:20181028T010000
END:STANDARD
BEGIN:DAYLIGHT
TZOFFSETFROM:+0100
TZOFFSETTO:+0200
TZNAME:CEST
DTSTART:20190331T010000
END:DAYLIGHT
BEGIN:STANDARD
TZOFFSETFROM:+0200
TZOFFSETTO:+0100
TZNAME:CET
DTSTART:20191027T010000
END:STANDARD
END:VTIMEZONE
BEGIN:VEVENT
DTSTART;TZID=Europe/Rome:20180606T160000
DTEND;TZID=Europe/Rome:20180606T235900
DTSTAMP:20260422T050318
CREATED:20180531T085152Z
LAST-MODIFIED:20180531T085152Z
UID:10000563-1528300800-1528329540@www.sissco.it
SUMMARY:Lettere di Theodor Mommsen agli italiani\, a cura di Marco Buonocore
DESCRIPTION:Mercoledì 6 giugno p.v.\, presso il Dipartimento di scienze giuridiche (Facoltà di giurisprudenza) dell’Università di Roma Sapienza\, Aula delle lauree (Piazzale Aldo Moro\, 5)\, sarà presentato il volume di Marco Buonocore\, Lettere di Theodor Mommsen agli italiani\, (Biblioteca Apostolica Vaticana\, Città del Vaticano\, 2017 (Studi e testi\, 519-520)\nDopo il saluto delle autorità accademiche\, interverranno\nLuigi Capogrossi Colognesi\, merito di Diritto romano\, Università di Roma Sapienza\nRosario Pintaudi\, ordinario di Papirologia\, Università di Messina\,\ncon il coordinamento di Oliviero Diliberto\, ordinario di Diritto romano\, Università di Roma Sapienza.\nSarà presente l’Autore.
URL:https://www.sissco.it/calendario/lettere-di-theodor-mommsen-agli-italiani-a-cura-di-marco-buonocore/
CATEGORIES:Presentazione di libro/i
END:VEVENT
BEGIN:VEVENT
DTSTART;TZID=Europe/Rome:20180606T173000
DTEND;TZID=Europe/Rome:20180606T235900
DTSTAMP:20260422T050318
CREATED:20180602T135253Z
LAST-MODIFIED:20180602T135253Z
UID:10000568-1528306200-1528329540@www.sissco.it
SUMMARY:L'impegno delle mazziniane per l'emancipazione femminile
DESCRIPTION:Genova\, 6 giugno 2018\, ore 17\, 30 \nMuseo  del Risorgimento – Istituto mazziniano \nPresentazione del volume di Graziella Gaballo \nL’impegno delle mazziniane per l’emancipazione femminile. Il contributo di Elena Ballio (Joker\, Novi Ligure 2018) \nIntroduce Augusta Molinari (università di Genova) \n 
URL:https://www.sissco.it/calendario/limpegno-delle-mazziniane-per-lemancipazione-femminile/
LOCATION:Museo del Risorgimento\, istituto mazziniano\, via Lomellini\, 11\, Genova\, Italia
CATEGORIES:Presentazione di libro/i
ORGANIZER;CN="Graziella Gaballo":MAILTO:graziellagaballo@libero.it
END:VEVENT
BEGIN:VEVENT
DTSTART;TZID=Europe/Rome:20180606T180000
DTEND;TZID=Europe/Rome:20180606T235900
DTSTAMP:20260422T050318
CREATED:20180530T140703Z
LAST-MODIFIED:20180530T140703Z
UID:10000570-1528308000-1528329540@www.sissco.it
SUMMARY:Dialoghi a Villa Mylius | Giuseppe Lodigiani: ricordi di vita e di lavoro
DESCRIPTION:Fondazione ISEC è lieta di invitarvi alla discussione del volume di Giuseppe Lodigiani\, Ricordi di vita e di lavoro (2017)\, sulla storia della Lodigiani Spa.\nIntervengono: \n	         Salvatore Carrubba\, Editorialista de “Il Sole 24 Ore”\n	         Roberta Garruccio\, Università degli studi di Milano\n	         Gianfranco Petrillo\, Fondazione ISEC \nIntroduce e modera: \n	        Giorgio Bigatti\, Fondazione ISEC \nSaranno presenti i figli di Giuseppe Lodigiani \nMercoledì 6 giugno 2018 ore 18\nFondazione ISEC\, Villa Mylius\, largo La Marmora 17 Sesto San Giovanni\nInfo e conferme: comunicazione@fondazioneisec.it
URL:https://www.sissco.it/calendario/dialoghi-a-villa-mylius-giuseppe-lodigiani-ricordi-di-vita-e-di-lavoro/
LOCATION:Fondazione Isec\, Villa Mylius\, Villa Mylius\, Largo La Marmora 17\, Sesto San Giovanni (MI)\, Italia
CATEGORIES:Presentazione di libro/i
ORGANIZER;CN="Sara Zanisi":MAILTO:comunicazione@fondazioneisec.it
END:VEVENT
BEGIN:VEVENT
DTSTART;TZID=Europe/Rome:20180607T170000
DTEND;TZID=Europe/Rome:20180607T235900
DTSTAMP:20260422T050318
CREATED:20180529T174329Z
LAST-MODIFIED:20180529T174329Z
UID:10000569-1528390800-1528415940@www.sissco.it
SUMMARY:Emozioni\, cultura popolare e transnazionalismo. Le origini della cultura anarchica in Italia (1890-1914) di Marco Manfredi
DESCRIPTION:Giovedì 7 giugno 2018\, alle ore 17.00\, presso la Biblioteca di storia moderna e contemporanea (Palazzo Mattei di Giove – Via Michelangelo Caetani 32\, Roma)\, sarà presentato il volume Emozioni\, cultura popolare e transnazionalismo. Le origini della cultura anarchica in Italia (1890-1914) di Marco Manfredi\, Le Monnier\, 2018. Intervengono: Costanza D’Elia\, Alessandro Luparini\, Elena Papadia. Coordina: Rosanna De Longis. Sarà presente l’autore. \nIl volume esplora i canali attraverso cui prese forma la cultura degli anarchici italiani fra la fine del XIX secolo e l’età giolittiana. Una «comunità immaginata» che rappresentò il maggior fattore coesivo del movimento libertario\, ponendosi come un esempio efficace dell’importanza dell’immaginario nello svolgere una funzione suppletiva rispetto alle lacune dell’organizzazione di un’esperienza ostile a ogni disciplinamento burocratico. Grazie a un lavoro di ricerca su materiale documentario variegato\, il libro testimonia quanto diversi leader libertari si cimentarono in modo sistematico con i linguaggi del teatro\, della poesia e della canzone\, in un quadro di significative commistioni con la cultura popolare\, ma allo stesso tempo anche con motivi mutuati dalle avanguardie di fine secolo\, sensibili al ruolo politico e sociale delle arti. A favorire questo insieme di contaminazioni concorsero le esperienze tipicamente anarchiche dell’esilio e dell’emigrazione che agevolarono la circolazione di influenze culturali e il contatto con nuovi stili comunicativi. Prevalenza di linguaggi emozionali\, identificazione con la cultura popolare\, vocazione al transnazionalismo furono pertanto elementi cruciali nella formazione dell’immaginario culturale sovversivo che si andò strutturando in Italia fra Otto e Novecento.
URL:https://www.sissco.it/calendario/emozioni-cultura-popolare-e-transnazionalismo-le-origini-della-cultura-anarchica-in-italia-1890-1914-di-marco-manfredi/
LOCATION:Biblioteca di storia moderna e contemporanea\, Via Michelangelo Caetani\, 32\, Roma\, 00186\, Italia
CATEGORIES:Presentazione di libro/i
ORGANIZER;CN="Gisella Bochicchio":MAILTO:b-stmo.info@beniculturali.it
END:VEVENT
BEGIN:VEVENT
DTSTART;TZID=Europe/Rome:20180607T183000
DTEND;TZID=Europe/Rome:20180607T235900
DTSTAMP:20260422T050318
CREATED:20180531T175800Z
LAST-MODIFIED:20180531T175800Z
UID:10000565-1528396200-1528415940@www.sissco.it
SUMMARY:Moro. L'inchiesta senza finale
DESCRIPTION:Giovedì 7 giugno\, alle ore 18.30\, presso la libreria Les Mots di via Carmagnola 4 (angolo via Pepe) a Milano\, sarà presentato il volume di Fabio Lavagno e Vladimiro Satta dal titolo: Moro. L’inchiesta senza finale (Edup\, Roma 2018). \nInterverranno lo storico Marco Clementi (Università della Calabria)\, il giornalista Davide Maria De Luca (Il Post) e l’avvocato penalista Davide Steccanella. \nSaranno presenti gli autori.
URL:https://www.sissco.it/calendario/moro-linchiesta-senza-finale-3/
LOCATION:Libreria Les Mots\, via Carmagnola 4 (angolo via Pepe)\, Milano\, 20159\, Italia
CATEGORIES:Presentazione di libro/i
END:VEVENT
BEGIN:VEVENT
DTSTART;TZID=Europe/Rome:20180611T170000
DTEND;TZID=Europe/Rome:20180611T235900
DTSTAMP:20260422T050318
CREATED:20180608T061828Z
LAST-MODIFIED:20180608T061828Z
UID:10001820-1528736400-1528761540@www.sissco.it
SUMMARY:ASPETTANDO IL SESSANTOTTO
DESCRIPTION:Discussione a più voci a  partire dal volume “Aspettando il Sessantotto. Continuità e fratture nelle culture politiche italiane dal 1956 al 1968”\, a cura di Francesca Chiarotto (Torino\, Accademia University Press\, 2017\, volume IV della “BHM. La Biblioteca di Historia Magistra”)\, lunedì 11 giugno | 17.00 – 20.00 presso il Polo del ‘900\, Sala Didattica\, via del Carmine 14\, Torino. \nPresiede \nSergio Soave\, Presidente Polo del ‘900 (Università di Torino) \nInterventi \nFrancesca Chiarotto\, curatrice del volume (Historia Magistra) \nFabrizio Loreto (Università di Torino\, Historia Magistra) \nGiovanni Carpinelli (Fondazione Istituto Piemontese Antonio Gramsci) \nMarco Brunazzi  (Istituto di studi storici Gaetano Salvemini) \nMarta Margotti (Fondazione Vera Nocentini) \nConclusioni \nAngelo d’Orsi (Direttore di Historia Magistra\, Università di Torino) \n 
URL:https://www.sissco.it/calendario/aspettando-il-sessantotto/
LOCATION:POLO DEL ‘900\, Piazzetta Antonicelli\, Torino\, Italia
CATEGORIES:Presentazione di libro/i
ORGANIZER;CN="HISTORIA MAGISTRA":MAILTO:redazionehmtorino@gmail.com
END:VEVENT
BEGIN:VEVENT
DTSTART;TZID=Europe/Rome:20180613T170000
DTEND;TZID=Europe/Rome:20180613T235900
DTSTAMP:20260422T050318
CREATED:20180601T181709Z
LAST-MODIFIED:20180609T184420Z
UID:10000567-1528909200-1528934340@www.sissco.it
SUMMARY:A tempo debito. Donne\, uomini\, relazioni di credito a Napoli tra Ottocento e Novecento
DESCRIPTION:Mercoledì 13 giugno 2018\, alle ore 17.00\, in collaborazione con l’Istituto storico italiano per l’età moderna e contemporanea e l’Istituto di Storia dell’Europa Mediterranea (ISEM)\, la Biblioteca di storia moderna e contemporanea (Palazzo Mattei di Giove – Via Michelangelo Caetani 32\, Roma)\, presenta il volume A tempo debito. Donne\, uomini\, relazioni di credito a Napoli tra Ottocento e Novecento di Maria Rosaria De Rosa\, Viella\, 2017.\nIntervengono: Angiolina Arru\, Anna Bellavitis\, Rosanna Scatamacchia.\nCoordina: Marcello Verga.\nSarà presente l’autrice. \nÈ possibile che il mercato del denaro novecentesco possa essere spiegato anche attraverso antichi istituti giuridici come la dote o l’autorizzazione maritale? L’autonomia giuridica e imprenditoriale delle donne può essere un filtro attraverso il quale interpretare i circuiti finanziari delle città in età contemporanea? In questo libro l’autrice traccia la storia del credito tra la fine dell’Ottocento e i primi decenni del Novecento seguendo i percorsi e le relazioni di donne e uomini del ceto mercantile di una grande città come Napoli: rapporti economici basati su codificazioni che riconoscono diritti disuguali agli uni e alle altre\, e che talvolta si rivelano risorse strategiche per mettere al sicuro un capitale familiare in caso di difficoltà finanziarie. Partendo dalle connessioni sociali e dalle relazioni abituali tra debitori e creditori\, questa lettura delle relazioni di credito innesca un ripensamento della storia bancaria italiana\, e dell’attuale crisi del credito in Italia. \nIndice:\nIntroduzione. Le declinazioni di un debito;\n1. Possedere quindi essere. Patrimoni femminili e diritti disuguali – 1. Pratiche della vita e degli affari – 2. Per amore e per affari: “investire” nel matrimonio – 3. Donne in affari:capitali e competenze\n2. La speculazione – 1. Il commercio del denaro – 2. «Denominazioni fantastiche» – 3. E i banchi stanno a guardare – 4. Alle origini delle banche: denaro\, diritti\, relazioni\n3. I debiti – 1. Fallire – 2. Vecchie e nuove procedure – 3. Creditori e debitori a confronto – 4. Narrare i propri debiti – 5. Nel nome del «pudore commerciale»\n4. Se fallisce il creditore – 1. Tra le istituzioni e la «piazza» – 2. Una strategia familiare – 3. Voci dal processo – 4. Un meccanismo perfetto – 5. «Inesperta della turbinosa vita pubblica commerciale» – 6. La versione di una creditrice\nConclusioni. Verso l’«industria della cambiale»
URL:https://www.sissco.it/calendario/a-tempo-debito-donne-uomini-relazioni-di-credito-a-napoli-tra-ottocento-e-novecento-di-maria-rosaria-de-rosa/
CATEGORIES:Presentazione di libro/i
ORGANIZER;CN="Gisella Bochicchio":MAILTO:b-stmo.info@beniculturali.it
END:VEVENT
BEGIN:VEVENT
DTSTART;TZID=Europe/Rome:20180613T173000
DTEND;TZID=Europe/Rome:20180613T235900
DTSTAMP:20260422T050318
CREATED:20180530T140812Z
LAST-MODIFIED:20180530T140842Z
UID:10000561-1528911000-1528934340@www.sissco.it
SUMMARY:Incontro “Sindacati in Italia 1944-1968: uomini e strutture. Tre dizionari di Myriam Bergamaschi”
DESCRIPTION:Fondazione ISEC vi invita all’incontro di discussione “Sindacati in Italia 1944-1968: uomini e strutture. Tre dizionari di Myriam Bergamaschi”.\nIntroduce:\n·         Giorgio Benvenuto\, Presidente della Fondazione Pietro Nenni e della Fondazione Bruno Buozzi\nIntervengono:\n·         Gianprimo Cella\, Università degli studi di Milano\n·         Gianni Cervetti\, Fondazione ISEC\n·         Carlo Ghezzi\, Fondazione Giuseppe Di Vittorio\n·         Andrea Panaccione\, Università degli studi di Modena e Reggio Emilia\nSarà presente l’autrice \nMercoledì 13 giugno 2018\, ore 17\,30\nPalazzo Morando-Costume Moda Immagine\, Sala Conferenze\, Via Sant’Andrea 6\, Milano\nInfo e conferme: comunicazione@fondazioneisec.it – info@fondazionenenni.it
URL:https://www.sissco.it/calendario/incontro-sindacati-in-italia-1944-1968-uomini-e-strutture-tre-dizionari-di-myriam-bergamaschi/
LOCATION:Palazzo Morando-Costume Moda Immagine\, Sala Conferenze\, Via Sant’Andrea 6\, Milano\, Italia
CATEGORIES:Presentazione di libro/i
ORGANIZER;CN="Sara Zanisi":MAILTO:comunicazione@fondazioneisec.it
END:VEVENT
BEGIN:VEVENT
DTSTART;TZID=Europe/Rome:20180613T180000
DTEND;TZID=Europe/Rome:20180613T235900
DTSTAMP:20260422T050318
CREATED:20180608T195248Z
LAST-MODIFIED:20180608T195248Z
UID:10001822-1528912800-1528934340@www.sissco.it
SUMMARY:Moro. L'inchiesta senza finale
DESCRIPTION: \nMercoledì 13 giugno\, alle ore 18.00\, presso la libreria Feltrinelli Red di via Tomacelli 23 a Roma\, sarà presentato il libro “Moro. L’inchiesta senza finale”\, di Fabio Lavagno e Vladimiro Satta (Edup\, Roma 2018).\n \nInterverrà la giornalista e saggista Annachiara Valle. Saranno presenti gli autori.  \n 
URL:https://www.sissco.it/calendario/moro-linchiesta-senza-finale-4/
CATEGORIES:Presentazione di libro/i
END:VEVENT
BEGIN:VEVENT
DTSTART;TZID=Europe/Rome:20180614T170000
DTEND;TZID=Europe/Rome:20180614T235900
DTSTAMP:20260422T050318
CREATED:20180605T203616Z
LAST-MODIFIED:20180609T184449Z
UID:10001817-1528995600-1529020740@www.sissco.it
SUMMARY:Istituzioni e terrorismo negli anni Settanta. Dinamiche nazionali e contesto padovano di Andrea Baravelli
DESCRIPTION:Giovedì 14 giugno 2018\, alle ore 17.00\, presso la Biblioteca di storia moderna e contemporanea (Palazzo Mattei di Giove – Via Michelangelo Caetani 32\, Roma)\,\nsarà presentato il volume Istituzioni e terrorismo negli anni Settanta. Dinamiche nazionali e contesto padovano di Andrea Baravelli\, Viella\, 2016. Ne parlano con l’autore: Giovanni Mario Ceci\, Paolo Mattera.\nPadova\, 7 aprile 1979: l’inchiesta condotta dal sostituto procuratore Pietro Calogero su Autonomia operaia si chiude con una raffica di arresti di vari suoi esponenti\, alcuni dei quali molto noti. La ricostruzione\, anche attraverso una documentazione in gran parte inedita\, di quel clima e di quelle vicende consente all’autore di guardare da un osservatorio privilegiato alla tumultuosa realtà italiana degli anni Settanta. La città di Padova rappresenta infatti in quel torno di tempo un vero e\nproprio “laboratorio” politico\, terreno di sperimentazione sia per le utopie rivoluzionarie che per\nl’attività di contrasto condotta dalle istituzioni e dalle forze dell’ordine. Il discorso può così\nallargarsi ad analizzare la caotica galassia di sigle e progetti rappresentata dall’estremismo di sinistra\, la risposta data dalle istituzioni repubblicane alla minaccia del terrorismo rosso\, le investigazioni e l’attività repressiva\, il dibattito politico nazionale culminato col varo della «legislazione d’emergenza» e con la radicale riorganizzazione degli apparati di sicurezza.\nPer poi tornare a Padova – laddove tutto era iniziato\, con l’acquisto della valigetta utilizzata per la\nstrage di piazza Fontana – e all’idea\, rapidamente diffusasi\, che quel 7 aprile 1979 potesse rappresentare un passaggio cruciale per la definitiva sconfitta del terrorismo in Italia.
URL:https://www.sissco.it/calendario/istituzioni-e-terrorismo-negli-anni-settanta-dinamiche-nazionali-e-contesto-padovano-di-andrea-baravelli/
CATEGORIES:Presentazione di libro/i
ORGANIZER;CN="Gisella Bochicchio":MAILTO:b-stmo.info@beniculturali.it
END:VEVENT
BEGIN:VEVENT
DTSTART;TZID=Europe/Rome:20180619T110000
DTEND;TZID=Europe/Rome:20180619T235900
DTSTAMP:20260422T050318
CREATED:20180613T075105Z
LAST-MODIFIED:20180613T075105Z
UID:10001824-1529406000-1529452740@www.sissco.it
SUMMARY:Adolfo Sarti e le crisi della Repubblica (Il Mulino\, 2018)
DESCRIPTION:Presentazione del libro di Paolo Acanfora\, Adolfo Sarti e le crisi della Repubblica (Il Mulino\, 2018). Interverranno Paolo Corsini\, Piero Craveri\, Francesco Malgeri. 
URL:https://www.sissco.it/calendario/adolfo-sarti-e-le-crisi-della-repubblica-il-mulino-2018/
CATEGORIES:Presentazione di libro/i
END:VEVENT
BEGIN:VEVENT
DTSTART;TZID=Europe/Rome:20180622T163000
DTEND;TZID=Europe/Rome:20180622T235900
DTSTAMP:20260422T050318
CREATED:20180603T085709Z
LAST-MODIFIED:20180603T090058Z
UID:10001816-1529685000-1529711940@www.sissco.it
SUMMARY:Storia dell'Anpi Oltrarno. Associazionismo popolare e memoria della Resistenza a Firenze
DESCRIPTION:Presentazione del libro di Carmelo Albanese\, “Storia dell’Anpi Oltrarno. Associazionismo popolare e memoria della Resistenza a Firenze” (Anpi Oltrarno\, 2017). \nInterventi di: \nMatteo Mazzoni (Direttore Isrt); \nMarco Fagioli (Critico d’arte e letteratura); \nLuigi Tomassini (Storico\, Università di Bologna); \nLuigi Remaschi (Presidente Anpi Firenze). \nCoordina Alessandro Sardelli (Vicepresidente Anpi Oltrarno) \nSarà presente l’autore
URL:https://www.sissco.it/calendario/storia-dellanpi-oltrarno-associazionismo-popolare-e-memoria-della-resistenza-a-firenze/
LOCATION:Biblioteca “Pietro Thouar”\, Piazza Torquato Tasso n. 3\, Firenze\, 50125\, Italia
CATEGORIES:Presentazione di libro/i
ORGANIZER;CN="Istituto Storico Toscano della Resistenza e dell%E2%80%99Et%C3%A0 Contemporanea":MAILTO:isrt@istoresistenzatoscana.it
END:VEVENT
BEGIN:VEVENT
DTSTART;TZID=Europe/Rome:20180622T170000
DTEND;TZID=Europe/Rome:20180622T235900
DTSTAMP:20260422T050318
CREATED:20180613T160558Z
LAST-MODIFIED:20180613T160558Z
UID:10000573-1529686800-1529711940@www.sissco.it
SUMMARY:Dio in uniforme. Cappellani\, catechesi cattolica e soldati in età moderna di Vincenzo Lavenia
DESCRIPTION:Venerdì 22 giugno 2018\, alle ore 17.00\, presso la Biblioteca di storia moderna e contemporanea (Palazzo Mattei di Giove – Via Michelangelo Caetani 32\, Roma)\, sarà presentato il volume Dio in uniforme. Cappellani\, catechesi cattolica e soldati in età moderna di Vincenzo Lavenia\, il Mulino\, 2017. Intervengono: Giampiero Brunelli\, Alessandro Santagata\, Rafael Valladares. Coordina: Sabina Pavone.\nSarà presente l’autore.\nNel contesto delle guerre di religione cinquecentesche maturò un progetto missionario rivolto ai soldati\, con la stesura di catechismi destinati agli uomini in armi e l’introduzione delle prime cappellanie stabili a fianco delle truppe. Guardando all a teologia\, alla giustizia\, al lessico della violenza religiosa e alla tradizione neo-stoica\, ma anche al concreto dispiegarsi del modello del «soldato cristiano» negli eserciti cattolici\, il volume ricostruisce il profilo dei protagonisti di un\nprogetto disciplinare inedito che accompagnò la lenta formazione degli eserciti professionali dopo\nla rivoluzione militare della prima età moderna; e\, comparando lo sforzo religioso del clero cattolico e dei predicatori protestanti\, ripercorre la storia della cura castrense dal XVI secolo fino alla Grande Guerra\, quando il morire per la Patria sostituì l’appello a combattere nel nome di Dio.
URL:https://www.sissco.it/calendario/dio-in-uniforme-cappellani-catechesi-cattolica-e-soldati-in-eta-moderna-di-vincenzo-lavenia/
CATEGORIES:Presentazione di libro/i
ORGANIZER;CN="Gisella Bochicchio":MAILTO:b-stmo.info@beniculturali.it
END:VEVENT
BEGIN:VEVENT
DTSTART;TZID=Europe/Rome:20180622T180000
DTEND;TZID=Europe/Rome:20180622T235900
DTSTAMP:20260422T050318
CREATED:20180616T172057Z
LAST-MODIFIED:20180616T172057Z
UID:10000576-1529690400-1529711940@www.sissco.it
SUMMARY:Antonio Segni. La politica e le istituzioni
DESCRIPTION:Sassari 22 giugno 2018 \nore:18\,00 \nFondazione di Sardegna via C.Alberto 7 \nAntonio Segni. La politica e le istituzioni \npresentazione del libro di Salvatore Mura \nSaluti: \nMario Segni presidente della Fondazione Antonio Segni \nAntonello Cabras presidente della Fondazione di Sardegna \nMarco Milanese direttore del Dipartimento di Storia\, Scienze dell’uomo e della formazione\, Università di Sassari \nDiscutono con l’autore: \nEmanuele Bernardi\, Università di Roma “La Sapienza” \nLuigi Zanda\, senatore della Repubblica \nCoordina  Antonio Di Rosa direttore della “Nuova Sardegna”
URL:https://www.sissco.it/calendario/antonio-segni-la-politica-e-le-istituzioni/
LOCATION:Fondazione di Sardegna\, via C.Alberto 7\, Sassari\, 07100\, Italia
CATEGORIES:Presentazione di libro/i
ORGANIZER;CN="Emanuele Bernardi":MAILTO:emanuele.bernardi@uniroma1.it
END:VEVENT
BEGIN:VEVENT
DTSTART;TZID=Europe/Rome:20180625T183000
DTEND;TZID=Europe/Rome:20180625T235900
DTSTAMP:20260422T050318
CREATED:20180616T103834Z
LAST-MODIFIED:20180616T104927Z
UID:10000575-1529951400-1529971140@www.sissco.it
SUMMARY:Leto Fratini\, scultore. Percorsi esistenziali e traiettorie dell'antifascismo tra Firenze e Milano
DESCRIPTION:Presentazione del libro di Carmelo Albanese\, “Leto Fratini\, scultore. Percorsi esistenziali e traiettorie dell’antifascismo tra Firenze e Milano” (Pacini Editore\, 2017). \nInterventi di:\nCarla Nespolo (Presidente nazionale Anpi);\nSimone Neri Serneri (Università di Firenze\, Presidente Isrt);\nAnnalisa Tonarelli (Università di Firenze\, Presidente IGT);\nGiuseppe Matulli (CRS). \nModera Vania Bagni (Presidente Anpi Toscana) \nSarà presente l’autore \nIniziativa organizzata da: Istituto Storico Toscano della Resistenza e dell’Età Contemporanea\, Anpi Firenze\, Istituto Gramsci Toscano\, Centro per la Riforma dello Stato.
URL:https://www.sissco.it/calendario/leto-fratini-scultore-percorsi-esistenziali-e-traiettorie-dellantifascismo-tra-firenze-e-milano-2/
LOCATION:Caffè Letterario “Le Murate”\, Piazza delle Murate\, Firenze\, 50122\, Italia
CATEGORIES:Presentazione di libro/i
ORGANIZER;CN="Istituto Storico Toscano della Resistenza e dell%E2%80%99Et%C3%A0 Contemporanea":MAILTO:isrt@istoresistenzatoscana.it
END:VEVENT
BEGIN:VEVENT
DTSTART;TZID=Europe/Rome:20180626T170000
DTEND;TZID=Europe/Rome:20180626T235900
DTSTAMP:20260422T050318
CREATED:20180613T160922Z
LAST-MODIFIED:20180613T160922Z
UID:10000574-1530032400-1530057540@www.sissco.it
SUMMARY:Immigrazione\, n. 91 di «Meridiana»
DESCRIPTION:Martedì 26 giugno 2018\, alle ore 17.00\, presso la Biblioteca di storia moderna e contemporanea (Palazzo Mattei di Giove – Via Michelangelo Caetani 32\, Roma)\,\npresentazione del fascicolo n. 91 di «Meridiana. Rivista di storia e scienze sociali» dal titolo Immigrazione\, con saggi di M. Colucci\, A. Gissi\, A. Alvaro\, F. Loreto\, P.\nBarcella\, S. Paoli\, E. Gargiulo\, Viella\, 2018. Intervengono: Giancarlo Monina\, Enrico Pugliese. Coordina: Annalisa Camilli. Saranno presenti gli autori.\nIl tema dell’immigrazione è entrato negli ultimi anni prepotentemente all’ordine del giorno della\ndiscussione politica nazionale e internazionale. Gli Stati nazionali\, i governi\, le organizzazioni\numanitarie\, le istituzioni internazionali\, gli attori economici\, la società civile si confrontano ogni\ngiorno con il nodo della politica migratoria.\nLa ricerca scientifica fatica a individuare uno spazio di riflessione e di sperimentazione capace di\naffinare lo sguardo e di ragionare sulla lunga durata dei fenomeni. Questo numero della rivista «Meridiana» affronta il tema dell’immigrazione in una prospettiva storica di lungo periodo con una particolare attenzione alla sua dimensione politica. L’ottica adottata consente di cogliere aspetti rilevanti del rapporto tra la società italiana e le istituzioni pubbliche. Conoscere l’immigrazione aiuta infatti a disvelare il modo con cui si intrecciano le dinamiche nazionali e quelle internazionali\, partendo dal processo di integrazione europea; aiuta a comprendere le trasformazioni nel mercato del lavoro; permette di ricostruire i punti di forza e di debolezza dell’azione delle istituzioni sul\nterritorio; fa capire meglio l’origine e lo sviluppo dei conflitti sociali; porta a riflettere sulla\ncentralità del terzo settore e la crisi del welfare: solo per citare alcune delle questioni che emergono\ndalle ricerche proposte. Dal punto di vista scientifico l’immigrazione rappresenta un terreno di incontro formidabile tra gli studiosi di storia e di scienze sociali.\nLe ricerche presentate intendono soffermarsi su un periodo storico che va dagli anni sessanta a oggi\,\na partire dai primi flussi migratori numericamente significativi che si collocano negli anni sessantasettanta\, per arrivare ai diversi interventi legislativi degli ultimi venti anni. Emerge un quadro\ncomplesso e articolato\, che ci permette di conoscere più a fondo un tema troppo spesso schiacciato sulle contingenze del presente.
URL:https://www.sissco.it/calendario/immigrazione-n-91-di-meridiana/
CATEGORIES:Presentazione di libro/i
ORGANIZER;CN="Gisella Bochicchio":MAILTO:b-stmo.info@beniculturali.it
END:VEVENT
BEGIN:VEVENT
DTSTART;TZID=Europe/Rome:20180627T170000
DTEND;TZID=Europe/Rome:20180627T235900
DTSTAMP:20260422T050318
CREATED:20180613T160216Z
LAST-MODIFIED:20181005T193205Z
UID:10001825-1530118800-1530143940@www.sissco.it
SUMMARY:Sessantotto. Due generazioni
DESCRIPTION:Mercoledì 27 giugno 2018\, alle ore 17.00\, presso la Biblioteca di storia moderna e contemporanea (Palazzo Mattei di Giove – Via Michelangelo Caetani 32\, Roma)\, sarà presentato il volume Sessantotto. Due generazioni di Francesca Socrate\, Laterza\, 2018. Intervengono: Guido Mazzoni\, Alessandro Portelli\, Mariuccia Salvati. Coordina: Marino Sinibaldi. Sarà presente l’autrice. \nA distanza di cinquant’anni\, sintetizzare con ‘generazione del ’68’ quel movimento di rivolta che ha avuto come teatro la scena del mondo può quantomeno apparire sbrigativo\, per non dire semplicistico\, stereotipato. Lo scopo di questo libro è quello di mostrare che il ’68\, lungi dall’essere il risultato dell’esperienza di una generazione omogenea\, è in realtà frutto della convergenza di soggetti diversi per cultura politica\, esperienze\, istanze di rivolta e modi della partecipazione. Che il ’68 sia plurale emerge immediatamente dalla scomposizione di quella generazione\, soprattutto analizzandola per età: tre\, quattro anni di differenza marcano\, infatti\, una distanza spesso conflittuale tra due culture generazionali. Attraverso decine di storie di vita e lungo gli itinerari che dagli anni Cinquanta portarono migliaia di ragazze e ragazzi al ’68\, Francesca Socrate intreccia la ricostruzione storica con l’analisi della loro memoria autobiografica e del linguaggio usato per raccontarla: si elabora così il senso che i protagonisti del movimento attribuiscono oggi a quel loro passato.
URL:https://www.sissco.it/calendario/sessantotto-due-generazioni-di-francesca-socrate/
CATEGORIES:Presentazione di libro/i
ORGANIZER;CN="Gisella Bochicchio":MAILTO:b-stmo.info@beniculturali.it
END:VEVENT
END:VCALENDAR