BEGIN:VCALENDAR
VERSION:2.0
PRODID:-//SISSCO - ECPv6.15.20//NONSGML v1.0//EN
CALSCALE:GREGORIAN
METHOD:PUBLISH
X-ORIGINAL-URL:https://www.sissco.it
X-WR-CALDESC:Eventi per SISSCO
REFRESH-INTERVAL;VALUE=DURATION:PT1H
X-Robots-Tag:noindex
X-PUBLISHED-TTL:PT1H
BEGIN:VTIMEZONE
TZID:Europe/Rome
BEGIN:DAYLIGHT
TZOFFSETFROM:+0100
TZOFFSETTO:+0200
TZNAME:CEST
DTSTART:20170326T010000
END:DAYLIGHT
BEGIN:STANDARD
TZOFFSETFROM:+0200
TZOFFSETTO:+0100
TZNAME:CET
DTSTART:20171029T010000
END:STANDARD
BEGIN:DAYLIGHT
TZOFFSETFROM:+0100
TZOFFSETTO:+0200
TZNAME:CEST
DTSTART:20180325T010000
END:DAYLIGHT
BEGIN:STANDARD
TZOFFSETFROM:+0200
TZOFFSETTO:+0100
TZNAME:CET
DTSTART:20181028T010000
END:STANDARD
BEGIN:DAYLIGHT
TZOFFSETFROM:+0100
TZOFFSETTO:+0200
TZNAME:CEST
DTSTART:20190331T010000
END:DAYLIGHT
BEGIN:STANDARD
TZOFFSETFROM:+0200
TZOFFSETTO:+0100
TZNAME:CET
DTSTART:20191027T010000
END:STANDARD
END:VTIMEZONE
BEGIN:VEVENT
DTSTART;TZID=Europe/Rome:20180918T170000
DTEND;TZID=Europe/Rome:20180918T235900
DTSTAMP:20260421T225213
CREATED:20180912T210809Z
LAST-MODIFIED:20181005T193127Z
UID:10000582-1537290000-1537315140@www.sissco.it
SUMMARY:Nazionalismo italiano\, nazionalismo francese. Gabriele D’Annunzio e Roberto Forges Davanzati
DESCRIPTION:Martedì 18 settembre 2018\, alle ore 17.00\, presso la Biblioteca di storia moderna e contemporanea (Palazzo Mattei di Giove – Via Michelangelo Caetani 32\, Roma)\,\nsarà presentato il volume Nazionalismo italiano\, nazionalismo francese. Gabriele D’Annunzio e Roberto Forges Davanzati di Filippo Sallusto\, Aracne\, 2018.\nIntervengono: Annamaria Andreoli\, Gianfranco Giorgolo\, Benedetto Ippolito.\nSarà presente l’autore.\nIl volume contestualizza l’archivio di Roberto Forges Davanzati nelle problematiche storiche del primo Novecento e individua nel nazionalismo l’elemento che unisce il giornalista napoletano\, di cui offre la fisionomia\, al principale interlocutore presente\, Gabriele d’Annunzio. L’autore ripercorre la nascita e lo sviluppo di questo movimento nelle sue varie origini e nei molteplici esiti\, in modo da focalizzare i rapporti del poeta con essi. In particolare si esamina cronologicamente la sua corrispondenza con Maurice Barrès\, il più illustre rappresentante del nazionalismo francese e in costante contatto col vate\, che finora è pubblicata parzialmente e in luoghi separati. Oltre a lettere inedite di vari personaggi\, di interesse anche letterario\, quelle relative all’impresa fiumana possono\ncontribuire alla conoscenza e al giudizio degli storici sull’importante capitolo della vita del Comandante.
URL:https://www.sissco.it/calendario/nazionalismo-italiano-nazionalismo-francese-gabriele-dannunzio-e-roberto-forges-davanzati-di-filippo-sallusto/
CATEGORIES:Presentazione di libro/i
ORGANIZER;CN="Gisella Bochicchio":MAILTO:b-stmo.info@beniculturali.it
END:VEVENT
BEGIN:VEVENT
DTSTART;TZID=Europe/Rome:20180918T170000
DTEND;TZID=Europe/Rome:20180918T235900
DTSTAMP:20260421T225213
CREATED:20180918T085516Z
LAST-MODIFIED:20181005T193054Z
UID:10000589-1537290000-1537315140@www.sissco.it
SUMMARY:Donne contro la violenza. Artiste nella Grande Guerra
DESCRIPTION:Martedì 25 settembre 2018\, alle ore 17.00\, presso la Biblioteca di storia moderna e contemporanea (Palazzo Mattei di Giove – Via Michelangelo Caetani 32\, Roma)\, sarà presentato il volume Donne contro la violenza. Artiste nella Grande Guerra di Lina Lo Giudice Sergi\, Ginevra Bentivoglio EditoriA\, 2018.\nIntervengono: Franco Ferrarotti\, Luigi Lombardi Satriani\, Piergiorgio Parroni.\nCoordina: Gisella Bochicchio.\nSarà presente l’autrice. \nCon gli uomini al fronte\, nel corso del primo conflitto mondiale le donne si ritrovarono a tenere le redini di una società in cui\, fino a quel momento\, avevano avuto un ruolo marginale\, trovando la forza anche di gridare il loro “No” alla “Grande Guerra” che stava piagando l’Europa e non solo. Molte di queste pacifiste-femministe avviarono campagne per la diffusione di uno spirito pacifista e per la promozione dei diritti civili\, e a dare voce a tali istanze furono soprattutto donne impegnate nel campo delle Arti\, pronte a solidarizzare con le compagne dei paesi nemici nella ricerca di quanto\, nella mostruosità della guerra\, rimaneva di umano nell’uomo. Il presente volume indaga le loro biografie e ne ricostruisce visioni artistiche e pensiero\, anche attraverso le loro stesse parole.
URL:https://www.sissco.it/calendario/donne-contro-la-violenza-artiste-nella-grande-guerra-di-lina-lo-giudice-sergi/
CATEGORIES:Presentazione di libro/i
ORGANIZER;CN="Gisella Bochicchio":MAILTO:b-stmo.info@beniculturali.it
END:VEVENT
BEGIN:VEVENT
DTSTART;TZID=Europe/Rome:20180919T183000
DTEND;TZID=Europe/Rome:20180919T235900
DTSTAMP:20260421T225213
CREATED:20180911T135317Z
LAST-MODIFIED:20180912T114352Z
UID:10001835-1537381800-1537401540@www.sissco.it
SUMMARY:Il censore e l’editore. Mussolini\, i libri\, Mondadori
DESCRIPTION:In occasione dell’uscita del volume di Giorgio Fabre\,”Il censore e l’editore. Mussolini\, i libri\, Mondadori”  il Laboratorio Formentini ospita un incontro per raccontare il sistema censorio progressivamente vigente in epoca fascista a partire dalla fine degli anni Venti e di cui l’autore ripercorre alcune tappe fondamentali: dall’atteggiamento ambivalente di Mussolini nei confronti nel mondo della cultura\, con particolare attenzione alla Mondadori\, all’epoca la più grande casa editrice italiana\, alle strategie originali adottate dalla casa editrice. Il volume\, distribuito da il Saggiatore\, è a cura di Fondazione Arnoldo e Alberto Mondadori. Nel corso della serata verrà inaugurata la mostra allestita in accompagnamento al volume e curata da Fondazione Arnoldo e Alberto Mondadori. \nIntervengono: lo storico contemporaneista Francesco Cassata\, Giorgio Fabre e l’esperto di storia delle traduzioni Christopher Rundle. Modera: Oliviero Ponte di Pino.
URL:https://www.sissco.it/calendario/il-censore-e-leditore-mussolini-i-libri-mondadori/
LOCATION:Laboratorio Formentini per l’editoria\, Via Marco Formentini\, 10\, Milano\, 20121 \, Italia
CATEGORIES:Presentazione di libro/i
ORGANIZER;CN="Unnamed Organizer":MAILTO:formentini@laboratorioformentini.it
END:VEVENT
BEGIN:VEVENT
DTSTART;TZID=Europe/Rome:20180921T180000
DTEND;TZID=Europe/Rome:20180921T235900
DTSTAMP:20260421T225213
CREATED:20180911T160702Z
LAST-MODIFIED:20180911T160702Z
UID:10000581-1537552800-1537574340@www.sissco.it
SUMMARY:Il Vangelo socialista
DESCRIPTION:In occasione della presentazione del libro \nBettino Craxi – Virgilio Dagnino – Luciano Pellicani \nIL VANGELO SOCIALISTA\nRinnovare la cultura del socialismo italiano \na cura di Giovanni Scirocco\n(Nino Aragno Editore) \nIntervengono oltre al curatore \nRosa Fioravante \nMario Ricciardi \nSalvatore Veca \nCoordina \nLuciano Belli Paci
URL:https://www.sissco.it/calendario/il-vangelo-socialista/
LOCATION:Casa della cultura\, Via Borgogna 3\, Milano\, Italia
CATEGORIES:Presentazione di libro/i
END:VEVENT
BEGIN:VEVENT
DTSTART;TZID=Europe/Rome:20180927T170000
DTEND;TZID=Europe/Rome:20180927T235900
DTSTAMP:20260421T225213
CREATED:20180918T095609Z
LAST-MODIFIED:20181005T193025Z
UID:10000590-1538067600-1538092740@www.sissco.it
SUMMARY:Italia immaginata. Sentimenti\, memorie e politica fra Otto e Novecento
DESCRIPTION:Giovedì 27 settembre 2018\, alle ore 17.00\, presso la Biblioteca di storia moderna e contemporanea (Palazzo Mattei di Giove – Via Michelangelo Caetani 32\, Roma)\, sarà presentato il volume Italia immaginata. Sentimenti\, memorie e politica fra Otto e Novecento di Fulvio Conti\, Pacini Editore\, 2017. Intervengono: Amedeo Quondam\, Raffaele Romanelli. Coordina: Rosanna De Longis. Sarà presente l’autore. \nLa storia politica d’Italia fra XIX e XX secolo ha conosciuto negli ultimi anni una rilettura profonda\, frutto degli stimoli che sono venuti dalle nuove ricerche di storia culturale e dalla feconda contaminazione con altre discipline. Gli storici dell’età contemporanea si sono rivolti con interesse a tematiche riguardanti la sfera emozionale della politica\, la dimensione simbolica e rituale\, la costruzione delle identità e dei sentimenti di appartenenza\, le memorie pubbliche e private\, le rappresentazioni collettive. Collocandosi in questo filone di studi\, il volume cerca di gettare luce su alcuni importanti fenomeni politici che hanno caratterizzato l’Ottocento e il primo Novecento: la partecipazione femminile al Risorgimento\, l’influenza esercitata dalle relazioni affettive nell’evoluzione del sentimento patriottico e della fede politica\, il culto dei martiri caduti nelle lotte per l’indipendenza e per la libertà\, l’uso pubblico di Dante Alighieri quale simbolo d’italianità\, il ruolo della tradizione scientifica nella costruzione dell’identità nazionale\, il contributo peculiare che la massoneria ha dato a questo processo\, l’eredità risorgimentale e le divisioni che essa ha lasciato nell’immaginario collettivo.
URL:https://www.sissco.it/calendario/italia-immaginata-sentimenti-memorie-e-politica-fra-otto-e-novecento-di-fulvio-conti/
CATEGORIES:Presentazione di libro/i
ORGANIZER;CN="Gisella Bochicchio":MAILTO:b-stmo.info@beniculturali.it
END:VEVENT
END:VCALENDAR