BEGIN:VCALENDAR
VERSION:2.0
PRODID:-//SISSCO - ECPv6.15.20//NONSGML v1.0//EN
CALSCALE:GREGORIAN
METHOD:PUBLISH
X-ORIGINAL-URL:https://www.sissco.it
X-WR-CALDESC:Eventi per SISSCO
REFRESH-INTERVAL;VALUE=DURATION:PT1H
X-Robots-Tag:noindex
X-PUBLISHED-TTL:PT1H
BEGIN:VTIMEZONE
TZID:Europe/Rome
BEGIN:DAYLIGHT
TZOFFSETFROM:+0100
TZOFFSETTO:+0200
TZNAME:CEST
DTSTART:20170326T010000
END:DAYLIGHT
BEGIN:STANDARD
TZOFFSETFROM:+0200
TZOFFSETTO:+0100
TZNAME:CET
DTSTART:20171029T010000
END:STANDARD
BEGIN:DAYLIGHT
TZOFFSETFROM:+0100
TZOFFSETTO:+0200
TZNAME:CEST
DTSTART:20180325T010000
END:DAYLIGHT
BEGIN:STANDARD
TZOFFSETFROM:+0200
TZOFFSETTO:+0100
TZNAME:CET
DTSTART:20181028T010000
END:STANDARD
BEGIN:DAYLIGHT
TZOFFSETFROM:+0100
TZOFFSETTO:+0200
TZNAME:CEST
DTSTART:20190331T010000
END:DAYLIGHT
BEGIN:STANDARD
TZOFFSETFROM:+0200
TZOFFSETTO:+0100
TZNAME:CET
DTSTART:20191027T010000
END:STANDARD
END:VTIMEZONE
BEGIN:VEVENT
DTSTART;TZID=Europe/Rome:20181204T170000
DTEND;TZID=Europe/Rome:20181204T235900
DTSTAMP:20260421T170228
CREATED:20181124T190430Z
LAST-MODIFIED:20181124T190430Z
UID:10000645-1543942800-1543967940@www.sissco.it
SUMMARY:Tra capitalismo e amministrazione. Il liberalismo atlantico di Nitti
DESCRIPTION:Martedì 4 dicembre 2018\, alle ore 17.00\, presso la Biblioteca di storia moderna e contemporanea (Palazzo Mattei di Giove – Via Michelangelo Caetani 32\, Roma)\,\npresentazione del volume Tra capitalismo e amministrazione. Il liberalismo atlantico di Nitti di Michele Cento\, Il Mulino\, 2017. Ne discutono con l’autore: Marco De Nicolò\, Piero Craveri.\nNel 1889\, a un secolo esatto dalla presa della Bastiglia\, Antonio Labriola dichiara chiusa l’età dello\nindividualismo\, per annunciare l’avvento dell’età della socialità. È questo il presupposto storico e concettuale su cui poggia la ‘rivoluzione liberale’ di Francesco Saverio Nitti. Economista e sociologo\, prima di diventare deputato\, ministro e presidente del Consiglio\, Nitti avvia un processo di rinnovamento del liberalismo\, aprendolo all’influenza del socialismo e delle scienze sociali.\nContro gli arroccamenti del liberalismo italiano alle prese con le rivendicazioni delle masse popolari e lavoratrici\, egli individua nel conflitto sociale tra interessi organizzati la porta d’accesso alla modernità e alla democrazia. In questo senso\, Nitti rappresenta la voce italiana di un liberalismo atlantico che riforma se stesso per assorbire e governare le trasformazioni che a cavallo del Novecento accompagnano la diffusione ‘transoceanica’ del capitalismo industriale\, della società  di massa e dello Stato amministrativo. Il suo pensiero politico non è però destinato a rimanere sulla\ncarta\, perché tra età giolittiana e Prima guerra mondiale si tramuta in quella che Antonio Gramsci ha definito una «filosofia dell’azione». È in questo passaggio\, però\, che lo slancio democratico va via via scemando\, per lasciare il posto a un’idea di democrazia industriale in cui gli imperativi dell’organizzazione razionale del capitalismo prendono il sopravvento sulle promesse di emancipazione e liberazione della totalità degli individui. In questa fase\, cioè\, la rivoluzione liberale viene sempre più affidata a un’amministrazione di tipo nuovo\, che sfonda il confine tra pubblico e privato\, per meglio adattarsi alle esigenze di una società che\, dopo la mobilitazione totale della guerra\, entra in una crisi di governabilità. Esplodono così le contraddizioni interne a un liberalismo\nche non è più in grado di coniugare sul piano discorsivo e pratico la promessa di liberazione universale degli individui con le esigenze della disciplina sociale della produzione. In queste contraddizioni si insinuerà il fascismo\, che si innesta sul flusso modernizzatore messo in moto da un liberalismo riformato\, annichilendo però la pretesa di libertà con cui si era aperta l’età della\nsocialità.
URL:https://www.sissco.it/calendario/tra-capitalismo-e-amministrazione-il-liberalismo-atlantico-di-nitti/
CATEGORIES:Presentazione di libro/i
ORGANIZER;CN="Gisella Bochicchio":MAILTO:b-stmo.info@beniculturali.it
END:VEVENT
BEGIN:VEVENT
DTSTART;TZID=Europe/Rome:20181204T170000
DTEND;TZID=Europe/Rome:20181204T235900
DTSTAMP:20260421T170228
CREATED:20181130T164657Z
LAST-MODIFIED:20181130T164657Z
UID:10001902-1543942800-1543967940@www.sissco.it
SUMMARY:Sessantotto. Due generazioni
DESCRIPTION:Il giorno 4 dicembre\, presso la Libreria Marabuk di Firenze\,   la linguista Luciana Brandi (Università di Firenze) discuterà con Francesca Socrate il suo volume “Sessantotto. Due generazioni”
URL:https://www.sissco.it/calendario/sessantotto-due-generazioni-2/
LOCATION:Libreria Marabuk\, Via Maragliano 29/E\, Firenze\, 50144\, Italia
CATEGORIES:Presentazione di libro/i
ORGANIZER;CN="Francesca Socrate":MAILTO:francesca.socrate@gmail.com
END:VEVENT
BEGIN:VEVENT
DTSTART;TZID=Europe/Rome:20181204T210000
DTEND;TZID=Europe/Rome:20181204T235900
DTSTAMP:20260421T170228
CREATED:20181126T135021Z
LAST-MODIFIED:20181126T135021Z
UID:10000641-1543957200-1543967940@www.sissco.it
SUMMARY:Né stalinisti né confessionali. Per una storia della Fiap
DESCRIPTION:Presentazione del libro omonimo (Biblion\, Milano 2018). \nIntervengono Mario Artali\, Presidente Fiap \nPaolo Pezzino\, Presidente Istituto nazionale Ferruccio Parri \nGiovanni Scirocco\, curatore del volume \nGli autori dei testi Roberta Cairoli\, Monica Lang\, Jacopo Perazzoli\, Andrea Torre
URL:https://www.sissco.it/calendario/ne-stalinisti-ne-confessionali-per-una-storia-della-fiap/
LOCATION:Circolo di via De Amicis\, Milano\, Via De Amicis 17\, Milano\, 20123\, Italia
CATEGORIES:Presentazione di libro/i
END:VEVENT
BEGIN:VEVENT
DTSTART;TZID=Europe/Rome:20181205T110000
DTEND;TZID=Europe/Rome:20181205T230000
DTSTAMP:20260421T170228
CREATED:20181127T160029Z
LAST-MODIFIED:20181130T094049Z
UID:10000643-1544007600-1544050800@www.sissco.it
SUMMARY:Il grande sbarco. L'Italia e la scoperta dell'immigrazione
DESCRIPTION:Marco Impagliazzo\, Loreto Di Nucci e Maura Marchegiani presentano il libro di Valerio De Cesaris\, Il grande sbarco. L’Italia e la scoperta dell’immigrazione\, Guerini e Associati 2018. \nIl libro descrive le vicende dell’immigrazione in Italia nel triennio 1989-1991\, dall’omicidio del giovane sudafricano Jerry Essan Masslo agli arrivi dei profughi albanesi sulle coste pugliesi. \nIl titolo del libro fa riferimento alla storia della nave Vlora\, che giunse a Bari l’8 agosto 1991 con 18.000 albanesi a bordo.
URL:https://www.sissco.it/calendario/presentazione-del-libro-il-grande-sbarco-litalia-e-la-scoperta-dellimmigrazione/
LOCATION:Perugia\, Palazzo Gallenga\, Piazza Fortebraccio 4\, Perugia\, 06123\, Italia
CATEGORIES:Presentazione di libro/i
ORGANIZER;CN="Valerio De Cesaris":MAILTO:valerio.decesaris@unistrapg.it
END:VEVENT
BEGIN:VEVENT
DTSTART;TZID=Europe/Rome:20181205T170000
DTEND;TZID=Europe/Rome:20181205T235900
DTSTAMP:20260421T170228
CREATED:20181128T232159Z
LAST-MODIFIED:20181128T232159Z
UID:10001896-1544029200-1544054340@www.sissco.it
SUMMARY:Società e Stato nella Grande guerra
DESCRIPTION:Mercoledì 5 dicembre 2018\, alle ore 17.00\, presso la Biblioteca di storia moderna e contemporanea (Palazzo Mattei di Giove – Via Michelangelo Caetani 32\, Roma)\, si\nsvolgerà un incontro sul tema “Società e Stato nella Grande guerra”\, a partire dalla pubblicazione dei volumi La società italiana e la Grande guerra\, a cura di Giovanna Procacci e Corrado Scibilia\, Unicopli\, 2017 e La guerra e lo Stato 1914-1918\, a cura di Giovanna Procacci\, Nicola Labanca\, Federico Goddi\, Unicopli\, 2018.\nIntroduce: Patrizia Rusciani.\nIntervengono: Guido Melis\, Mariuccia Salvati. Coordina: Leonardo Rapone. Saranno presenti i curatori.\nLa società italiana e la Grande guerra si propone di fornire al lettore un quadro generale dello status\nquaestionis degli studi sulla società italiana negli anni di guerra. I saggi che compongono il volume\naffrontano diversi aspetti della realtà bellica\, e sono suddivisi secondo tre settori di ricerca: le culture\, sia di guerra che di pace; la società\, di cui vengono descritti i caratteri politici\, economici e di trasformazione sociale; infine le rappresentazioni\, visive ed immaginarie. Il volume è preceduto da un’introduzione\, che percorre l’andamento degli studi a partire dal dopoguerra\, e comprende scritti di Emilio Gentile\, Bruna Bianchi\, Antonio Fiori\, Irene Guerrini-Marco Pluviano\, Fabio Degli Esposti\, Matteo Ermacora\, Beatrice Pisa\, Alessandra Staderini\, Paolo Giovannini\, Luigi Tomassini\, Barbara Bracco\, Fabio Todero\, Roberto\nBianchi\, Rolando Anni-Carlo Perucchetti.\nLa guerra e lo Stato comprende saggi di studiosi stranieri ed italiani (tra i quali Robert Skidelsky\, Gerhard Hirschfeld\, Fabienne Boch\, Christophe Charle\, Pietro Costa\, Pierluigi Ciocca\, Giorgio La Malfa\, Paola\nCarucci\, Luigi Tomassini\, Luciano Marrocu\, Gabriele Rigano\, Andrea Panaccione)\, che affrontano sotto\ndiverse angolature le trasformazioni che nei principali paesi europei\, e in Italia in particolare\, la guerra\nprodusse nella struttura dello Stato\, nei rapporti tra i vari poteri\, nell’economia e nella vita sociale del paese.
URL:https://www.sissco.it/calendario/societa-e-stato-nella-grande-guerra/
CATEGORIES:Presentazione di libro/i
ORGANIZER;CN="Gisella Bochicchio":MAILTO:b-stmo.info@beniculturali.it
END:VEVENT
BEGIN:VEVENT
DTSTART;TZID=Europe/Rome:20181206T173000
DTEND;TZID=Europe/Rome:20181206T235900
DTSTAMP:20260421T170228
CREATED:20181122T143430Z
LAST-MODIFIED:20181122T143539Z
UID:10000648-1544117400-1544140740@www.sissco.it
SUMMARY:Il registro. La cacciata degli ebrei dallo Stato italiano nei protocolli della Corte dei Conti 1938-1943
DESCRIPTION:A 80 anni dalla emanazione\, da parte del fascismo\, delle leggi razziali ANPI e ISTITUTO STORICO di Modena invitano tutti i cittadini alla presentazione del libro “Il registro. La cacciata degli ebrei dallo Stato italiano nei protocolli della Corte dei Conti 1938-1943” (Bologna\, Il Mulino\, 2018). \nInsieme agli autori GIORGIO FABRE e ANNALISA CAPRISTO\, interverranno il giornalista SAVERIO CIOCE\, che ha curato una ricerca su Guido Cammeo; il professore ANDREA RAPINI dell’Università Modena e Reggio e AUDE PACCHIONI\, Presidente provinciale ANPI
URL:https://www.sissco.it/calendario/il-registro-la-cacciata-degli-ebrei-dallo-stato-italiano-nei-protocolli-della-corte-dei-conti-1938-1943-2/
LOCATION:Aula Magna delle scuole Marconi\, Largo Alberto Mario Pucci 45/a\, Modena\, 41122 \, Italia
CATEGORIES:Presentazione di libro/i
END:VEVENT
BEGIN:VEVENT
DTSTART;TZID=Europe/Rome:20181210T160000
DTEND;TZID=Europe/Rome:20181210T170000
DTSTAMP:20260421T170228
CREATED:20181130T094914Z
LAST-MODIFIED:20181130T095030Z
UID:10001898-1544457600-1544461200@www.sissco.it
SUMMARY:Terrore e terrorismo. Saggio storico sulla violenza politica
DESCRIPTION:Discussione del volume di Franco Benigno (Einaudi 2018)
URL:https://www.sissco.it/calendario/terrore-e-terrorismo-saggio-storico-sulla-violenza-politica/
LOCATION:Aula Bortolami\, Dipartimento di scienze storiche\, geografiche e dell’antichità\, Via del Vescovado 30\, Padova\, Italia
CATEGORIES:Presentazione di libro/i
ORGANIZER;CN="Centro Interuniversitario di Storia Culturale (CSC)":MAILTO:centro.storiaculturale@unipd.it 
END:VEVENT
BEGIN:VEVENT
DTSTART;TZID=Europe/Rome:20181210T163000
DTEND;TZID=Europe/Rome:20181210T235900
DTSTAMP:20260421T170228
CREATED:20181128T232718Z
LAST-MODIFIED:20181128T232718Z
UID:10001897-1544459400-1544486340@www.sissco.it
SUMMARY:Al rombo del cannon. Grande guerra e canto popolare.
DESCRIPTION:Lunedì 10 dicembre 2018\, alle ore 16.30\, presso l’Auditorium dell’ICBSA (Via Michelangelo Caetani\, 32)\, la Biblioteca di storia moderna\, l’Istituto centrale per i beni sonori e audiovisivi e la casa editrice Neri Pozzi presentano il volume di Franco Castelli\, Emilio Jona\, Alberto Lovatto\, Al rombo del cannon. Grande guerra e canto popolare (Neri Pozza\, 2018).\nIntervengono: Felice Liperi\, Alessandro Portelli; intervento musicale di Sara Modigliani.
URL:https://www.sissco.it/calendario/al-rombo-del-cannon-grande-guerra-e-canto-popolare/
CATEGORIES:Presentazione di libro/i
ORGANIZER;CN="Gisella Bochicchio":MAILTO:b-stmo.info@beniculturali.it
END:VEVENT
BEGIN:VEVENT
DTSTART;TZID=Europe/Rome:20181211T170000
DTEND;TZID=Europe/Rome:20181211T235900
DTSTAMP:20260421T170228
CREATED:20181205T171847Z
LAST-MODIFIED:20181205T171847Z
UID:10000653-1544547600-1544572740@www.sissco.it
SUMMARY:La Russia di oggi e domani
DESCRIPTION:Martedì 11 dicembre alle ore 17 presso il Dipartimento di Scienze Politiche dell’Università Roma Tre avrà luogo l’incontro La Russia di oggi e domani. La discussione si articolerà attorno al volume di Fabio Bettanin Putin e il mondo che verrà. Storia e politica della Russia nel nuovo contesto internazionale. I lavori saranno introdotti da Francesco Guida che modererà gli interventi di Alberto Basciani\, Giovanna Cigliano e Adriano Roccucci. Il dibattito segnerà anche l’inizio delle attività scientifiche del Centro di Ricerca Interdipartimentale sull’Europa Centro-orientale\, la Russia e l’Eurasia sorta presso l’Università Roma Tre per iniziativa dei Dipartimenti di Scienze Politiche\, Filosofia Comunicazione e Spettacolo e Lingue Letterature e Culture Straniere.
URL:https://www.sissco.it/calendario/la-russia-di-oggi-e-domani/
CATEGORIES:Presentazione di libro/i
ORGANIZER;CN="Alberto Basciani":MAILTO:alberto.basciani@gmail.com
END:VEVENT
BEGIN:VEVENT
DTSTART;TZID=Europe/Rome:20181214T170000
DTEND;TZID=Europe/Rome:20181214T235900
DTSTAMP:20260421T170228
CREATED:20181204T180433Z
LAST-MODIFIED:20181204T181603Z
UID:10000652-1544806800-1544831940@www.sissco.it
SUMMARY:Il Sessantotto in Valdarno e nel mondo
DESCRIPTION:Venerdì 14 dicembre 2018\, alle ore 17\, a Montevarchi (AR) presso il Centro pastorale “Guido Guerra” (via dei Mille\, n. 5) presentazione e dibattito con gli autori dei volumi:\n– Paolo Brogi\, 68 Ce n’est qu’un début… Storie di un mondo in rivolta (Imprimatur\, 2017)\n– Giorgio Sacchetti\, Pugni chiusi. Storia transnazionale di un Sessantotto di periferia. Gauchisme\, controculture e rivolta giovanile in provincia di Arezzo. 1968-1977 (Aska\, 2018)\nConducono Giovanni Cardinali e Enzo Brogi \nL’iniziativa è promossa da Aska edizioni e Bibliocoop Montevarchi
URL:https://www.sissco.it/calendario/il-sessantotto-in-valdarno-e-nel-mondo/
LOCATION:Centro pastorale “Guido Guerra”\, via dei Mille\, n. 5\, Montevarchi (Arezzo)\, 52025\, Italia
CATEGORIES:Presentazione di libro/i
ORGANIZER;CN="Aska edizioni":MAILTO:info@askaedizioni.it 
END:VEVENT
BEGIN:VEVENT
DTSTART;TZID=Europe/Rome:20181220T100000
DTEND;TZID=Europe/Rome:20181220T235900
DTSTAMP:20260421T170228
CREATED:20181215T184858Z
LAST-MODIFIED:20181215T184858Z
UID:10001908-1545300000-1545350340@www.sissco.it
SUMMARY:Presentazione di "Achille Grandi. Cattolico\, sindacalista\, politico"\, Morcelliana 2018
DESCRIPTION:Saluti \nGiuseppe Guzzetti \nIntervengono \ndon Bruno Bignami – direttore Ufficio nazionale problemi sociali e lavoro \nSusanna Camusso – Segretario generale CGIL \nGad Lerner – Giornalista \nRoberto Rossini – Presidente ACLI \nModera – Gabriella Facondo \nGli autori: Maria Paola del Rossi\, Stefano Picciaredda \n  \nNecessaria la prenotazione (vedi invito allegato)
URL:https://www.sissco.it/calendario/presentazione-di-achille-grandi-cattolico-sindacalista-politico-morcelliana-2018/
LOCATION:Archivio storico della Presidenza della Repubblica\, Via del Quirinale 30\, Roma\, 00186\, Italia
CATEGORIES:Presentazione di libro/i
END:VEVENT
END:VCALENDAR