BEGIN:VCALENDAR
VERSION:2.0
PRODID:-//SISSCO - ECPv6.15.20//NONSGML v1.0//EN
CALSCALE:GREGORIAN
METHOD:PUBLISH
X-WR-CALNAME:SISSCO
X-ORIGINAL-URL:https://www.sissco.it
X-WR-CALDESC:Eventi per SISSCO
REFRESH-INTERVAL;VALUE=DURATION:PT1H
X-Robots-Tag:noindex
X-PUBLISHED-TTL:PT1H
BEGIN:VTIMEZONE
TZID:Europe/Rome
BEGIN:DAYLIGHT
TZOFFSETFROM:+0100
TZOFFSETTO:+0200
TZNAME:CEST
DTSTART:20180325T010000
END:DAYLIGHT
BEGIN:STANDARD
TZOFFSETFROM:+0200
TZOFFSETTO:+0100
TZNAME:CET
DTSTART:20181028T010000
END:STANDARD
BEGIN:DAYLIGHT
TZOFFSETFROM:+0100
TZOFFSETTO:+0200
TZNAME:CEST
DTSTART:20190331T010000
END:DAYLIGHT
BEGIN:STANDARD
TZOFFSETFROM:+0200
TZOFFSETTO:+0100
TZNAME:CET
DTSTART:20191027T010000
END:STANDARD
BEGIN:DAYLIGHT
TZOFFSETFROM:+0100
TZOFFSETTO:+0200
TZNAME:CEST
DTSTART:20200329T010000
END:DAYLIGHT
BEGIN:STANDARD
TZOFFSETFROM:+0200
TZOFFSETTO:+0100
TZNAME:CET
DTSTART:20201025T010000
END:STANDARD
END:VTIMEZONE
BEGIN:VEVENT
DTSTART;TZID=Europe/Rome:20190109T170000
DTEND;TZID=Europe/Rome:20190109T235900
DTSTAMP:20260421T151845
CREATED:20190102T223642Z
LAST-MODIFIED:20190103T100956Z
UID:10001909-1547053200-1547078340@www.sissco.it
SUMMARY:Il registro. La cacciata degli ebrei dallo Stato italiano nei protocolli della Corte dei Conti  1938-1943
DESCRIPTION:Mercoledì 9 gennaio 2019\, alle ore 17.00\, presso la Biblioteca di storia moderna e contemporanea (Palazzo Mattei di Giove – Via Michelangelo Caetani 32\, Roma)\, presentazione del volume “Il registro. La cacciata degli ebrei dallo Stato italiano nei protocolli della Corte dei Conti 1938-1943” di Annalisa Capristo e Giorgio Fabre\, Il Mulino\, 2018. \nSaluti: Patrizia Rusciani (Direttrice della Biblioteca di storia moderna e contemporanea) \nIntroducono: Noemi Di Segni (Presidente dell’Unione delle Comunità Ebraiche Italiane)\, Mauro Orefice (Capo di gabinetto del Presidente della Corte dei Conti). \nInterventi: Micaela Procaccia (Dirigente del Servizio II – Patrimonio Archivistico della Direzione Generale per gli Archivi del Ministero per i beni e le attività culturali)\,  Michele Sarfatti (storico\, già direttore della Fondazione Centro di Documentazione Ebraica Contemporanea di Milano)\, \nSaranno presenti gli autori e Luciano Canfora\, direttore della collana “Critica storica” del Dipartimento di storia dell’Università di San Marino
URL:https://www.sissco.it/calendario/il-registro-la-cacciata-degli-ebrei-dallo-stato-italiano-nei-protocolli-della-corte-dei-conti-1938-1943-3/
LOCATION:Biblioteca di storia moderna e contemporanea\, Via Michelangelo Caetani 32\, Roma\, 00186\, Italia
CATEGORIES:Presentazione di libro/i
ORGANIZER;CN="Unnamed Organizer":MAILTO: b-stmo.info@beniculturali.it 
END:VEVENT
BEGIN:VEVENT
DTSTART;TZID=Europe/Rome:20190111T143000
DTEND;TZID=Europe/Rome:20190111T235900
DTSTAMP:20260421T151845
CREATED:20190108T092244Z
LAST-MODIFIED:20190108T092244Z
UID:10001911-1547217000-1547251140@www.sissco.it
SUMMARY:Cold War in the Americas
DESCRIPTION:Venerdì 11 gennaio alle 14.30\, in Aula 113\, si terrà il seminario Cold War in the Americas. Ospite per l’occasione sarà il professor Vanni Pettinà del Centro de Estudios Históricos de el Colegio de México che presenterà una relazione tratta dal suo ultimo libro dal titolo “La guerra fria en América latina” (Colmex 2018).\nAd accompagnarlo ci sarà la professoressa Benedetta Calandra dell’Università degli studi di Bergamo che parlerà del Soft Power nella guerra fredda latinoamericana. L’intervento introduttivo sarà invece del prof. Massimo De Giuseppe (Università IULM).\nIl seminario\, organizzato in collaborazione con il master MICRI\, rappresenta il terzo appuntamento del progetto di ricerca interdipartimentale “Transiti”. Processi di globalizzazione\, luoghi e frontiere fra XX e XXI secolo: concetti\, forme\, svolte\, interpretazioni\, promosso da Dipartimento di Studi umanistici insieme al Dipartimento di Comunicazione\, arti e media.
URL:https://www.sissco.it/calendario/cold-war-in-the-americas/
LOCATION:Università IULM – Aula 113\, Via Carlo Bo\, 1\, Milano\, 20143\, Italia
CATEGORIES:Presentazione di libro/i
ORGANIZER;CN="Massimo De Giuseppe":MAILTO:massimo.degiuseppe@iulm.it
END:VEVENT
BEGIN:VEVENT
DTSTART;TZID=Europe/Rome:20190117T180000
DTEND;TZID=Europe/Rome:20190117T235900
DTSTAMP:20260421T151845
CREATED:20190108T191528Z
LAST-MODIFIED:20190108T191851Z
UID:10001914-1547748000-1547769540@www.sissco.it
SUMMARY:Leto Fratini\, scultore. Percorsi esistenziali e traiettorie dell'antifascismo tra Firenze e Milano
DESCRIPTION:Presentazione del libro di Carmelo Albanese\, “Leto Fratini\, scultore. Percorsi esistenziali e traiettorie dell’antifascismo tra Firenze e Milano” (Pacini Editore\, 2017). \nDiscuterà con l’autore Maria Luisa Simone De Grada\, pittrice\, moglie del critico d’arte e militante antifascista Raffaele De Grada.\nIniziativa organizzata dall’Anpi di Milano e dalla Casa della Memoria nell’ambito della manifestazione “Anpilibri”.
URL:https://www.sissco.it/calendario/leto-fratini-scultore-percorsi-esistenziali-e-traiettorie-dellantifascismo-tra-firenze-e-milano-3/
LOCATION:Casa della Memoria\, Via Federico Confalonieri n. 14\, Milano\, 20124\, Italia
CATEGORIES:Presentazione di libro/i
ORGANIZER;CN="Anpi Milano e Casa della Memoria":MAILTO:c.casadellamemoria@comune.milano.it
END:VEVENT
BEGIN:VEVENT
DTSTART;TZID=Europe/Rome:20190118T180000
DTEND;TZID=Europe/Rome:20190118T230000
DTSTAMP:20260421T151845
CREATED:20190108T121556Z
LAST-MODIFIED:20190112T105936Z
UID:10001913-1547834400-1547852400@www.sissco.it
SUMMARY:Fascismo e antifascismo. Storia\, memoria e culture politiche
DESCRIPTION:Presentazione del libro di Alberto De Bernardi\, Fascismo e antifascismo. Storia\, memoria e culture politiche [Donzelli\, Roma 2018].\nIntervengono:• David Bidussa\, Fondazione Giangiacomo Feltrinelli\,• Ivano Granata\, Università degli studi di Milano• Mirco Carrattieri\, Istituto nazionale Ferruccio Parri\nSarà presente l’autore.\nVenerdì 18 gennaio ore 18Casa della Memoria\, via F. Confalonieri 14 MilanoInfo: comunicazione@fondazioneisec.it
URL:https://www.sissco.it/calendario/incontro-fascismo-e-antifascismo-storia-memoria-e-culture-politiche/
LOCATION:Casa della Memoria\, Via Confalonieri 14\, MILANO\, 20146\, Italia
CATEGORIES:Presentazione di libro/i
ORGANIZER;CN="Sara Zanisi":MAILTO:comunicazione@fondazioneisec.it
END:VEVENT
BEGIN:VEVENT
DTSTART;TZID=Europe/Rome:20190122T170000
DTEND;TZID=Europe/Rome:20190122T235900
DTSTAMP:20260421T151845
CREATED:20190110T134108Z
LAST-MODIFIED:20190110T134108Z
UID:10000664-1548176400-1548201540@www.sissco.it
SUMMARY:Sotto gli occhi di tutti. La società italiana e le persecuzioni contro gli ebrei
DESCRIPTION:Nella ricorrenza del Giorno della memoria 2019\, martedì 22 gennaio p.v.\, presso la Biblioteca di storia moderna e contemporanea (Palazzo Mattei di Giove – Via Michelangelo Caetani 32\, Roma)\, sarà presentato il volume\nSotto gli occhi di tutti. La società italiana e le persecuzioni contro gli ebrei di Valeria Galimi\, Le Monnier\, 2018. Intervengono: Tommaso Baris\, Matteo Stefanori\, Mario Toscano. Coordina: Maddalena Carli. Sarà presente l’autrice.  \nIn che modo la società italiana ha reagito di fronte alle persecuzioni contro gli ebrei? Le ha approvate o contrastate\, o si è mostrata indifferente? Opinioni e comportamenti sono cambiati nel momento degli arresti e delle deportazioni dopo il 1943? Qual è il ricordo di questi avvenimenti e in che modo è cambiato il rapporto fra italiani e memoria della Shoah? Se l’immagine del «buon italiano» è ormai messa in discussione\, queste domande continuano a interrogarci. Il volume intende proporre alcune risposte\, a partire da una serie di indagini su opinioni e comportamenti degli italiani di fronte alle leggi razziali del 1938\, alla persecuzione specifica contro gli ebrei stranieri\, alle deportazioni. Per il dopoguerra lo sguardo si sposta sulla costruzione della memoria\, sulla ricezione del processo Eichmann e sul dibattito fra gli storici. Si traccia così un quadro che prescinde dalle categorie di vittime e carnefici\, per dedicarsi ad un’analisi che metta al centro relazioni e interazioni fra ebrei e non ebrei.
URL:https://www.sissco.it/calendario/sotto-gli-occhi-di-tutti-la-societa-italiana-e-le-persecuzioni-contro-gli-ebrei/
CATEGORIES:Presentazione di libro/i
ORGANIZER;CN="Gisella Bochicchio":MAILTO:b-stmo.info@beniculturali.it
END:VEVENT
BEGIN:VEVENT
DTSTART;TZID=Europe/Rome:20190123T150000
DTEND;TZID=Europe/Rome:20190123T235900
DTSTAMP:20260421T151845
CREATED:20190121T150930Z
LAST-MODIFIED:20190121T150930Z
UID:10001916-1548255600-1548287940@www.sissco.it
SUMMARY:Il registro. La cacciata degli ebrei dallo Stato italiano nei protocolli della Corte dei Conti (1938-1943)
DESCRIPTION:Mercoledì 23 gennaio 2019\, alle ore 15.00\, \npresso la Sala Lettura della Biblioteca Storica Nazionale dell’Agricoltura del ministero (Via XX Settembre\, 20) \nPresentazione del libro \nIL REGISTRO di Giorgio Fabre e Annalisa Capristo (Casa Editrice Il Mulino) \nIn occasione della Giornata della Memoria che si ricorda in tutto il mondo il 27 gennaio di ogni anno e per il ricordo dei 6 dipendenti del Ministero che furono allontanati per motivi razziali. \nPartecipano: \nGiorgio Fabre e Annalisa Capristo\, autori del libro \nSaluti: Mario Pulimanti\, Direttore Vicario della Biblioteca \n 
URL:https://www.sissco.it/calendario/il-registro-la-cacciata-degli-ebrei-dallo-stato-italiano-nei-protocolli-della-corte-dei-conti-1938-1943-4/
LOCATION:Biblioteca Storica Nazionale dell’Agricoltura\, Via XX Settembre\, 20\, Roma\, 00187\, Italia
CATEGORIES:Presentazione di libro/i
ORGANIZER;CN="Unnamed Organizer":MAILTO:bibliotecastorica@politicheagricole.it
END:VEVENT
BEGIN:VEVENT
DTSTART;TZID=Europe/Rome:20190130T170000
DTEND;TZID=Europe/Rome:20190130T235900
DTSTAMP:20260421T151845
CREATED:20190115T163249Z
LAST-MODIFIED:20190115T163249Z
UID:10000666-1548867600-1548892740@www.sissco.it
SUMMARY:Paolo Treves. Biografia di un socialista diffidente
DESCRIPTION:Presentazione del libro di Andrea Ricciardi (Franco Angeli\, Milano 2018)
URL:https://www.sissco.it/calendario/paolo-treves-biografia-di-un-socialista-diffidente/
LOCATION:Museo del Risorgimento\, Via Borgonuovo 23\, Milano\, Italia
CATEGORIES:Presentazione di libro/i
END:VEVENT
END:VCALENDAR