BEGIN:VCALENDAR
VERSION:2.0
PRODID:-//SISSCO - ECPv6.15.20//NONSGML v1.0//EN
CALSCALE:GREGORIAN
METHOD:PUBLISH
X-WR-CALNAME:SISSCO
X-ORIGINAL-URL:https://www.sissco.it
X-WR-CALDESC:Eventi per SISSCO
REFRESH-INTERVAL;VALUE=DURATION:PT1H
X-Robots-Tag:noindex
X-PUBLISHED-TTL:PT1H
BEGIN:VTIMEZONE
TZID:Europe/Rome
BEGIN:DAYLIGHT
TZOFFSETFROM:+0100
TZOFFSETTO:+0200
TZNAME:CEST
DTSTART:20180325T010000
END:DAYLIGHT
BEGIN:STANDARD
TZOFFSETFROM:+0200
TZOFFSETTO:+0100
TZNAME:CET
DTSTART:20181028T010000
END:STANDARD
BEGIN:DAYLIGHT
TZOFFSETFROM:+0100
TZOFFSETTO:+0200
TZNAME:CEST
DTSTART:20190331T010000
END:DAYLIGHT
BEGIN:STANDARD
TZOFFSETFROM:+0200
TZOFFSETTO:+0100
TZNAME:CET
DTSTART:20191027T010000
END:STANDARD
BEGIN:DAYLIGHT
TZOFFSETFROM:+0100
TZOFFSETTO:+0200
TZNAME:CEST
DTSTART:20200329T010000
END:DAYLIGHT
BEGIN:STANDARD
TZOFFSETFROM:+0200
TZOFFSETTO:+0100
TZNAME:CET
DTSTART:20201025T010000
END:STANDARD
END:VTIMEZONE
BEGIN:VEVENT
DTSTART;TZID=Europe/Rome:20191001T173000
DTEND;TZID=Europe/Rome:20191001T235900
DTSTAMP:20260420T215503
CREATED:20190924T101034Z
LAST-MODIFIED:20190924T101034Z
UID:10000774-1569951000-1569974340@www.sissco.it
SUMMARY:Le parole e i corpi. Scritti femministi
DESCRIPTION:Martedì l° ottobre\, alle 17.30\, a Venezia\, presso\nLaguna  libre. Ecostaria della cultura (Fondamenta Cannaregio 969)\, la Società italiana delle storiche-Sezione veneto\, SNOQ (Se non ora quando) presentano il volume:\nLe parole e i corpi. Scritti femministi di Maria Luisa Boccia (Ed. CRS\, Ediesse 2018) \nIntervengono\, con l’autrice:\nNadia Maria Filippini (SIS – Sez. Veneto) Marina Scalori (SIS – Sez. Veneto) Simonetta Luciani (Snoq)
URL:https://www.sissco.it/calendario/le-parole-e-i-corpi-scritti-femministi/
LOCATION:Venezia\, Laguna libre - Fondamenta Cannaregio\, 969 \, Venezia\, 30121\, Italia
CATEGORIES:Presentazione di libro/i
ORGANIZER;CN="Simonetta Luciani":MAILTO:simonetta.luciani28114 5@gmail.com
END:VEVENT
BEGIN:VEVENT
DTSTART;TZID=Europe/Rome:20191004T170000
DTEND;TZID=Europe/Rome:20191004T170000
DTSTAMP:20260420T215503
CREATED:20190928T220651Z
LAST-MODIFIED:20190928T220651Z
UID:10002028-1570208400-1570208400@www.sissco.it
SUMMARY:La guerra per il Mezzogiorno. Italiani\, borbonici e briganti\, 1860-1870
DESCRIPTION:Venerdì 4 ottobre 2019\, alle ore 17.00\, presso la Biblioteca di storia moderna e contemporanea (Palazzo Mattei di Giove – Via Michelangelo Caetani 32\, Roma)\, sarà presentato il volume La guerra per il Mezzogiorno. Italiani\, borbonici e briganti\, 1860-1870 di Carmine Pinto (Laterza\, 2019).\nIntervengono: Simona Colarizi\, Andrea Graziosi\, Alessandro Laterza. \nIl brigantaggio fu l’eroica resistenza meridionale al colonialismo sabaudo o la sfida allo Stato di\nbande criminali? La guerra per il Mezzogiorno concluse la crisi del Regno delle Due Sicilie\,  determinò il successo dell’unificazione italiana e marcò la complicata partecipazione del Mezzogiorno alla nazione risorgimentale. Iniziò nel settembre del 1860\, dopo il successo della rivoluzione unitaria e garibaldina\, e si protrasse per un decennio\, mobilitando re e generali\, politici e vescovi\, soldati e briganti\, intellettuali e artisti. Non fu uno scontro locale\, perché coinvolse attori politici e militari di tutta la penisola e d’Europa\, ma non fu neppure una guerra tradizionale: i briganti\, le truppe regolari italiane\, i volontari meridionali si sfidarono nelle valli e nelle montagne in una guerriglia sanguinosa\, del tutto priva dei fasti risorgimentali. Si mescolarono la competizione politico-ideologica tra il movimento nazionale italiano e l’autonomismo borbonico; l’antico conflitto civile tra liberalismo costituzionale e assolutismo; la lotta intestina tra gruppi di potere\,\nfazioni locali\, interessi sociali che avevano frammentato le città e le campagne meridionali.
URL:https://www.sissco.it/calendario/la-guerra-per-il-mezzogiorno-italiani-borbonici-e-briganti-1860-1870-2/
LOCATION:Roma\, Biblioteca di storia moderna e contemporanea - Via M. Caetani\, 32\, Roma\, 00186\, Italia
CATEGORIES:Presentazione di libro/i
ORGANIZER;CN="Oriana Rizzuto":MAILTO:b-stmo.info@beniculturali.it
END:VEVENT
BEGIN:VEVENT
DTSTART;TZID=Europe/Rome:20191009T170000
DTEND;TZID=Europe/Rome:20191009T235900
DTSTAMP:20260420T215503
CREATED:20190914T114333Z
LAST-MODIFIED:20190914T114333Z
UID:10002024-1570640400-1570665540@www.sissco.it
SUMMARY:La liberazione di Roma. Alleati e Resistenza
DESCRIPTION:Mercoledì 9 ottobre 2019\, alle ore 17.00\, presso la Biblioteca di storia moderna e contemporanea (Palazzo Mattei di Giove – Via Michelangelo Caetani 32\, Roma)\, sarà presentato il volume La liberazione di Roma. Alleati e Resistenza\, di Gabriele Ranzato (Laterza\, 2019).  Ne discutono con l’autore: Filippo Focardi\, Umberto Gentiloni Silveri. Coordina Guido Crainz.  \nSebbene Alleati e Resistenza romana avessero gli stessi nemici\, combatterono due guerre quasi parallele con scarsi punti di contatto. La loro distanza è ben rappresentata dai modi diversi con cui designarono il fine immediato che volevano conseguire: la “caduta della prima capitale dell’Asse” per gli Alleati\, la “liberazione di Roma” per le forze resistenziali. La presa della città per gli angloamericani fu solo un momento saliente del loro sforzo per impedire che si avverasse l’orrendo disegno hitleriano di un’Europa nazista\, mentre il principale intento della Resistenza romana fu quello di mostrare\, attraverso la lotta armata in città\, la notevole consistenza di un’Italia antifascista pronta a battersi per concorrere alla propria liberazione. Un tentativo quasi eroico a fronte di una popolazione che per la maggior parte odiava quasi in egual misura tedeschi e fascisti\, alleati e partigiani\, come portatori di una guerra di cui non si sentiva responsabile. Sulla base di un’ampia documentazione di fonti archivistiche\, il libro ripercorre\, in una visione d’insieme con le vicende belliche\, i fatti – e gli episodi controversi – relativi alla storia di Roma nei nove mesi dell’occupazione tedesca.
URL:https://www.sissco.it/calendario/la-liberazione-di-roma-alleati-e-resistenza-2/
LOCATION:Roma\, Biblioteca di storia moderna e contemporanea - Via M. Caetani\, 32\, Roma\, 00186\, Italia
CATEGORIES:Presentazione di libro/i
ORGANIZER;CN="Oriana Rizzuto":MAILTO:b-stmo.info@beniculturali.it
END:VEVENT
BEGIN:VEVENT
DTSTART;TZID=Europe/Rome:20191009T180000
DTEND;TZID=Europe/Rome:20191009T235900
DTSTAMP:20260420T215503
CREATED:20191002T094227Z
LAST-MODIFIED:20191002T094227Z
UID:10002030-1570644000-1570665540@www.sissco.it
SUMMARY:I cavalieri inesistenti dell’editoria. Agenti e traduttori nel regime fascista.
DESCRIPTION:Nel ventennio fra le due guerre mondiali\, mentre nazionalismi\, dittature e protezionismo si affermavano in ogni angolo d’Europa\, l’Italia fascista divenne il più importante consumatore di traduzioni al mondo. Autori tedeschi\, francesi\, russi\, danesi\, inglesi\, ungheresi e americani invasero letteralmente la penisola\, mettendo in imbarazzo il regime e i suoi propositi di mperialismo culturale.Su questi temi vertono due volumi: 1)Anna Ferrando\, Cacciatori di libri. Gli agenti letterari durante il fascismo\, Milano Angeli 2019 2)Stranieri all’ombra del duce. Le traduzioni durante il fascismo\,  a cura di Anna Ferrando\, Milano\, FrancoAngeli\, 2019. \nNe discutono con l’autrice/curatrice :Elena Cotta Ramusino\, Lia Guerra\, Elisa Signori  e Marina Tesoro \n 
URL:https://www.sissco.it/calendario/i-cavalieri-inesistenti-delleditoria-agenti-e-traduttori-nel-regime-fascista/
LOCATION:Pavia \, Collegio Ghislieri\, p.za Ghislieri\, Pavia\, 27100\, Italia
CATEGORIES:Presentazione di libro/i
ORGANIZER;CN="Elisa Signori":MAILTO:signori@unipv.it
END:VEVENT
BEGIN:VEVENT
DTSTART;TZID=Europe/Rome:20191010T160000
DTEND;TZID=Europe/Rome:20191010T170000
DTSTAMP:20260420T215503
CREATED:20190930T081019Z
LAST-MODIFIED:20190930T081019Z
UID:10002031-1570723200-1570726800@www.sissco.it
SUMMARY:“Posti liberi”. Leggi razziali e sostituzione dei docenti ebrei all’Università di Padova
DESCRIPTION:Presentazione del libro di\nPOMPEO VOLPE e GIULIA SIMONE\n“Posti liberi”.\nLeggi razziali e sostituzione dei docenti ebrei all’Università di Padova \n  \nIn collaborazione con Padova University Press e Centro per la storia dell’Università di Padova\nSaluti del Magnifico Rettore\, ROSARIO RIZZUTO\ndell’Assessore alla Cultura\, ANDREA COLASIO\ndel Presidente della Comunità ebraica\, GIANNI PARENZO\nIntervengono\nMICHELE BATTINI (Università di Pisa)\nGIOVANNI FOCARDI (Università di Padova)\nMICHELE SARFATTI (Fondazione CDEC\, Milano)\nGIAN ANTONIO STELLA (scrittore ed editorialista del Corriere della Sera)
URL:https://www.sissco.it/calendario/posti-liberi-leggi-razziali-e-sostituzione-dei-docenti-ebrei-alluniversita-di-padova/
LOCATION:Aula Nievo\, Palazzo del Bo\, Via VIII febbraio 2\, Padova
CATEGORIES:Presentazione di libro/i
ORGANIZER;CN="Centro di Ateneo per la Storia della Resistenza e dell'Et%C3%A0 Contemporanea - Universit%C3%A0 di Padova":MAILTO:casrec@unipd.it
END:VEVENT
BEGIN:VEVENT
DTSTART;TZID=Europe/Rome:20191017T170000
DTEND;TZID=Europe/Rome:20191017T235900
DTSTAMP:20260420T215503
CREATED:20191003T115515Z
LAST-MODIFIED:20191003T115515Z
UID:10002034-1571331600-1571356740@www.sissco.it
SUMMARY:Terrore e terrorismo. Saggio storico sulla violenza politica
DESCRIPTION:Venerdì 17 ottobre 2019\, alle ore 17.00\, presso la Biblioteca di storia moderna e contemporanea (Palazzo Mattei di Giove – Via Michelangelo Caetani 32\, Roma)\, sarà presentato il volume Terrore e terrorismo. Saggio storico sulla violenza politica di Francesco Benigno  (Einaudi\, 2018). Intervengono: Roberto Esposito\, Gabriele Pedullà\, Giovanni Sabbatucci.  Coordina: Mariuccia Salvati. \nGeneralmente si intende per terrorismo la deliberata volontà di diffondere terrore colpendo la popolazione inerme considerata nemica. Terrorismo\, dunque\, come creazione di terrore. Francesco Benigno contesta tale approccio ricorrendo alla storia. La produzione di «terrore» non è stata infatti storicamente l’unica dimensione del «terrorismo» e anzi esso può essere meglio compreso come la costruzione di un evento clamoroso\, capace di risvegliare le masse dal loro sonno politico\, qualcosa che «parla» anzitutto al popolo e che gli anarchici chiamavano «propaganda col fatto». Allo stesso tempo però la storia ci insegna che il terrorismo è anche una tecnica bellica usata in tempi di pace\, la continuazione della politica con mezzi esplosivi. In questo senso esso è quindi uno spazio di opportunità aperto ad una pluralità di attori\, statali e non statali\, che usano il terrore (e il contro-terrore) come strumento di politica interna e internazionale. Vi sono elementi di notevole continuità tra il terrorismo come lo conosciamo oggi e la concettualizzazione tradizionale dell’azione rivoluzionaria\, in specie anarchica. Ieri come oggi\, infatti\, e malgrado le apparenze\, essa si rivolge non tanto alla popolazione della nazione da colpire ma a un proprio popolo\, a una propria comunità. Gente che va richiamata alla lotta e a cui occorre dimostrare che vincere è possibile\, che il debole può sconfiggere il forte. L’atto «terroristico» non è dunque messo in atto col tentativo primario di terrorizzare ma con quello di conquistare i cuori e le menti di un popolo considerato oppresso\, quello con cui si identifica il gruppo autore dell’atto\, che attraverso esso combatte anche una sua particolare battaglia per la primazia nel suo schieramento\, per essere identificato come il principale portabandiera della propria Causa. Lo scopo del gesto «terroristico» è\, in altre parole\, quello di delinea- re\, attraverso un’immagine polarizzata sull’asse noi-loro\, lo scenario di una guerra\, definita in termini assoluti come lo scontro tra il bene ed il male.
URL:https://www.sissco.it/calendario/terrore-e-terrorismo-saggio-storico-sulla-violenza-politica-2/
LOCATION:Roma\, Biblioteca di storia moderna e contemporanea - Via M. Caetani\, 32\, Roma\, 00186\, Italia
CATEGORIES:Presentazione di libro/i
ORGANIZER;CN="Oriana Rizzuto":MAILTO:b-stmo.info@beniculturali.it
END:VEVENT
BEGIN:VEVENT
DTSTART;TZID=Europe/Rome:20191022T180000
DTEND;TZID=Europe/Rome:20191022T235900
DTSTAMP:20260420T215503
CREATED:20191010T192107Z
LAST-MODIFIED:20191010T192107Z
UID:10000789-1571767200-1571788740@www.sissco.it
SUMMARY:La guerra per il Mezzogiorno
DESCRIPTION:Francesco Barra\, Università di Salerno presenta il libro: \”La guerra per il Mezzogiorno\” di Carmine Pinto (Laterza\, 2019).
URL:https://www.sissco.it/calendario/la-guerra-per-il-mezzogiorno/
LOCATION:Biblioteca comunale \\, Largo Sanità\, \, San Severo\, 71016\, Italia
CATEGORIES:Presentazione di libro/i
END:VEVENT
BEGIN:VEVENT
DTSTART;TZID=Europe/Rome:20191023T173000
DTEND;TZID=Europe/Rome:20191023T230000
DTSTAMP:20260420T215503
CREATED:20191008T091817Z
LAST-MODIFIED:20191019T102329Z
UID:10000783-1571851800-1571871600@www.sissco.it
SUMMARY:Sui banchi e nelle officine
DESCRIPTION:Sui banchi e nelle officine\n Scuola\, lavoro e politica nell’Italia repubblicana \nCiclo di incontri\nPrimo appuntamento \nMONICA GALFRE’\, autrice di La scuola è il nostro Vietnam. Il ’68 e l’istruzione secondaria italiana (Viella 2019) dialogherà con Arianna Arisi Rota e Matteo Morandi. \nOre 17.30 \n(Il programma completo del ciclo si trova nella locandina allegata)
URL:https://www.sissco.it/calendario/sui-banchi-e-nelle-officine-primo-appuntamento-con-monica-galfre/
LOCATION:Aula Goldoniana del Collegio Ghislieri\, Piazza Ghislieri 5\, Pavia\, 27100\, Italia
CATEGORIES:Presentazione di libro/i
END:VEVENT
BEGIN:VEVENT
DTSTART;TZID=Europe/Rome:20191024T170000
DTEND;TZID=Europe/Rome:20191024T235900
DTSTAMP:20260420T215503
CREATED:20191003T120432Z
LAST-MODIFIED:20191003T120432Z
UID:10002035-1571936400-1571961540@www.sissco.it
SUMMARY:Le biblioteche digitali. Tipologie\, funzionalità e modelli di sviluppo
DESCRIPTION:Giovedì 24 ottobre alle ore 17.00\, presso la Biblioteca di storia moderna e contemporanea (Palazzo Mattei di Giove\, Via M. Caetani\, 32 Roma) si presenta il volume Le biblioteche digitali. Tipologie\, funzionalità e modelli di sviluppo (Franco Angeli\, 2019)\, di Maria Teresa Biagetti con il contributo di Antonella Iacono\, Roberto Raieli\, Antonella Trombone\, Simona Turbanti. Intervengono\, con l’Autrice\, Simonetta Buttò\, Alberto Petrucciani.  \nL’universo delle biblioteche digitali comprende una pluralità di strutture realizzate allo scopo di preservare i patrimoni culturali e informativi e di permetterne la fruizione a distanza. I repositories di testi digitalizzati\, istituiti sulla base di un progetto culturale o di un disegno scientifico\, ne costituiscono la parte più sostanziosa; a questi si aggiungono i depositi istituzionali gestiti dagli Atenei per la raccolta e la pubblicazione del full text dei lavori dei docenti e dei ricercatori e l’attività di web archiving\, volta a selezionare e a conservare le pagine web affinché i contenuti informativi possano essere fruiti nel futuro.\nNel volume\, oltre a presentare le biblioteche digitali più significative a livello internazionale\, vengono analizzati gli sviluppi che le biblioteche digitali dell’ultima generazione manifestano\, e in particolare vengono esaminate alcune funzionalità innovative permesse dall’uso delle tecnologie di tipo semantico\, come le ontologie\, applicate all’indicizzazione e al trattamento delle query\, e le funzioni di tipo “social”\, come la possibilità per gli utilizzatori di realizzare annotazioni. Inoltre\, vengono prese in considerazione le strutture che permettono di raccogliere in una digital library condivisa materiali provenienti da diverse fonti del patrimonio culturale e integrarli in un unico ambiente informativo utilizzando le ontologie. Viene dato ampio spazio anche allo studio delle funzionalità della ricerca nelle collezioni testuali\, nelle collezioni di audiovisivi\, e in quelle multimediali\, all’esame dei servizi per la ricerca con l’ausilio di diverse tipologie di collaborative filtering\, e all’analisi delle possibilità offerte agli utenti di collaborare al flusso di lavorazione dei documenti digitali.\nIndice\nPremessa\nIntroduzione\nParte I. Tipologie\, modelli e funzionalità per la ricerca\nLe biblioteche digitali: uno scenario composito\n(I repositories istituzionali e disciplinari; I depositi di riviste; Web archiving)\nModelli tradizionali e innovativi\n(Le biblioteche digitali come repositories di documenti; American memory; Gallica; La Biblioteca digitale italiana; National digital library of China; Portali di accesso alle raccolte digitali; The Europeana collections; The World digital library; The Digital public library of America; Progetti di digitalizzazione su vasta scala; Google Books; HathiTrust; Open content alliance; I progetti di digitalizzazione di Internet Archive; The Universal digital library; Biblioteche digitali per l’analisi testuale: Perseus digital library; Funzionalità per la ricerca; Aspetti legali e diritto d’autore per le biblioteche digitali; Le opere “orfane”; L’infrastruttura Arrow)\nFunzionalità per la ricerca nelle biblioteche digitali\n(La ricerca collaborativa)\nGli sviluppi delle biblioteche digitali\n(Verso la personalizzazione dei servizi; Un nuovo modello: the Delos Project; Il progetto Sekt; Le ontologie; Le ontologie bibliografiche)\nLe biblioteche digitali arricchite con funzionalità semantiche e “social”\n(Un modello avanzato di repository: Fedora; I progetti Bricks e Simile; Jerome Digital Library; L’ontologia MarcOnt; Callimachus Digital Library; Le biblioteche digitali semantiche con funzioni “social”; Le annotazioni; Supporto automatico per le annotazioni: il prototipo Pirates; Servizi “social” in Jerome Digital Library; Le funzionalità per la ricerca)\nSpazi informativi per il patrimonio culturale\n(Interoperabilità tra fonti diverse; L’ontologia Cidoc-crm; Il portale CultureSampo)\nConsiderazioni conclusive\nRiferimenti bibliografici\nParte II. Funzionalità avanzate di ricerca e sviluppi “social”\nRoberto Raieli\, Potenzialità della ricerca multimediale nelle biblioteche digitali\nAntonella Iacono\, Le competenze dell’utente nello sviluppo delle digital libraries tramite il Crowdsourcing\nAntonella Trombone\, Simona Turbanti\, Sistemi di raccomandazione e filtraggio collaborativo nella ricerca bibliografica\nIndice tematico.
URL:https://www.sissco.it/calendario/le-biblioteche-digitali-tipologie-funzionalita-e-modelli-di-sviluppo/
LOCATION:Roma\, Biblioteca di storia moderna e contemporanea - Via M. Caetani\, 32\, Roma\, 00186\, Italia
CATEGORIES:Presentazione di libro/i
ORGANIZER;CN="Oriana Rizzuto":MAILTO:b-stmo.info@beniculturali.it
END:VEVENT
BEGIN:VEVENT
DTSTART;TZID=Europe/Rome:20191024T180000
DTEND;TZID=Europe/Rome:20191024T235900
DTSTAMP:20260420T215503
CREATED:20191021T154256Z
LAST-MODIFIED:20191021T154256Z
UID:10000793-1571940000-1571961540@www.sissco.it
SUMMARY:Presentazione del volume: Una rivista per il socialismo. «Mondo Operaio» (1957-1969)
DESCRIPTION:Fondazione ISEC e Fondazione Corrente vi invitano alla presentazione del volume di Giovanni Scirocco Una rivista per il socialismo. “Mondo operaio” (1957-1969 (Carocci 2019).)Intervengono:• David Bidussa\, Fondazione Giangiacomo Feltrinelli• Maria Grazia Meriggi\, Università degli Studi di Bergamo\nSarà presente l’autore.L’incontro è organizzato nell’ambito del progetto #aggiungiPROmemoria promosso insieme a Fondazione Dalmine e con il contributo di Fondazione Cariplo.\nGiovedì 24 ottobre 2019 ore 18\,00Fondazione Corrente\, via Carlo Porta 5\, MilanoInfo e conferme: comunicazione@fondazioneisec.it
URL:https://www.sissco.it/calendario/presentazione-del-volume-una-rivista-per-il-socialismo-mondo-operaio-1957-1969/
LOCATION:Fondazione Corrente\, via Carlo Porta 5\, Milano\, 20146\, Italia
CATEGORIES:Presentazione di libro/i
ORGANIZER;CN="Sara Zanisi":MAILTO:comunicazione@fondazioneisec.it
END:VEVENT
BEGIN:VEVENT
DTSTART;TZID=Europe/Rome:20191030T170000
DTEND;TZID=Europe/Rome:20191030T230000
DTSTAMP:20260420T215503
CREATED:20191025T033721Z
LAST-MODIFIED:20191028T104426Z
UID:10000798-1572454800-1572476400@www.sissco.it
SUMMARY:Gli Internati militari italiani
DESCRIPTION:Mercoledì 30 ottobre\, alle ore 17.00\, presso la Sala degli Atti Parlamentari del Senato della Repubblica\, si svolgerà la presentazione del volume di Maria Teresa Giusti \”Gli Internati militari italiani; dai Balcani\, in Germania e nell\’Urss. 1943-1945\”. Ne parleranno il Generale di Brigata Fulvio Poli\, la professoressa Elena Aga Rossi\, il professor Andrea Ungari\, moderati dal professor Luciano Zani.
URL:https://www.sissco.it/calendario/presentazione-libro-maria-teresa-giusti/
LOCATION:Sala degli Atti Parlamentari – Senato della Repubblica\, Piazza della Minerva\, Roma\, Italia
CATEGORIES:Presentazione di libro/i
ORGANIZER;CN="Andrea Ungari":MAILTO:a.ungari@unimarconi.it
END:VEVENT
BEGIN:VEVENT
DTSTART;TZID=Europe/Rome:20191030T173000
DTEND;TZID=Europe/Rome:20191030T235900
DTSTAMP:20260420T215503
CREATED:20191008T092513Z
LAST-MODIFIED:20191008T092649Z
UID:10000784-1572456600-1572479940@www.sissco.it
SUMMARY:Sui banchi e nelle officine - secondo appuntamento - con Eloisa Betti
DESCRIPTION:Sui banchi e nelle officine\nScuola\, lavoro e politica nell’Italia repubblicana\nciclo di incontri\nSecondo appuntamento \nELOISA BETTI\, autrice di Precari e precarie: una storia dell’Italia repubblicana (Carocci 2019) dialogherà con Flavio Ceravolo e Bruno Ziglioli. \nOre 17.30 \n(Il programma completo del ciclo si trova nella locandina allegata)
URL:https://www.sissco.it/calendario/sui-banchi-e-nelle-officine-secondo-appuntamento-con-eloisa-betti/
LOCATION:Aula Goldoniana del Collegio Ghislieri\, Piazza Ghislieri 5\, Pavia\, 27100\, Italia
CATEGORIES:Presentazione di libro/i
END:VEVENT
BEGIN:VEVENT
DTSTART;TZID=Europe/Rome:20191031T150000
DTEND;TZID=Europe/Rome:20191031T235900
DTSTAMP:20260420T215503
CREATED:20191007T134534Z
LAST-MODIFIED:20191007T134534Z
UID:10000782-1572534000-1572566340@www.sissco.it
SUMMARY:Europa e lavoro. Nuovi percorsi della storia di genere
DESCRIPTION:Incontro di discussione su nuovi percorsi della storia di genere a partire dai volumi usciti nel 2019: L’Europe\, une chance pour les femmes? a cura di Anne Laure Briatte e Françoise Thébaud\, Editions de la Sorbonne; Alessandra Pescarolo\, Il lavoro delle donne in età contemporanea\, Viella; Eloisa Betti\, Precari e precarie. Una storia dell’Italia repubblicana\, Carocci. \nSaluti\, Paolo Soddu; Introduce e coordina: Barbara Curli; Intervengono: Daniela Adorni\, Manfredi Alberti\, Eloisa Betti\, Federica di Sarcina\, Dora Marucco\, Stefano Musso\, Alessandra Pescarolo\, Chiara Saraceno\, Françoise Thébaud \n 
URL:https://www.sissco.it/calendario/europa-e-lavoro-nuovi-percorsi-della-storia-di-genere/
LOCATION:Fondazione Luigi Einaudi\, Via Principe Amedeo 34\, Torino\, 10123\, Italia
CATEGORIES:Presentazione di libro/i
ORGANIZER;CN="Barbara Curli":MAILTO:barbara.curli@unito.it
END:VEVENT
END:VCALENDAR