BEGIN:VCALENDAR
VERSION:2.0
PRODID:-//SISSCO - ECPv6.15.20//NONSGML v1.0//EN
CALSCALE:GREGORIAN
METHOD:PUBLISH
X-ORIGINAL-URL:https://www.sissco.it
X-WR-CALDESC:Eventi per SISSCO
REFRESH-INTERVAL;VALUE=DURATION:PT1H
X-Robots-Tag:noindex
X-PUBLISHED-TTL:PT1H
BEGIN:VTIMEZONE
TZID:Europe/Rome
BEGIN:DAYLIGHT
TZOFFSETFROM:+0100
TZOFFSETTO:+0200
TZNAME:CEST
DTSTART:20190331T010000
END:DAYLIGHT
BEGIN:STANDARD
TZOFFSETFROM:+0200
TZOFFSETTO:+0100
TZNAME:CET
DTSTART:20191027T010000
END:STANDARD
BEGIN:DAYLIGHT
TZOFFSETFROM:+0100
TZOFFSETTO:+0200
TZNAME:CEST
DTSTART:20200329T010000
END:DAYLIGHT
BEGIN:STANDARD
TZOFFSETFROM:+0200
TZOFFSETTO:+0100
TZNAME:CET
DTSTART:20201025T010000
END:STANDARD
BEGIN:DAYLIGHT
TZOFFSETFROM:+0100
TZOFFSETTO:+0200
TZNAME:CEST
DTSTART:20210328T010000
END:DAYLIGHT
BEGIN:STANDARD
TZOFFSETFROM:+0200
TZOFFSETTO:+0100
TZNAME:CET
DTSTART:20211031T010000
END:STANDARD
END:VTIMEZONE
BEGIN:VEVENT
DTSTART;TZID=Europe/Rome:20201112T170000
DTEND;TZID=Europe/Rome:20201112T235900
DTSTAMP:20260419T204818
CREATED:20201107T160050Z
LAST-MODIFIED:20201108T103634Z
UID:10000878-1605200400-1605225540@www.sissco.it
SUMMARY:Elette ed Eletti
DESCRIPTION:Giovedì 12 novembre alle 17.00  Patrizia Gabrielli presenterà il volume\, Elette ed Eletti. Rappresentanza e rappresentazioni di genere nell’Italia Repubblicana\, di cui è la curatrice.\nNe discute con lei Guido Barbieri\, Radio Tre.\nLa presentazione può essere seguita in diretta sui canali YouTube e Facebook della casa editrice Rubbettino.
URL:https://www.sissco.it/calendario/presentazione-elette-ed-eletti/
CATEGORIES:Presentazione di libro/i
END:VEVENT
BEGIN:VEVENT
DTSTART;TZID=Europe/Rome:20201118T163000
DTEND;TZID=Europe/Rome:20201118T235900
DTSTAMP:20260419T204818
CREATED:20201106T171044Z
LAST-MODIFIED:20201106T171044Z
UID:10000877-1605717000-1605743940@www.sissco.it
SUMMARY:Zorro's Shadow
DESCRIPTION:Il 18 novembre dalle 16:30 alle 18:00 si terrà la presentazione online del volume Zorro’s Shadow. How a Mexican legend became the first American Superhero (Chigago Review Press\, 2020) di Stephen Andes\, professore di Storia presso la Louisiana State University. \nNato sulle pagine delle riviste popolari nel 1919\, l’eroe mascherato\, vestito di nero\, con la sua spada\, cappello\, mantello e cavallo\, conteneva già in sé gli elementi pardigmatici del misterioso difensore della giustizia\, dell’eroe popolare ma anche dell’alieno sociale che si muoveva nell’ombra lungo le frontiere multietniche della California ottocentesca. Lo studio storico di Andes parte dalle radici di Zorro che attingono a figure quali il bandito sociale dello stato messicano di Sonora\, Joaquín Murrieta (1824-1853)\, per seguire poi la saga di una figura che avrebbe attraversato tutti i linguaggi mediatici novecenteschi: il romanzo\, i rotocalchi\, la radio\, il cinema (da Douglas Fairbanks ad Antonio Banderas)\, la televisione\, il fumetto\, i video-giochi\, segnando in profondità la complessità multiculturale e multietnica nordamericana. Una figura che ha ottenuto un impatto globale sorprendente nella cultura popolare contemporanea\, anche italiana. \nDopo i saluti del Rettore Gianni Canova\, Stephen Andes illustrerà i contenuti del suo volume in dialogo con Massimo De Giuseppe\, professore di Storia contemporanea presso la IULM. \n  \n 
URL:https://www.sissco.it/calendario/zorros-shadow/
LOCATION:Università IULM  (aula virtuale)\, Via Carlo Bo\, 1\, Milano\, 20143\, Italia
CATEGORIES:Presentazione di libro/i
END:VEVENT
BEGIN:VEVENT
DTSTART;TZID=Europe/Rome:20201118T173000
DTEND;TZID=Europe/Rome:20201118T235900
DTSTAMP:20260419T204818
CREATED:20201029T111501Z
LAST-MODIFIED:20201118T131304Z
UID:10002122-1605720600-1605743940@www.sissco.it
SUMMARY:CULTURE ATOMICHE. Gli Stati Uniti\, la Francia e l'Italia di fronte alla questione nucleare (1962-68)
DESCRIPTION:Nell’ambito del ciclo  “#Opere prime 2020/2021: incontri con giovani studiosi su storia e letteratura USA”\, la Biblioteca del Centro Studi Americani è lieta di invitarvi alla presentazione del libro di LAURA CIGLIONI\, “Culture atomiche. Gli Stati Uniti\, la Francia e l’Italia di fronte alla questione nucleare (1962-68)”\, edito da CAROCCI. \nCon l’autrice interverranno ELISABETTA BINI (Università di Napoli Federico II) e UMBERTO GENTILONI SILVERI (Sapienza Università di Roma). \nL’evento si svolgerà online sulla piattaforma ZOOM il 18 novembre alle 17.30 \nLINK: https://zoom.us/j/91789094905 Passcode: 123456 \n 
URL:https://www.sissco.it/calendario/culture-atomiche-gli-stati-uniti-la-francia-e-litalia-di-fronte-alla-questione-nucleare-1962-68/
LOCATION:piazza Collegio Ghislieri 5\, Pavia\, Italia
CATEGORIES:Presentazione di libro/i
ORGANIZER;CN="":MAILTO:library@centrostudiamericani.org
END:VEVENT
BEGIN:VEVENT
DTSTART;TZID=Europe/Rome:20201125T160000
DTEND;TZID=Europe/Rome:20201125T235900
DTSTAMP:20260419T204818
CREATED:20201119T192723Z
LAST-MODIFIED:20201120T094345Z
UID:10000874-1606320000-1606348740@www.sissco.it
SUMMARY:Storie di complotti. Tra realtà e finzione
DESCRIPTION:Ciclo di incontri “Libri di Storia” del Dipartimento di Studi Umanistici – Sezione di Scienze Storiche dell’Università di Napoli Federico II. \nSeminario di studi a partire dal volume di Ignazio Veca (Università di Pisa)\, La congiura immaginata. Opinione pubblica e accuse di complotto nella Roma dell’Ottocento (Carocci\, 2019) \nNe discutono: Laura Di Fiore (Università degli Studi di Napoli Federico II)\, Pasquale Palmieri (Università degli Studi di Napoli Federico II) \nCoordina: Diego Carnevale (Università degli Studi di Napoli Federico II) \nIntervengono: Annunziata Berrino\, Daniela Luigia Caglioti\, Massimo Cattaneo\, Domenico Cecere\, Marco Meriggi\, Alessandro Tuccillo. \n  \nL’incontro è stato organizzato nell’ambito delle attività del progetto di ricerca dipartimentale 70% del Dipartimento di Studi Umanistici dell’Università degli Studi di Napoli Federico II “Notizie e false notizie nella lunga età moderna (secc. XVI-XIX)”. \n  \nL’incontro si terrà in remoto mediante la piattaforma Zoom: \nhttps://zoom.us/j/99970540993?pwd=WWlWRlRXTW9kZFArbG9zYlBDaTBxZz09 \nID riunione: 999 7054 0993 \nPasscode: 9PbB0h
URL:https://www.sissco.it/calendario/storie-di-complotti-tra-realta-e-finzione/
LOCATION:Dipartimento di Studi Umanistici – Università degli Studi di Napoli Federico II\, Italia
CATEGORIES:Presentazione di libro/i
ORGANIZER;CN="Laura Di Fiore":MAILTO:laura.difiore@unina.it
END:VEVENT
BEGIN:VEVENT
DTSTART;TZID=Europe/Rome:20201130T160000
DTEND;TZID=Europe/Rome:20201130T235900
DTSTAMP:20260419T204818
CREATED:20201126T124210Z
LAST-MODIFIED:20201126T124306Z
UID:10002130-1606752000-1606780740@www.sissco.it
SUMMARY:Presentazione de L'Elmo di Scipio. Storie del Risorgimento in armi
DESCRIPTION:Presentazione del volume di Jacopo Lorenzini L’Elmo di Scipio. Storie del Risorgimento in armi\, Salerno Editrice\, 2020. \nLa presentazione avverrà online sul portale Stroncature (iscrizione richiesta). \nDiscutono con l’autore Carmine Pinto (Università di Salerno) e Davide Grossi.
URL:https://www.sissco.it/calendario/presentazione-de-lelmo-di-scipio-storie-del-risorgimento-in-armi/
LOCATION:on-line\, Italia
CATEGORIES:Presentazione di libro/i
END:VEVENT
END:VCALENDAR