BEGIN:VCALENDAR
VERSION:2.0
PRODID:-//SISSCO - ECPv6.15.20//NONSGML v1.0//EN
CALSCALE:GREGORIAN
METHOD:PUBLISH
X-WR-CALNAME:SISSCO
X-ORIGINAL-URL:https://www.sissco.it
X-WR-CALDESC:Eventi per SISSCO
REFRESH-INTERVAL;VALUE=DURATION:PT1H
X-Robots-Tag:noindex
X-PUBLISHED-TTL:PT1H
BEGIN:VTIMEZONE
TZID:Europe/Rome
BEGIN:DAYLIGHT
TZOFFSETFROM:+0100
TZOFFSETTO:+0200
TZNAME:CEST
DTSTART:20160327T010000
END:DAYLIGHT
BEGIN:STANDARD
TZOFFSETFROM:+0200
TZOFFSETTO:+0100
TZNAME:CET
DTSTART:20161030T010000
END:STANDARD
BEGIN:DAYLIGHT
TZOFFSETFROM:+0100
TZOFFSETTO:+0200
TZNAME:CEST
DTSTART:20170326T010000
END:DAYLIGHT
BEGIN:STANDARD
TZOFFSETFROM:+0200
TZOFFSETTO:+0100
TZNAME:CET
DTSTART:20171029T010000
END:STANDARD
BEGIN:DAYLIGHT
TZOFFSETFROM:+0100
TZOFFSETTO:+0200
TZNAME:CEST
DTSTART:20180325T010000
END:DAYLIGHT
BEGIN:STANDARD
TZOFFSETFROM:+0200
TZOFFSETTO:+0100
TZNAME:CET
DTSTART:20181028T010000
END:STANDARD
END:VTIMEZONE
BEGIN:VEVENT
DTSTART;TZID=Europe/Rome:20170830T153000
DTEND;TZID=Europe/Rome:20170902T230000
DTSTAMP:20260422T223814
CREATED:20170727T173612Z
LAST-MODIFIED:20170731T063731Z
UID:10001676-1504107000-1504393200@www.sissco.it
SUMMARY:Migranti o in fuga? Attraversamenti\, diritti\, frontiere: Scuola estiva SIS
DESCRIPTION:Migranti o in fuga? Attraversamenti\, diritti\, frontiere \nin collaborazione con il Dipartimento di Studi Umanistici dell’Università degli Studi di Trieste e il Centro Studi Emigrazione-Roma (CSER) \nMigrazioni volontarie o forzate? Migranti economici o rifugiati? Su tali dicotomie\, assunte acriticamente come fondamento oggettivo e condiviso\, il dibattito pubblico sulle migrazioni contemporanee finisce spesso per avvitarsi\, mostrando come tali distinzioni non siano in grado di spiegare l’intreccio di motivazioni\, percorsi e vissuti che si celano dietro i fenomeni migratori. La polarizzazione evocata\, come ogni classificazione categoriale\, ha una genesi storicamente situata\, di cui spesso si perdono la memoria e la consapevolezza\, con il risultato di legittimare visioni che\, da un lato\, stigmatizzano la migrazione mossa da un desiderio legittimo di emancipazione personale e collettiva\, dall’altro puntano a mettere sempre più in discussione la stessa legittimità del diritto d’asilo.\nElemento costitutivo delle società\, le migrazioni non sono mai state e non sono tuttora fenomeni eccezionali. Sono le percezioni\, le narrazioni\, i contesti politici globali e nazionali in cui esse si inseriscono a cambiare nel tempo: mutamenti che\, nel corso del Novecento\, hanno contribuito a ridisegnare lo spazio internazionale in termini di frontiere\, confini statali e comunitari. Negli anni Duemila\, inoltre\, le politiche migratorie europee\, alimentate anche dal vento dei populismi che strumentalizzano il discorso migratorio\, hanno trasformato la richiesta d’asilo nell’unico canale legittimo di migrazione\, compromettendo lo stesso riconoscimento sociale dei diritti dei rifugiati. Oggi\, il sospetto verso questi ultimi e i richiedenti asilo fa risorgere muri invalicabili di filo spinato dentro il cuore dell’Europa.\nAttingendo a più prospettive disciplinari\, dalla storia sociale a quella politica\, dalla filosofia del\ndiritto alla sociologia\, la Scuola Estiva SIS 2017 si propone di coniugare la riflessione sui rifugiati con quella sui migranti\, con l’obiettivo di rendere evidente come\, al fondo\, la questione centrale sia il riconoscimento del diritto a migrare\, un diritto che interroga inevitabilmente – complicandola – la nozione di cittadinanza.\nInserendo in questo dibattito la prospettiva di genere\, la Scuola mira a evidenziare il carattere non neutro delle rappresentazioni binarie che oppongono migranti e rifugiati\, mostrando al contempo come sia complesso l’intreccio tra agency e vulnerabilità\, tra migrazione e fuga\, nei percorsi migratori delle donne. \nMercoledì 30 agosto \nore 15.30\nENRICA ASQUER (Edith Saurer Fonds\, Bourse de recherche sur la Xénophobie et l’Antisémitisme\,\nVille de Paris)\, Introduzione al tema \nore 16.00-19.00\nENRICA RIGO (Università Roma Tre)\, Donne attraverso il Mediterraneo. Risignificare il diritto\nd’asilo nella crisi dei confini europei \nGiovedì 31 agosto \nore 9.30-12.30\nSILVIA SALVATICI (Università di Milano)\, Profughe o migranti? Percorsi del resettlement nel\nsecondo dopoguerra \nANNA BADINO (Aix-Marseille Université)\, La società italiana e le migrazioni interne: l’eredità controversa degli anni del boom \nore 14.30-16.00\nDibattito con PAOLA DEGANI (Università di Padova) e CLAUDIA PIVIDORI (Università di Padova)\, autrici del volume Attività criminali forzate e scenari della tratta di persone nel quadro degli attuali fenomeni migratori. Questioni di diritti umani e risposte di policy\, Padova University Press\, 2016. \nh 16.00-19.00\nLaboratorio 1: ANNA BADINO (Aix-Marseille Université)\, Migrazioni e integrazione scolastica: luci e ombre dagli anni del boom\nLaboratorio 2: BARBARA PINELLI (Università Milano-Bicocca)\, Confini d’Europa\, spazio dei diritti. Genere\, soggettività e violenza \nVenerdì 1 settembre \nore 9.00-11.00\nMARINA CALCULLI (Università Ca’ Foscari\, Venezia)\, Il caso siriano\, tra confusioni semantiche e neo-sovranismi \nore 11.00-13.00\nTavola rotonda\, in collaborazione con il Centro Studi Emigrazione-Roma (CSER) \nMigranti o in fuga? Intorno alle migrazioni contemporanee Coordina ELISABETTA VEZZOSI (Università di Trieste) Partecipano:\nMATTEO SANFILIPPO (Direttore CSER\, Università della Tuscia)\nCAROLA PERILLO (CSER)\nGIOVANNI GOZZINI (Università di Siena) \nore 15.30-18.30\nLaboratorio 1: MARIA PERINO (Università del Piemonte Orientale)\, Migrazioni e integrazione\nscolastica: dilemmi ed esperienze di oggi\nLaboratorio 2: BARBARA PINELLI (Università Milano-Bicocca)\, Confini d’Europa\, spazio dei diritti.\nGenere\, soggettività e violenza \nSabato 2 settembre \nore 9.00-12.30\nLaboratori \nore 15.30-17.00\nEMILIO SANTORO (Università di Firenze)\, Diritto d’asilo e politiche contemporanee \nDomenica 3 settembre \nore 9.30-12.30\nRiflessioni finali a partire dai laboratori\nCoordina ANNA SCATTIGNO (Università di Firenze)
URL:https://www.sissco.it/calendario/migranti-o-in-fuga-attraversamenti-diritti-frontiere-scuola-estiva-2017-della-societa-italiana-delle-storiche/
LOCATION:Centro Studi CISL\, Via della Piazzola\, 71 \, Firenze\, 50133\, Italia
CATEGORIES:Seminario
ORGANIZER;CN="Societ%C3%A0 italiana delle storiche":MAILTO:scuolaestivasis@gmail.com
END:VEVENT
BEGIN:VEVENT
DTSTART;TZID=Europe/Rome:20170904T160000
DTEND;TZID=Europe/Rome:20170907T235900
DTSTAMP:20260422T223814
CREATED:20170829T223043Z
LAST-MODIFIED:20170829T223043Z
UID:10001678-1504540800-1504828740@www.sissco.it
SUMMARY:Culture storiche europee. Identità nazionale\, globalizzazione e  le sfide del transfer storiografico italo-tedesco 19°-21° secolo
DESCRIPTION:Il Colloquio scientifico Culture storiche europee. Identità nazionale\, globalizzazione e le sfide del transfer storiografico italo-tedesco – 19°-21° secolo offre a giovani studiosi e studiose italiani/e di storia contemporanea\, che si occupano dell’area di lingua tedesca\, e a giovani studiosi e studiose germanofoni/e\, che si occupano di storia contemporanea italiana o anche delle relazioni tra i due ambiti o in una prospettiva comparata\, la possibilità di dialogare e confrontarsi su un piano metodologico e contenutistico.\nLa crisi economica e finanziaria internazionale degli ultimi anni ha portato alla ribalta  nell’opinione pubblica degli Stati europei stereotipi nazionali ormai da tempo sopiti o tramontati causando un progressivo rafforzarsi di un nazionalismo non di rado aggressivo. Ciò ha condotto a un indebolimento\, se non alla messa in dubbio\, di un’identità europea e di un senso di appartenenza a una comunità di valori europea. D’altra parte\, nel quadro di un ampliarsi dei processi di globalizzazione\,  la crescente mobilità scientifica sostenuta da programmi di scambio e di ricerca all’interno dell’Europa ha notevolmente rafforzato la consapevolezza di appartenere a una comunità culturale e scientifica transnazionale europea\, che condivide interessi\, problemi e obiettivi\, e ha permesso di intensificare in tal modo una proficua e fruttuosa cooperazione scientifica e culturale sul piano europeo.Tale quadro contraddittorio rispecchia anche le relazioni degli ultimi anni tra Italia e Germania.\nNella cornice di tre sezioni tematiche su politica\, società/economia\, cultura\, nel colloquio saranno analizzati progetti di ricerca in corso o di recente conclusione di giovani studiosi sulla base del loro confronto con approcci analitici e concetti e filoni storiografici innovativi o classici nella storiografia tedesca e italiana.\nLo scopo è quello di permettere un dialogo e un confronto aperto sul piano storiografico transnazionale italo-tedesco e\, accogliendo la sfida tra identità nazionale e globalizzazione\, combinando i vantaggi dei due contesti storiografici nazionali e applicando quindi in modo incrociato differenti orientamenti metodologici\, verificare e allo stesso tempo offrire nuovi percorsi nelle culture storiografiche europee.
URL:https://www.sissco.it/calendario/culture-storiche-europee-identita-nazionale-globalizzazione-e-le-sfide-del-transfer-storiografico-italo-tedesco-19-21-secolo/
LOCATION:Villa Vigoni – Centro italo-tedesco per l’eccellenza europea\, Loveno di Menaggio (CO)\, Italia
CATEGORIES:Workshop
ORGANIZER;CN="Andrea D'Onofrio - Presidente SISCALT":MAILTO:andonofr@unina.it
END:VEVENT
BEGIN:VEVENT
DTSTART;TZID=Europe/Rome:20170916T170000
DTEND;TZID=Europe/Rome:20170916T235900
DTSTAMP:20260422T223814
CREATED:20170911T191849Z
LAST-MODIFIED:20170911T192801Z
UID:10001684-1505581200-1505606340@www.sissco.it
SUMMARY:Fotografia e storia: un volume sul fascismo a Predappio
DESCRIPTION:“Predappio al tempo del Duce. Il fascismo nella collezione fotografica Franco Nanni” \nA cura di Franco D’Emilio e Giancarlo Gatta \nBradypus Editore\, Roma 2017 (Collana “OttocentoDuemila”\, Fotografia e storia\, 1) \nQuesto volume fotografico\, che raccoglie circa 250 scatti degli anni Venti e Trenta per lo più inediti\, valorizza per la prima volta la collezione sul fascismo del predappiese Franco Nanni\, il cui notevole interesse storico è stato recentemente riconosciuto dalla Soprintendenza archivistica e bibliografica dell’Emilia-Romagna. Il libro si apre con una prefazione della soprintendente Elisabetta Arioti\, già direttrice dell’Archivio di Stato di Bologna\, e si completa con un saggio di Mario Proli\, uno dei più accreditati storici locali\, dove si mette in rilievo l’importanza della fotografia dei luoghi d’origine di Benito Mussolini per l’opera di costruzione dell’immagine pubblica del regime. \nPer saperne di più: \nhttp://books.bradypus.net/predappio_al_tempo_del_duce \nhttp://books.bradypus.net/series#ottocentoduemila \n  \nPresentazione del libro\nSabato 16 settembre 2017\nRocca delle Caminate (Predappio-Meldola)\, ore 17.00 \nSaluti di Giorgio Frassineti\, sindaco di Predappio\nInterventi di:\nElisabetta Arioti\, Soprintendente ai beni archivistici e bibliografici dell’Emilia-Romagna\nCarlo De Maria\, Università di Urbino\, direttore della Collana OttocentoDuemila\nMario Proli\, storico\, responsabile dell’Ufficio stampa del Comune di Forlì\nCoordina Paolo Poponessi. Saranno presenti i curatori.
URL:https://www.sissco.it/calendario/fotografia-e-storia-un-volume-sul-fascismo-a-predappio/
LOCATION:Rocca delle Caminate\, Predappio-Meldola (FC)\, Italia
CATEGORIES:Presentazione di libro/i
ORGANIZER;CN="Clionet - Associazione di ricerca storica e promozione culturale":MAILTO:info@clionet.it
END:VEVENT
BEGIN:VEVENT
DTSTART;TZID=Europe/Rome:20170921T090000
DTEND;TZID=Europe/Rome:20170923T235900
DTSTAMP:20260422T223814
CREATED:20170907T074910Z
LAST-MODIFIED:20170908T130644Z
UID:10001681-1505984400-1506211140@www.sissco.it
SUMMARY:1st International Conference of Anarchist Geographies and Geographers
DESCRIPTION:In the last years\, an outstanding international and multilingual rediscovery of anarchist geographers has occurred at the level both of academics and of grassroots movements\, drawing at the same time on a renewed interest for historical figures like Pyotr Kropotkin (1842-1921) and Elisée Reclus (1830-1905)\, and on the contributions of anarchist and antiauthoritarian ideas and practices to present-day struggles for social liberation worldwide. Special issues on anarchism and geography have been published by outstanding international journals\, such as Antipode and ACME\, leading to a flourishing of recent papers and books on these topics\, including the organisation of successful sessions on anarchist geographies at the most widely attended geographic international conferences\, such as the RGS-IBG\, the AAG and the IGU\, and for the international conferences of the Anarchist Studies Network. An international mailing list of anarchist geographies has also been inaugurated.\nIn the French-speaking circuits\, a flourishing of grassroots initiatives and scholarly research has likewise taken place\, leading to the foundation of a network of anarchist geographers (Réseau de géographes libertaires)\, which organises a number of periodic conferences and workshops in France and Switzerland\, and contributes to two important annual festivals targeting the communication between scholars and wider publics in France. The first\, Les Reclusiennes\, takes place in Sainte-Foy-la-Grande\, the town of origin of Elisée Reclus\, and the second\, the Festival International de la Géographie in Saint-Dié-des-Vosges\, includes an anarchist-driven Forum of Critical Geographies. In South America\, conferences and public courses on anarchist geographies are periodically organised\, mainly in Brazil\, by the networks of ReKro-Rede Reclus-Kropotkin de Estudos Libertários and the Anarchist Library Terra Livre\, in collaboration with universities like UFRJ and USP. This list could continue\, but it is just a sample of the rich and cosmopolite field in which the present-day debates in anarchist geographies are developing.\nIn light of the flourishing of anarchist geographies\, we propose to organize an independent international conference\, to be repeated in different countries every 2 or 3 years\, to create a space for scholars and militants interested in these topics to enjoy a deep and fruitful exchange\, and present an opportunity for those interested in anarchist geographies and rooted in broader social movements internationally to exchange ideas and make meaningful connections’. The choice of doing the first conference in an Italian small town like Reggio Emilia\, where an established local anarchist movement already promoted events and publications on anarchist geographers is instrumental to the capital tasks of continuing a discussion among scholars and militants from different linguistic and cultural areas\, and ensuring discussions involve grassroots movements and militant situations outside the academy.
URL:https://www.sissco.it/calendario/1st-international-conference-of-anarchist-geographies-and-geographers/
LOCATION:Circolo ARCI “Cucine del Popolo”\, Massenzatico\, Reggio Emilia\, Italia
CATEGORIES:Convegno
ORGANIZER;CN="Federico Ferretti":MAILTO:icagg2017@icagg.org
END:VEVENT
BEGIN:VEVENT
DTSTART;TZID=Europe/Rome:20170922T185000
DTEND;TZID=Europe/Rome:20170922T235900
DTSTAMP:20260422T223814
CREATED:20170903T102554Z
LAST-MODIFIED:20170903T103022Z
UID:10001679-1506106200-1506124740@www.sissco.it
SUMMARY:Eretiche. Il Novecento di Maria Luisa Berneri e Giovanna Caleffi
DESCRIPTION:Venerdì 22 settembre 2017 (ore 18\,50) – in occasione dell’8^ Vetrina dell’editoria e delle culture anarchiche e libertarie – presentazione del volume di Giorgio Sacchetti Eretiche. Il Novecento di Maria Luisa Berneri e Giovanna Caleffi\, Biblion 2017\, pp. 132\, euro 13\, presso Teatro Obihall a Firenze (via F. De André\, angolo Lungarno A. Moro). Partecipano\, con l’autore\, Fiamma Chessa e l’editore Biblion. \nGiovanna Caleffi (1897-1962) e Maria Luisa Berneri (1918-1949)\, sono principalmente conosciute come “moglie di” e “figlia di” Camillo Berneri\, noto intellettuale antifascista e militante anarchico assassinato dai comunisti staliniani durante la guerra civile in Spagna. Le figure e l’opera di queste due donne\, il loro tragico percorso umano nell’Europa dei totalitarismi\, la loro comune sensibilità politica e culturale\, cosmopolita e transnazionale\, ci propongono un’inconsueta\, profonda visuale femminile e anarchica nel cuore del Novecento. Tra gli anni Trenta e Sessanta\, prima con la giovane Maria Luisa esule in Francia e a Londra\, poi – dopo la sua prematura scomparsa – nel secondo dopoguerra con la madre Giovanna\, redattrice della rivista “Volontà” in Italia\, si prospetta una sorprendente linea di continuità di pensiero e di critica antiautoritaria all’esistente di grande spessore\, anticonvenzionale. Esuli\, perseguitate\, eretiche\, vittime e testimoni in apparenza fragili della violenza e della disumanità dispiegate dalla grande Storia\, ci lasciano\, in continuità fra di loro e in una sequenza innaturale figlia-madre\, uno sguardo sensibile e un anelito libertario sullo scenario sofferente della modernità\, inseguendo ideali di felicità possibile e un riscatto alla “viltà delle moltitudini”.
URL:https://www.sissco.it/calendario/eretiche-il-novecento-di-maria-luisa-berneri-e-giovanna-caleffi/
LOCATION:Teatro Obihall\, Via F. De André (angolo Lungarno A. Moro)\, Firenze\, Italia
CATEGORIES:Presentazione di libro/i
ORGANIZER;CN="Giorgio Sacchetti":MAILTO:sacchetti.giorgio@gmail.com
END:VEVENT
BEGIN:VEVENT
DTSTART;VALUE=DATE:20170926
DTEND;VALUE=DATE:20170927
DTSTAMP:20260422T223814
CREATED:20170907T121721Z
LAST-MODIFIED:20170907T121721Z
UID:10001682-1506384000-1506470399@www.sissco.it
SUMMARY:Professionalizzare: una storia pedagogica di saperi in contesto
DESCRIPTION:Seminario a cura di Egle Becchi e Monica Ferrari (Università di Pavia) nell’ambito del cantiere di ricerca sulla formazione alle e delle professioni in Europa dall’età moderna all’età contemporanea
URL:https://www.sissco.it/calendario/professionalizzare-una-storia-pedagogica-di-saperi-in-contesto/
LOCATION:Collegio Ghislieri-Aula Goldoniana\, Piazza Ghislieri\, 5\, Pavia\, 27100\, Italia
CATEGORIES:Seminario
ORGANIZER;CN="Arianna Arisi Rota":MAILTO:arisi@unipv.it
END:VEVENT
BEGIN:VEVENT
DTSTART;TZID=Europe/Rome:20170926T173000
DTEND;TZID=Europe/Rome:20170926T235900
DTSTAMP:20260422T223814
CREATED:20170919T135946Z
LAST-MODIFIED:20170919T135946Z
UID:10000437-1506447000-1506470340@www.sissco.it
SUMMARY:L'occasione del '56. Alla ricerca del socialismo
DESCRIPTION:Presentazione del volume L’occasione del ’56. Alla ricerca del socialismo\, Aragno\, 2017 \ndi Antonio Giolitti e Luigi Longo\, a cura di Andrea Ricciardi \nOltre al curatore\, intervengono Antonio Carioti\, Andrea Panaccione e Giovanni Scirocco\, coordina Ferruccio Capelli
URL:https://www.sissco.it/calendario/loccasione-del-56-alla-ricerca-del-socialismo-2/
LOCATION:Casa della Cultura\, Via Borgogna 3\, Milano\, 20122\, Italia
CATEGORIES:Presentazione di libro/i
ORGANIZER;CN="Unnamed Organizer":MAILTO:segreteria@casadellacultura.it
END:VEVENT
BEGIN:VEVENT
DTSTART;TZID=Europe/Rome:20170928T093000
DTEND;TZID=Europe/Rome:20170928T235900
DTSTAMP:20260422T223814
CREATED:20170922T095415Z
LAST-MODIFIED:20170922T105409Z
UID:10000439-1506591000-1506643140@www.sissco.it
SUMMARY:Alla ricerca della terza via. Politica\, economia\, istituzioni dal primo al secondo dopoguerra
DESCRIPTION:Convegno interdisciplinare su alcuni significativi casi di studio inerenti la tematica della ricerca\, da e su sponde assai diverse\, quando non antitetiche tout court\, di una «terza via» in Italia fra primo e secondo dopoguerra (il programma è consultabile nel file allegato)
URL:https://www.sissco.it/calendario/alla-ricerca-della-terza-via-politica-economia-istituzioni-dal-primo-al-secondo-dopoguerra/
LOCATION:Università di Pisa\, Dipartimento di Scienze Politiche\, Aula Magna\, Via Serafini 3\, Pisa\, 50126\, Italia
CATEGORIES:Convegno
ORGANIZER;CN="Paolo Nello":MAILTO:paolo.nello@unipi.it
END:VEVENT
BEGIN:VEVENT
DTSTART;TZID=Europe/Rome:20170928T103000
DTEND;TZID=Europe/Rome:20170929T235900
DTSTAMP:20260422T223814
CREATED:20170904T142352Z
LAST-MODIFIED:20170904T142352Z
UID:10001680-1506594600-1506729540@www.sissco.it
SUMMARY:Il lavoro nelle campagne. Sussistenza\, pluriattività\, mobilità
DESCRIPTION:Convegno internazionale organizzato dalla SISLav e da RuLav “Il lavoro nella campagne. Sussistenza\, pluriattività\, mobilità”\, il 28 e 29 settembre a Milano. Il programma completo può essere scaricato alla pagina web: http://www.storialavoro.it/fileadmin/files/pdf/convegno2017_programma_provv_III.pdf .
URL:https://www.sissco.it/calendario/il-lavoro-nelle-campagne-sussistenza-pluriattivita-mobilita/
LOCATION:Milano Bicocca\, Università di Milano Bicocca\, Milano\, Italia
CATEGORIES:Convegno
ORGANIZER;CN="Giulio Ongaro":MAILTO:giulio.ongaro86@gmail.com
END:VEVENT
BEGIN:VEVENT
DTSTART;TZID=Europe/Rome:20170928T170000
DTEND;TZID=Europe/Rome:20170928T235900
DTSTAMP:20260422T223814
CREATED:20170915T173004Z
LAST-MODIFIED:20170915T173004Z
UID:10001685-1506618000-1506643140@www.sissco.it
SUMMARY:La rivoluzione dietro l’angolo
DESCRIPTION:Giovedì 28 settembre 2017\, alle ore 17.00\, presso la Biblioteca di storia moderna e contemporanea (Palazzo Mattei di Giove – Via Michelangelo Caetani 32\, Roma)\, sarà presentato il volume La Rivoluzione dietro l’angolo. Gli anarchici italiani e la Rivoluzione messicana\, 1910-1914\, di\n Michele Presutto (Editoriale Umbra\, 2017).\nIntervengono:\nRoberto   Carocci\, Matteo   Sanfilippo\, Maria   Rosaria   Stabili.\nCoordina: Alberto Sorbini \nSarà presente l’autore.\nIl 29 gennaio 1911 una banda di ribelli provenienti dai vicini Stati Uniti conquista il villaggio di frontiera Mexicali. Da quel momento in poi\, fino alla fine di giugno dello stesso anno\, cadono nelle mani dei magonisti\, anche Tecate e Tijuana. Dall’altra parte della frontiera\, negli\nslums delle grandi città\, nei cantieri ferroviari e soprattutto nei bacini minerari\, centinaia di immigrati italiani sognano la rivoluzione quando giunge loro la notizia che finalmente questa è scoppiata proprio dietro\nl’angolo\, a poca distanza da Los Angeles e da San Diego. Alcuni di essi partono subito per il Messico\, ma all’entusiasmo iniziale seguirà un’amara delusione: nel Messico\, sostengono\, non c’è alcuna rivoluzione! Tornati negli Stati Uniti dopo poco tempo cominciano una querelle che durerà a lungo e andrà ad influenzare non solo la solidarietà operaia nei confronti della Rivoluzione\nmessicana\, ma anche gli stessi rapporti interni alle varie anime del mondo sovversivo italiano in Nord America (e non solo). Attraverso i giornali dell’epoca e altre fonti\, l’autore ricostruisce una pagina di storia poco esplorata che getta nuova luce sulle relazioni interetniche tra italiani e messicani\, oltre che su quelle politiche tra le diverse fazioni sovversive\, all’alba del primo conflitto\nmondiale. Una discussione e un dibattito avvincente che vuole contribuire fattivamente a dare ulteriori significati all’uso (a volte abuso) del concetto di\ntransnazionalismo tanto in voga nella storiografia sul tema degli ultimi anni.\nMichele Presutto\, ricercatore indipendente\, è autore di diversi saggi su emigrazione e comportamenti politici degli emigranti italiani tra la fine dell’Ottocento e lo scoppio del primo conflitto mondiale. Tra gli altri:\nPrima dell’America.
URL:https://www.sissco.it/calendario/la-rivoluzione-dietro-langolo/
LOCATION:Biblioteca di storia moderna e contemporanea\, Via Michelangelo Caetani\, 32\, Roma\, 00186\, Italia
CATEGORIES:Presentazione di libro/i
ORGANIZER;CN="Gisella Bochicchio":MAILTO:b-stmo.info@beniculturali.it
END:VEVENT
BEGIN:VEVENT
DTSTART;TZID=Europe/Rome:20170928T173000
DTEND;TZID=Europe/Rome:20170928T235900
DTSTAMP:20260422T223814
CREATED:20170922T103358Z
LAST-MODIFIED:20170922T104514Z
UID:10000440-1506619800-1506643140@www.sissco.it
SUMMARY:Le biblioteche nell'Italia fascista
DESCRIPTION:Nell’ambito di “BiblioPride 2017”\, VI Giornata nazionale delle Biblioteche \nPresentazione del libro di Carlo De Maria\, “Le biblioteche nell’Italia fascista” (Biblion Edizioni\, Milano 2016) \nIntroduce Samuele Mascarin (Assessore alle Biblioteche e Servizi educativi del Comune di Fano)\nNe discute con l’autore Silvia Serini.\nPer saperne di più sul libro vai alla scheda editoriale
URL:https://www.sissco.it/calendario/le-biblioteche-nellitalia-fascista-2/
LOCATION:Mediateca Montanari – Memo\, Piazza Pier Maria Amiani\, Fano (PU)\, 61032\, Italia
CATEGORIES:Presentazione di libro/i
ORGANIZER;CN="Mediateca Montanari %E2%80%93 Memo":MAILTO:memo@comune.fano.pu.it
END:VEVENT
BEGIN:VEVENT
DTSTART;TZID=Europe/Rome:20170928T180000
DTEND;TZID=Europe/Rome:20170928T235900
DTSTAMP:20260422T223814
CREATED:20170923T162949Z
LAST-MODIFIED:20170923T162949Z
UID:10001686-1506621600-1506643140@www.sissco.it
SUMMARY:Antonio Gaetani di Laurenzana nella vita del suo tempo (1854- 1898)
DESCRIPTION:Le passioni e le disillusioni di un intellettuale moderno\, la lucidità e la lungimiranza del politico\, la fragilità e la disperazione dell’uomo: il carteggio di Antonio Gaetani di Laurenzana è il racconto di grande forza drammatica ed emozionante vividezza di un protagonista dell’Italia postunitaria\, epoca di grandi trasformazioni sociali e tensioni politiche.   \nhttps://www.youcanprint.it/component/option\,com_chronoconnectivity/Itemid\,352/ \n 
URL:https://www.sissco.it/calendario/antonio-gaetani-di-laurenzana-nella-vita-del-suo-tempo-1854-1898/
LOCATION:Piedimonte Matese\, Sorgente \, Piedimonte Matese\, 81016\, Italia
CATEGORIES:Presentazione di libro/i
ORGANIZER;CN="Armando Pepe":MAILTO:pepearman@gmail.com
END:VEVENT
END:VCALENDAR