BEGIN:VCALENDAR
VERSION:2.0
PRODID:-//SISSCO - ECPv6.15.20//NONSGML v1.0//EN
CALSCALE:GREGORIAN
METHOD:PUBLISH
X-WR-CALNAME:SISSCO
X-ORIGINAL-URL:https://www.sissco.it
X-WR-CALDESC:Eventi per SISSCO
REFRESH-INTERVAL;VALUE=DURATION:PT1H
X-Robots-Tag:noindex
X-PUBLISHED-TTL:PT1H
BEGIN:VTIMEZONE
TZID:Europe/Rome
BEGIN:DAYLIGHT
TZOFFSETFROM:+0100
TZOFFSETTO:+0200
TZNAME:CEST
DTSTART:20180325T010000
END:DAYLIGHT
BEGIN:STANDARD
TZOFFSETFROM:+0200
TZOFFSETTO:+0100
TZNAME:CET
DTSTART:20181028T010000
END:STANDARD
BEGIN:DAYLIGHT
TZOFFSETFROM:+0100
TZOFFSETTO:+0200
TZNAME:CEST
DTSTART:20190331T010000
END:DAYLIGHT
BEGIN:STANDARD
TZOFFSETFROM:+0200
TZOFFSETTO:+0100
TZNAME:CET
DTSTART:20191027T010000
END:STANDARD
BEGIN:DAYLIGHT
TZOFFSETFROM:+0100
TZOFFSETTO:+0200
TZNAME:CEST
DTSTART:20200329T010000
END:DAYLIGHT
BEGIN:STANDARD
TZOFFSETFROM:+0200
TZOFFSETTO:+0100
TZNAME:CET
DTSTART:20201025T010000
END:STANDARD
END:VTIMEZONE
BEGIN:VEVENT
DTSTART;TZID=Europe/Rome:20190109T170000
DTEND;TZID=Europe/Rome:20190109T235900
DTSTAMP:20260421T160122
CREATED:20190102T223642Z
LAST-MODIFIED:20190103T100956Z
UID:10001909-1547053200-1547078340@www.sissco.it
SUMMARY:Il registro. La cacciata degli ebrei dallo Stato italiano nei protocolli della Corte dei Conti  1938-1943
DESCRIPTION:Mercoledì 9 gennaio 2019\, alle ore 17.00\, presso la Biblioteca di storia moderna e contemporanea (Palazzo Mattei di Giove – Via Michelangelo Caetani 32\, Roma)\, presentazione del volume “Il registro. La cacciata degli ebrei dallo Stato italiano nei protocolli della Corte dei Conti 1938-1943” di Annalisa Capristo e Giorgio Fabre\, Il Mulino\, 2018. \nSaluti: Patrizia Rusciani (Direttrice della Biblioteca di storia moderna e contemporanea) \nIntroducono: Noemi Di Segni (Presidente dell’Unione delle Comunità Ebraiche Italiane)\, Mauro Orefice (Capo di gabinetto del Presidente della Corte dei Conti). \nInterventi: Micaela Procaccia (Dirigente del Servizio II – Patrimonio Archivistico della Direzione Generale per gli Archivi del Ministero per i beni e le attività culturali)\,  Michele Sarfatti (storico\, già direttore della Fondazione Centro di Documentazione Ebraica Contemporanea di Milano)\, \nSaranno presenti gli autori e Luciano Canfora\, direttore della collana “Critica storica” del Dipartimento di storia dell’Università di San Marino
URL:https://www.sissco.it/calendario/il-registro-la-cacciata-degli-ebrei-dallo-stato-italiano-nei-protocolli-della-corte-dei-conti-1938-1943-3/
LOCATION:Biblioteca di storia moderna e contemporanea\, Via Michelangelo Caetani 32\, Roma\, 00186\, Italia
CATEGORIES:Presentazione di libro/i
ORGANIZER;CN="Unnamed Organizer":MAILTO: b-stmo.info@beniculturali.it 
END:VEVENT
BEGIN:VEVENT
DTSTART;TZID=Europe/Rome:20190111T143000
DTEND;TZID=Europe/Rome:20190111T235900
DTSTAMP:20260421T160122
CREATED:20190108T092244Z
LAST-MODIFIED:20190108T092244Z
UID:10001911-1547217000-1547251140@www.sissco.it
SUMMARY:Cold War in the Americas
DESCRIPTION:Venerdì 11 gennaio alle 14.30\, in Aula 113\, si terrà il seminario Cold War in the Americas. Ospite per l’occasione sarà il professor Vanni Pettinà del Centro de Estudios Históricos de el Colegio de México che presenterà una relazione tratta dal suo ultimo libro dal titolo “La guerra fria en América latina” (Colmex 2018).\nAd accompagnarlo ci sarà la professoressa Benedetta Calandra dell’Università degli studi di Bergamo che parlerà del Soft Power nella guerra fredda latinoamericana. L’intervento introduttivo sarà invece del prof. Massimo De Giuseppe (Università IULM).\nIl seminario\, organizzato in collaborazione con il master MICRI\, rappresenta il terzo appuntamento del progetto di ricerca interdipartimentale “Transiti”. Processi di globalizzazione\, luoghi e frontiere fra XX e XXI secolo: concetti\, forme\, svolte\, interpretazioni\, promosso da Dipartimento di Studi umanistici insieme al Dipartimento di Comunicazione\, arti e media.
URL:https://www.sissco.it/calendario/cold-war-in-the-americas/
LOCATION:Università IULM – Aula 113\, Via Carlo Bo\, 1\, Milano\, 20143\, Italia
CATEGORIES:Presentazione di libro/i
ORGANIZER;CN="Massimo De Giuseppe":MAILTO:massimo.degiuseppe@iulm.it
END:VEVENT
BEGIN:VEVENT
DTSTART;TZID=Europe/Rome:20190111T163000
DTEND;TZID=Europe/Rome:20190111T235900
DTSTAMP:20260421T160122
CREATED:20190106T101912Z
LAST-MODIFIED:20190106T101912Z
UID:10001910-1547224200-1547251140@www.sissco.it
SUMMARY:Milano 1919
DESCRIPTION:Ciclo di incontri “Milano 1919”Il Comune di Milano e l’Università degli studi di Milano\, in collaborazione con Fondazione ISEC\, Istituto nazionale Ferruccio Parri\, Istituto Lombardo di storia contemporanea\, Fondazione Milano\, vi invitano al ciclo di incontri dedicato a “Milano 1919”. Il primo appuntamento sarà a Palazzo Marino  \nVenerdì 11 gennaio 2019\, ore 16\,30\nPalazzo Marino\, Aula consiliare\, Piazza della Scala 2\, Milano \ne sarà dedicato alla visita del presidente Wilson a Milano nel gennaio 1919 e alla contestazione di Bissolati alla Scala. \nProgramma:\nOre 16\,30: Saluti istituzionali\nOre 17\,00: La giunta Caldara e il presidente Wilson: dalla fine della guerra alla Società delle Nazioni\nIntervengono:\n• Barbara Bracco\, Università di Milano-Bicocca\n• Maurizio Punzo\, Università degli Studi di Milano\n• Archivio Istituto Luce: proiezione del filmato Il presidente americano Wilson in Italia\, 1919 \nore 18.00: Il mito della vittoria mutilata e la contestazione a Leonida Bissolati\nInterventi di\nIntervengono:\n• Marco Cuzzi\, Università degli Studi di Milano\n• Giovanni Scirocco\, Università degli Studi di Bergamo\n• Reading a cura degli allievi della Civica scuola di teatro Paolo Grassi
URL:https://www.sissco.it/calendario/milano-1919/
LOCATION:Milano\, Piazza della Scala 2\, Italia
CATEGORIES:Inaugurazione di evento culturale
END:VEVENT
BEGIN:VEVENT
DTSTART;TZID=Europe/Rome:20190111T163000
DTEND;TZID=Europe/Rome:20190111T235900
DTSTAMP:20260421T160122
CREATED:20190108T121443Z
LAST-MODIFIED:20190108T121443Z
UID:10001912-1547224200-1547251140@www.sissco.it
SUMMARY:Ciclo di incontri “Milano 1919: il tempo della sbandamento e la nascita del fascismo”
DESCRIPTION:Il Comune di Milano e l’Università degli studi di Milano\, in collaborazione con Fondazione ISEC\, Istituto nazionale Ferruccio Parri\, Istituto Lombardo di storia contemporanea\, Fondazione Milano\, vi invitano al ciclo di incontri “Milano 1919: il tempo dello sbandamento e la nascita del fascismo”.\nNell’arco di poche settimane\, a Milano\, nel 1919 si svolsero gli eventi centrali che segnarono la storia di quell’anno e dei decenni successivi: il 5 gennaio la visita a Palazzo Marino del presidente degli Stati Uniti d’America Woodrow Wilson\, in viaggio verso Parigi per partecipare alla Conferenza della pace; l’11 gennaio la contestazione di Leonida Bissolati\, principale portavoce italiano delle idee wilsoniane di pace\, durante il discorso programmato al Teatro della Scala; il 23 marzo la fondazione in piazza San Sepolcro dei Fasci di combattimento da parte di Benito Mussolini; il 15 aprile l’assalto alla sede del quotidiano socialista «Avanti» da parte di una squadra di arditi\, futuristi e fascisti\, che lo storico Renzo De Felice ha definito come primo atto dello squadrismo italiano.\nIl primo appuntamento è a Palazzo Marino ed è dedicato alla visita del presidente Wilson a Milano e alla contestazione di Bissolati alla Scala\, nel gennaio 1919. Gli incontri successivi saranno il 23 marzo\, dedicato alla “Fondazione dei Fasci di combattimento”\, e il 15 aprile\, dedicato al “Primo assalto squadrista alla sede dell’Avanti”.\nProgramma\nOre 16:30: Saluti istituzionali\nIntervengono:\n• Mario Vanni\, capo di Gabinetto del Sindaco del Comune di Milano\n• Lamberto Bertolé\, presidente del Consiglio comunale di Milano;\n• Elio Franzini\, rettore dell’Università degli Studi di Milano;\n• Gianni Cervetti\, presidente della Fondazione ISEC.\nOre 17\,00: La giunta Caldara e il presidente Wilson: dalla fine della guerra alla Società delle Nazioni\nIntervengono:\n• Barbara Bracco\, Università di Milano-Bicocca\n• Maurizio Punzo\, Università degli studi di Milano\n• Archivio Istituto Luce: proiezione del filmato Il presidente americano Wilson in Italia\, 1919\nOre 18.30: Il mito della vittoria mutilata e la contestazione a Leonida Bissolati\nIntervengono:\n• Marco Cuzzi\, Università degli studi di Milano\n• Giovanni Scirocco\, Università degli studi di Bergamo\n• Reading a cura degli allievi della Civica scuola di teatro Paolo Grassi: Cecilia Campani e Giovanni Longhin\nVenerdì 11 gennaio 2019\, ore 16\,30\nPalazzo Marino\, Aula consiliare\, Piazza della Scala 2\, Milano\nInfo: comunicazione@fondazioneisec.it \n 
URL:https://www.sissco.it/calendario/ciclo-di-incontri-milano-1919-il-tempo-della-sbandamento-e-la-nascita-del-fascismo/
LOCATION:Milano\, Palazzo Marino\, Sala Consiliare\, Piazza della Scala 2\, MILANO\, 20146\, Italia
CATEGORIES:Altro
ORGANIZER;CN="Sara Zanisi":MAILTO:comunicazione@fondazioneisec.it
END:VEVENT
BEGIN:VEVENT
DTSTART;TZID=Europe/Rome:20190116T150000
DTEND;TZID=Europe/Rome:20190116T235900
DTSTAMP:20260421T160122
CREATED:20190109T160014Z
LAST-MODIFIED:20190109T160014Z
UID:10000662-1547650800-1547683140@www.sissco.it
SUMMARY:Incontro “Hatshepsut e le altre. Un’introduzione alla storia delle donne attraverso cinque immagini”
DESCRIPTION:ISEC vi invita all’incontro “Hatshepsut e le altre. Un’introduzione alla storia delle donne attraverso cinque immagini” a cura di Monica Di Barbora.\nIncontro pubblico e gratuito\, fino a esaurimento posti.\nPer i docenti partecipanti è prevista la possibilità di esonero dal servizio per aggiornamento professionale.\n \nMercoledì 16 gennaio 2019 ore 15.00/18.00\nFondazione ISEC\, Villa Mylius\, largo La Marmora 17 Sesto San Giovanni Per informazioni e iscrizioni: didattica@fondazioneisec.it
URL:https://www.sissco.it/calendario/incontro-hatshepsut-e-le-altre-unintroduzione-alla-storia-delle-donne-attraverso-cinque-immagini/
LOCATION:Fondazione ISEC\, Villa Mylius\, Largo La Marmora 17\, Sesto San Giovanni\, Italia
CATEGORIES:Seminario
ORGANIZER;CN="Sara Zanisi":MAILTO:comunicazione@fondazioneisec.it
END:VEVENT
BEGIN:VEVENT
DTSTART;TZID=Europe/Rome:20190117T150000
DTEND;TZID=Europe/Rome:20190117T235900
DTSTAMP:20260421T160122
CREATED:20190109T152311Z
LAST-MODIFIED:20190109T152311Z
UID:10000661-1547737200-1547769540@www.sissco.it
SUMMARY:“Censire\, discriminare\, depredare. Gli ebrei italiani e i provvedimenti antiebraici”.
DESCRIPTION:In preparazione al Giorno della memoria\, ISEC vi invita all’incontro “Censire\, discriminare\, depredare. Gli ebrei italiani e i provvedimenti antiebraici”. \nIntervengono:\n·         Laura Brazzo\, Fondazione Cdec \n·         Barbara Costa\, Archivio storico Intesa Sanpaolo \n·         Emanuele Edallo\, Università degli studi di Milano \n·         Fabio Isman\, giornalista e scrittore\nIntroduce e modera: \n	Monica Di Barbora\, Fondazione ISEC \n \nIncontro pubblico e gratuito\, fino a esaurimento posti.\nPer i docenti partecipanti è prevista la possibilità di esonero dal servizio per aggiornamento professionale.\nPer i docenti\, è possibile seguire il seminario con la propria classe previa iscrizione e fino a esaurimento dei posti disponibili.\n \nGiovedì 17 gennaio 2019 ore 15.00/18.00 \nFondazione ISEC\, Villa Mylius\, largo La Marmora 17 Sesto San Giovanni Per informazioni e iscrizioni: didattica@fondazioneisec.it \n 
URL:https://www.sissco.it/calendario/censire-discriminare-depredare-gli-ebrei-italiani-e-i-provvedimenti-antiebraici/
LOCATION:Fondazione ISEC\, Villa Mylius\, Largo La Marmora 17\, Sesto San Giovanni\, Italia
CATEGORIES:Seminario
ORGANIZER;CN="Sara Zanisi":MAILTO:comunicazione@fondazioneisec.it
END:VEVENT
BEGIN:VEVENT
DTSTART;TZID=Europe/Rome:20190117T180000
DTEND;TZID=Europe/Rome:20190117T235900
DTSTAMP:20260421T160122
CREATED:20190108T191528Z
LAST-MODIFIED:20190108T191851Z
UID:10001914-1547748000-1547769540@www.sissco.it
SUMMARY:Leto Fratini\, scultore. Percorsi esistenziali e traiettorie dell'antifascismo tra Firenze e Milano
DESCRIPTION:Presentazione del libro di Carmelo Albanese\, “Leto Fratini\, scultore. Percorsi esistenziali e traiettorie dell’antifascismo tra Firenze e Milano” (Pacini Editore\, 2017). \nDiscuterà con l’autore Maria Luisa Simone De Grada\, pittrice\, moglie del critico d’arte e militante antifascista Raffaele De Grada.\nIniziativa organizzata dall’Anpi di Milano e dalla Casa della Memoria nell’ambito della manifestazione “Anpilibri”.
URL:https://www.sissco.it/calendario/leto-fratini-scultore-percorsi-esistenziali-e-traiettorie-dellantifascismo-tra-firenze-e-milano-3/
LOCATION:Casa della Memoria\, Via Federico Confalonieri n. 14\, Milano\, 20124\, Italia
CATEGORIES:Presentazione di libro/i
ORGANIZER;CN="Anpi Milano e Casa della Memoria":MAILTO:c.casadellamemoria@comune.milano.it
END:VEVENT
BEGIN:VEVENT
DTSTART;TZID=Europe/Rome:20190118T180000
DTEND;TZID=Europe/Rome:20190118T230000
DTSTAMP:20260421T160122
CREATED:20190108T121556Z
LAST-MODIFIED:20190112T105936Z
UID:10001913-1547834400-1547852400@www.sissco.it
SUMMARY:Fascismo e antifascismo. Storia\, memoria e culture politiche
DESCRIPTION:Presentazione del libro di Alberto De Bernardi\, Fascismo e antifascismo. Storia\, memoria e culture politiche [Donzelli\, Roma 2018].\nIntervengono:• David Bidussa\, Fondazione Giangiacomo Feltrinelli\,• Ivano Granata\, Università degli studi di Milano• Mirco Carrattieri\, Istituto nazionale Ferruccio Parri\nSarà presente l’autore.\nVenerdì 18 gennaio ore 18Casa della Memoria\, via F. Confalonieri 14 MilanoInfo: comunicazione@fondazioneisec.it
URL:https://www.sissco.it/calendario/incontro-fascismo-e-antifascismo-storia-memoria-e-culture-politiche/
LOCATION:Casa della Memoria\, Via Confalonieri 14\, MILANO\, 20146\, Italia
CATEGORIES:Presentazione di libro/i
ORGANIZER;CN="Sara Zanisi":MAILTO:comunicazione@fondazioneisec.it
END:VEVENT
BEGIN:VEVENT
DTSTART;TZID=Europe/Rome:20190119T100000
DTEND;TZID=Europe/Rome:20190119T235900
DTSTAMP:20260421T160122
CREATED:20190109T130304Z
LAST-MODIFIED:20190109T220606Z
UID:10001915-1547892000-1547942340@www.sissco.it
SUMMARY:Mezzogiorno e Risorgimento
DESCRIPTION:Sabato 19 gennaio si terrà presso la Casina Pompeiana della Villa Comunale di Napoli la giornata di studi “Mezzogiorno e Risorgimento”\, promossa dall’Associazione Mazziniana Italiana in collaborazione con la Domus Mazziniana di Pisa. \nh. 10.00 Apertura del convegno \nIndirizzi di saluto: \nPaolo Guerriero – Presidente Sez. A.M.I. Napoli \nPietro Finelli – Direttore Domus Mazziniana \nPresentazione del convegno: \nMario Di Napoli – Presidente nazionale A.M.I. \nPresiede: \nGiuseppe Monsagrati – Istituto per la Storia del Risorgimento Italiano\, Roma \nInterventi: \nRenata De Lorenzo – Università di Napoli “Federico II” \nRelazione introduttiva \nCarmine Pinto – Università di Salerno \nRivoluzione\, controrivoluzione e conflitto civile nel Mezzogiorno risorgimentale \nValerio Lisi – Istituto per la Storia del Risorgimento Italiano\, Taranto \nCristina di Belgioioso e i volontari napoletani nelle rivoluzioni del 1848-49 \nAntonio Buttiglione – Istituto Italiano per gli Studi Storici \n«Il principio santissimo della libertà dei municipi»: rivoluzione repubblicana\, autogoverno e radicalismo rurale nelle Calabrie del 1848 \nChristopher Calefati\, Antonella Fiorio\, Federico Palmieri – Università di Bari “Aldo Moro” \nNella rete delle Due Sicilie. Il neo-borbonismo alla prova di Internet \nConclusioni: Umberto Ranieri\, Presidente Fondazione “Mezzogiorno Europa” \n 
URL:https://www.sissco.it/calendario/mezzogiorno-e-risorgimento/
LOCATION:Casina Pompeiana\, Villa Comunale\, Riviera di Chiaia\, Napoli\, Italia
CATEGORIES:Seminario
END:VEVENT
BEGIN:VEVENT
DTSTART;TZID=Europe/Rome:20190119T110000
DTEND;TZID=Europe/Rome:20190119T235900
DTSTAMP:20260421T160122
CREATED:20190110T113541Z
LAST-MODIFIED:20190110T113541Z
UID:10000663-1547895600-1547942340@www.sissco.it
SUMMARY:Monte Sacro e dintorni: dai Neanderthal di Saccopastore allo sviluppo della città contemporanea
DESCRIPTION:Storie di scienza a Roma. I luoghi invisibili \nSabato 19 gennaio p.v.\, alle 11.00\, si terrà presso la Biblioteca di storia moderna e contemporanea (Via Michelangelo Caetani\, 32 – Roma)\, nell’ambito del ciclo Storie di scienza a Roma. I luoghi invisibili\, organizzato dalla Sovrintendenza capitolina ai beni culturali\, l’incontro  \nMonte Sacro e dintorni: dai Neanderthal di\nSaccopastore allo sviluppo della città contemporanea.\nA cura di Bruno Bonomo e Giorgio Manzi \nSe non meraviglia che ci si riferisca a Roma parlando di storia\, può sorprendere che il territorio della città eterna sia di grande interesse anche per la preistoria più antica. Proprio  da qui\, infatti\, da un’area della campagna romana che è da tempo inglobata nel  quadrante di nord-est della città provengono due crani fossili di quell’umanità estinta che prende il nome di Neanderthal: i Neanderthal di Saccopastore.\nDopo essere risaliti alla preistoria si tornerà ai giorni nostri seguendo il filo dello sviluppo urbano nell’area di Monte Sacro e dintorni in età contemporanea: dal sorgere della Città giardino Aniene dopo il primo conflitto mondiale alla costruzione delle borgate fasciste di Val Melaina e Tufello\, passando poi alla grande espansione edilizia del secondo dopoguerra fino a giungere ai quartieri di più recente edificazione. \nIl ciclo Storie di scienza a Roma. Collezioni e musei è ideato e curato da Federica Favino\, Dipartimento di Storia\, Culture\, Religioni – Sapienza Università di Roma. Collaborano alla realizzazione del programma i Volontari del Servizio Civile Nazionale\, progetto della Sovrintendenza Capitolina “Educhiamo Insieme”. Il programma è realizzato in collaborazione con: Dipartimento Cultura­ Archivio Storico Capitolino; Istituzione Biblioteche di Roma; Biblioteca di storia moderna e contemporanea; Sapienza Università di Roma – Dipartimento di Storia\, Culture\, Religioni; Sapienza Università di Roma – Dipartimento di Storia dell’arte e spettacolo; Università degli Studi Roma Tre – Dipartimento di Architettura; Accademia di Belle Arti; Società Italiana delle Storiche.\nProgetto a cura di Nicoletta Cardano \nPer prenotare telefonare al numero 060608 (tutti i giorni dalle 9.00 alle 21.00) \nMax 50 persone. E’ \nprevisto il rilascio dell’attestato di formazione.
URL:https://www.sissco.it/calendario/monte-sacro-e-dintorni-dai-neanderthal-di-saccopastore-allo-sviluppo-della-citta-contemporanea/
CATEGORIES:Seminario
ORGANIZER;CN="Gisella Bochicchio":MAILTO:b-stmo.info@beniculturali.it
END:VEVENT
BEGIN:VEVENT
DTSTART;TZID=Europe/Rome:20190122T170000
DTEND;TZID=Europe/Rome:20190122T235900
DTSTAMP:20260421T160122
CREATED:20190110T134108Z
LAST-MODIFIED:20190110T134108Z
UID:10000664-1548176400-1548201540@www.sissco.it
SUMMARY:Sotto gli occhi di tutti. La società italiana e le persecuzioni contro gli ebrei
DESCRIPTION:Nella ricorrenza del Giorno della memoria 2019\, martedì 22 gennaio p.v.\, presso la Biblioteca di storia moderna e contemporanea (Palazzo Mattei di Giove – Via Michelangelo Caetani 32\, Roma)\, sarà presentato il volume\nSotto gli occhi di tutti. La società italiana e le persecuzioni contro gli ebrei di Valeria Galimi\, Le Monnier\, 2018. Intervengono: Tommaso Baris\, Matteo Stefanori\, Mario Toscano. Coordina: Maddalena Carli. Sarà presente l’autrice.  \nIn che modo la società italiana ha reagito di fronte alle persecuzioni contro gli ebrei? Le ha approvate o contrastate\, o si è mostrata indifferente? Opinioni e comportamenti sono cambiati nel momento degli arresti e delle deportazioni dopo il 1943? Qual è il ricordo di questi avvenimenti e in che modo è cambiato il rapporto fra italiani e memoria della Shoah? Se l’immagine del «buon italiano» è ormai messa in discussione\, queste domande continuano a interrogarci. Il volume intende proporre alcune risposte\, a partire da una serie di indagini su opinioni e comportamenti degli italiani di fronte alle leggi razziali del 1938\, alla persecuzione specifica contro gli ebrei stranieri\, alle deportazioni. Per il dopoguerra lo sguardo si sposta sulla costruzione della memoria\, sulla ricezione del processo Eichmann e sul dibattito fra gli storici. Si traccia così un quadro che prescinde dalle categorie di vittime e carnefici\, per dedicarsi ad un’analisi che metta al centro relazioni e interazioni fra ebrei e non ebrei.
URL:https://www.sissco.it/calendario/sotto-gli-occhi-di-tutti-la-societa-italiana-e-le-persecuzioni-contro-gli-ebrei/
CATEGORIES:Presentazione di libro/i
ORGANIZER;CN="Gisella Bochicchio":MAILTO:b-stmo.info@beniculturali.it
END:VEVENT
BEGIN:VEVENT
DTSTART;TZID=Europe/Rome:20190123T090000
DTEND;TZID=Europe/Rome:20190123T235900
DTSTAMP:20260421T160122
CREATED:20190118T115031Z
LAST-MODIFIED:20190118T115031Z
UID:10000670-1548234000-1548287940@www.sissco.it
SUMMARY:Armed groups\, organized violence and the Euro-Mediterranean spaces (1870-1914)
DESCRIPTION:The workshop aims to create an original dialogue\, both comparative and transnational\, around a topic that is relatively new for the period 1870-1914\, namely armed groups. This subject will be considered in relation to political violence and with a relatively flexible geography: Euro-Mediterranean spaces\, understood in a broad sense.  The main question to be addressed is the relationship between armed groups and the legitimate use of violence\, by analyzing similarities\, differences\, transfers and their influences on the social world at large (associations\, coteries\, clans\, the nation\, etc.)\, throughout the Euro-Mediterranean region between 1870 and 1914.
URL:https://www.sissco.it/calendario/armed-groups-organized-violence-and-the-euro-mediterranean-spaces-1870-1914/
CATEGORIES:Workshop
ORGANIZER;CN="Matteo Millan":MAILTO:research@prewaras.eu
END:VEVENT
BEGIN:VEVENT
DTSTART;TZID=Europe/Rome:20190123T103000
DTEND;TZID=Europe/Rome:20190123T235900
DTSTAMP:20260421T160122
CREATED:20190116T202143Z
LAST-MODIFIED:20190118T170705Z
UID:10000667-1548239400-1548287940@www.sissco.it
SUMMARY:Giorno della Memoria 2019
DESCRIPTION:La galassia concentrazionaria nazionalsocialista  e l’Italia del doppio fascismo 1938-1945 \nRelazione di Brunello Mantelli \nSono viva per raccontare. Io\, deportata a Ravensbrück e a Bergen Belsen \nTestimonianza di Kitty Braun Falaschi \nCoordina Daniela Faralli
URL:https://www.sissco.it/calendario/giorno-della-memoria-2019/
LOCATION:Teatro Pacini – ore 10\,30\, Piazza S. Francesco 9 \, Pescia\, 51017\, Italia
CATEGORIES:Inaugurazione di evento culturale
ORGANIZER;CN="Istituto Storico della Resistenza di Pistoia":MAILTO:ispresistenza@tiscali.it
END:VEVENT
BEGIN:VEVENT
DTSTART;TZID=Europe/Rome:20190123T150000
DTEND;TZID=Europe/Rome:20190123T235900
DTSTAMP:20260421T160122
CREATED:20190121T150930Z
LAST-MODIFIED:20190121T150930Z
UID:10001916-1548255600-1548287940@www.sissco.it
SUMMARY:Il registro. La cacciata degli ebrei dallo Stato italiano nei protocolli della Corte dei Conti (1938-1943)
DESCRIPTION:Mercoledì 23 gennaio 2019\, alle ore 15.00\, \npresso la Sala Lettura della Biblioteca Storica Nazionale dell’Agricoltura del ministero (Via XX Settembre\, 20) \nPresentazione del libro \nIL REGISTRO di Giorgio Fabre e Annalisa Capristo (Casa Editrice Il Mulino) \nIn occasione della Giornata della Memoria che si ricorda in tutto il mondo il 27 gennaio di ogni anno e per il ricordo dei 6 dipendenti del Ministero che furono allontanati per motivi razziali. \nPartecipano: \nGiorgio Fabre e Annalisa Capristo\, autori del libro \nSaluti: Mario Pulimanti\, Direttore Vicario della Biblioteca \n 
URL:https://www.sissco.it/calendario/il-registro-la-cacciata-degli-ebrei-dallo-stato-italiano-nei-protocolli-della-corte-dei-conti-1938-1943-4/
LOCATION:Biblioteca Storica Nazionale dell’Agricoltura\, Via XX Settembre\, 20\, Roma\, 00187\, Italia
CATEGORIES:Presentazione di libro/i
ORGANIZER;CN="Unnamed Organizer":MAILTO:bibliotecastorica@politicheagricole.it
END:VEVENT
BEGIN:VEVENT
DTSTART;TZID=Europe/Rome:20190125T160000
DTEND;TZID=Europe/Rome:20190125T235900
DTSTAMP:20260421T160122
CREATED:20190124T105040Z
LAST-MODIFIED:20190124T111802Z
UID:10001920-1548432000-1548460740@www.sissco.it
SUMMARY:La violenza sulle donne a Roma durante l'occupazione nazifascista
DESCRIPTION:Venerdì 25 gennaio\, ore 16.00\, a Roma\, presso la Biblioteca Enzo Tortora (Via Nicola Zabaglia\, 27B) si terrà il terzo incontro del ciclo “La città delle donne: una mappa nascosta” – organizzato dalla Società italiana delle storiche” nell’ambito del programma didattico 2018-2019 della Sovrintendenza capitolina ai beni culturali “Educare alle mostre\, educare alla città”: \nLa violenza sulle donne a Roma durante l’occupazione nazifascista\, a cura di Simona Lunadei \nGli otto mesi dal settembre del ’43 al giugno del ’44 furono terribili per tutta la popolazione romana. La violenza\, spesso cieca e indiscriminata\, ebbe caratteri specifici nei confronti delle donne per il ruolo che esse svolgevano non solo nella lotta partigiana ma anche nella difesa della sopravvivenza civile. Una sopravvivenza materiale – ricerca affannosa del cibo e protezione di uomini braccati –  che le espose a gravi rischi. Sono le donne che assaltano i forni\, sono quelle che mettono a disposizione nascondigli\, sono quelle che a loro rischio e pericolo si compromettono con la borsa nera. Un ventaglio di azioni che garantì anche nel dopoguerra la ricostruzione morale e materiale del paese. \nIl programma completo degli incontri (12 ottobre 2018-5 aprile 2019) all’indirizzo http://www.societadellestoriche.it/index.php?option=com_content&view=article&id=758:educare-alle-mostre-educare-alla-citta-la-citta-delle-donne-roma-15-ottobre-2018-5-aprile-2019&catid=214&Itemid=218
URL:https://www.sissco.it/calendario/la-violenza-sulle-donne-a-roma-durante-loccupazione-nazifascista/
CATEGORIES:Seminario
ORGANIZER;CN="Societ%C3%A0 italiana delle storiche":MAILTO:segreteria@societadellestoriche.it
END:VEVENT
BEGIN:VEVENT
DTSTART;VALUE=DATE:20190126
DTEND;VALUE=DATE:20190127
DTSTAMP:20260421T160122
CREATED:20190117T203531Z
LAST-MODIFIED:20190117T203642Z
UID:10000669-1548460800-1548547199@www.sissco.it
SUMMARY:Républiques constituantes : l’anneée 1946 en France et en Italie
DESCRIPTION:  \nReépubliques constituantes : l’anneée 1946 en France et en Italie \n  \nProgetto SISSCO per le celebrazioni del 70° anniversario della Costituzione italiana \nin collaborazione con la Dante Alighieri Paris
URL:https://www.sissco.it/calendario/republiques-constituantes-lannee-1946-en-france-et-en-italie/
LOCATION:Parigi\, Maison de l’Italie – Cité universitaire de Paris\, 7A Boulevard Jourdan 75014\, Parigi\, Italia
CATEGORIES:Convegno
END:VEVENT
BEGIN:VEVENT
DTSTART;TZID=Europe/Rome:20190130T170000
DTEND;TZID=Europe/Rome:20190130T235900
DTSTAMP:20260421T160122
CREATED:20190115T163249Z
LAST-MODIFIED:20190115T163249Z
UID:10000666-1548867600-1548892740@www.sissco.it
SUMMARY:Paolo Treves. Biografia di un socialista diffidente
DESCRIPTION:Presentazione del libro di Andrea Ricciardi (Franco Angeli\, Milano 2018)
URL:https://www.sissco.it/calendario/paolo-treves-biografia-di-un-socialista-diffidente/
LOCATION:Museo del Risorgimento\, Via Borgonuovo 23\, Milano\, Italia
CATEGORIES:Presentazione di libro/i
END:VEVENT
END:VCALENDAR