BEGIN:VCALENDAR
VERSION:2.0
PRODID:-//SISSCO - ECPv6.15.20//NONSGML v1.0//EN
CALSCALE:GREGORIAN
METHOD:PUBLISH
X-ORIGINAL-URL:https://www.sissco.it
X-WR-CALDESC:Eventi per SISSCO
REFRESH-INTERVAL;VALUE=DURATION:PT1H
X-Robots-Tag:noindex
X-PUBLISHED-TTL:PT1H
BEGIN:VTIMEZONE
TZID:Europe/Rome
BEGIN:DAYLIGHT
TZOFFSETFROM:+0100
TZOFFSETTO:+0200
TZNAME:CEST
DTSTART:20190331T010000
END:DAYLIGHT
BEGIN:STANDARD
TZOFFSETFROM:+0200
TZOFFSETTO:+0100
TZNAME:CET
DTSTART:20191027T010000
END:STANDARD
BEGIN:DAYLIGHT
TZOFFSETFROM:+0100
TZOFFSETTO:+0200
TZNAME:CEST
DTSTART:20200329T010000
END:DAYLIGHT
BEGIN:STANDARD
TZOFFSETFROM:+0200
TZOFFSETTO:+0100
TZNAME:CET
DTSTART:20201025T010000
END:STANDARD
BEGIN:DAYLIGHT
TZOFFSETFROM:+0100
TZOFFSETTO:+0200
TZNAME:CEST
DTSTART:20210328T010000
END:DAYLIGHT
BEGIN:STANDARD
TZOFFSETFROM:+0200
TZOFFSETTO:+0100
TZNAME:CET
DTSTART:20211031T010000
END:STANDARD
END:VTIMEZONE
BEGIN:VEVENT
DTSTART;TZID=Europe/Rome:20200303T170000
DTEND;TZID=Europe/Rome:20200303T235900
DTSTAMP:20260420T121337
CREATED:20200227T163434Z
LAST-MODIFIED:20200227T163434Z
UID:10000856-1583254800-1583279940@www.sissco.it
SUMMARY:La storia delle donne per una cultura inclusiva
DESCRIPTION:Martedì 3 marzo 2020 alle ore 17.00\, a Livorno\, presso la\nSala conferenze Bottini dell’Olio (Viale Caprera)\, l’Istoreco-Istituto Storico della Resistenza e della Società Contemporanea nella provincia di Livorno\, con il patrocinio della Società italiana delle storiche e dell’Associazione Evelina De Magistris\, organizza l’iniziativa «La storia delle donne per una cultura inclusiva»\, una riflessione critica sull’insegnamento della storia in una prospettiva\ndi genere\, a partire dal volume I secoli delle donne. Fonti e materiali per la didattica della storia\, a cura di Franca bellucci\, Alessandra Celi\, Liviana Gazzetta.  \nIntroducono: Catia Sonetti (Istoreco)\, Daniela Bertelli\n(Ass. Evelina De Magistris)\nIntervengono: Tiziana Noce (SIS – Università della Calabria)\, Alessandra Pescarolo (SIS – IRPET Toscana)\nSarà presente Franca Bellucci\, co-curatrice del volume \nL’incontro\, aperto alla cittadinanza\, si propone in particolare come momento formativo per gli insegnanti. \nIstoreco è associato alla Rete degli Istituti e\ncome tale è riconosciuto dal MIUR come Agenzia formativa\, con D.M. 25/05/2001\, prot. n. 802 del 19/06/2001\, rinnovato con decreto prot. 10962 del 08.06.2005\,\naccreditamento portato a conformità della Direttiva 170/2016 con approvazione del 01.12.2016 della richiesta n. 872 ed incluso nell’elenco degli Enti accreditati.
URL:https://www.sissco.it/calendario/la-storia-delle-donne-per-una-cultura-inclusiva/
LOCATION:Livorno\, Biblioteca comunale Bottini dell'Olio - Viale Caprera\, Livorno\, 57122 \, Italia
CATEGORIES:Seminario
ORGANIZER;CN="ISTORECO":MAILTO:istoreco.livorno@gmail.com
END:VEVENT
BEGIN:VEVENT
DTSTART;TZID=Europe/Rome:20200304T143000
DTEND;TZID=Europe/Rome:20200304T235900
DTSTAMP:20260420T121337
CREATED:20200226T082554Z
LAST-MODIFIED:20200226T082554Z
UID:10000855-1583332200-1583366340@www.sissco.it
SUMMARY:Interpretare la storia ucraina: percorsi storiografici e nuove prospettive di ricerca
DESCRIPTION:Il prossimo incontro per il ciclo dei Seminari di Storia Contemporanea si terrà mercoledì 4 marzo alle 14:30 e vedrà Simona Merlo presentare una ricerca intitolata Interpretare la storia ucraina: percorsi storiografici e nove prospettive di ricerca.
URL:https://www.sissco.it/calendario/interpretare-la-storia-ucraina-percorsi-storiografici-e-nuove-prospettive-di-ricerca/
LOCATION:Scuola Superiore Meridionale\, Dottorato Global History & Governance\, 4° piano\, Aula 2\, Largo San Marcellino 10\, Napoli\, Italia
CATEGORIES:Seminario
ORGANIZER;CN="Simone Attilio Bellezza":MAILTO:sabellezza@gmail.com
END:VEVENT
BEGIN:VEVENT
DTSTART;TZID=Europe/Rome:20200304T173000
DTEND;TZID=Europe/Rome:20200304T235900
DTSTAMP:20260420T121337
CREATED:20200205T091135Z
LAST-MODIFIED:20200228T235611Z
UID:10002096-1583343000-1583366340@www.sissco.it
SUMMARY:BRUNO ZEVI INTELLETTUALE DI CONFINE: L’esilio e la guerra fredda culturale italiana\, 1938-1950
DESCRIPTION:Dibattito in occasione della presentazione del libro (Viella 2019) a cura di Francesco Bello \nIntervengono: \nGIULIANO AMATO\, Giudice della Corte Costituzionale e Presidente Onorario del Centro Studi Americani\nPIERO CRAVERI\, Professore Emerito di Storia Contemporanea\, Istituto Suor Orsola Benincasa\, e Presidente della Fondazione Biblioteca Benedetto Croce\nROBERTO DULIO\, Professore di Storia dell’Architettura\, Politecnico di Milano\nMASSIMO TEODORI\, Professore di Storia e istituzioni degli Stati Uniti \nIntroduce e modera: \nDANIELE FIORENTINO\, Direttore Dipartimento di Scienze Politiche\, Università Roma Tre e Direttore CISPEA \nSarà presente il curatore FRANCESCO BELLO\, borsista Fondazione Luigi Einaudi di Torino
URL:https://www.sissco.it/calendario/bruno-zevi-intellettuale-di-confine-lesilio-e-la-guerra-fredda-culturale-italiana-1938-1950/
LOCATION:Centro Studi Americani\, Via Michelangelo Caetani\, 32\, Roma\, 00186\, Italia
CATEGORIES:Presentazione di libro/i
ORGANIZER;CN="Unnamed Organizer":MAILTO:RSVP: event@centrostudiamericani.org
END:VEVENT
BEGIN:VEVENT
DTSTART;TZID=Europe/Rome:20200306T170000
DTEND;TZID=Europe/Rome:20200306T235900
DTSTAMP:20260420T121337
CREATED:20200211T091848Z
LAST-MODIFIED:20200305T085716Z
UID:10002101-1583514000-1583539140@www.sissco.it
SUMMARY:La nascita della criminologia e la donna delinquente lombrosiana
DESCRIPTION:LA PRESENTAZIONE DEI VOLUMI È STATA RINVIATA A DATA DA DESTINARSI \nPresentazione dei volumi \nDonne delinquenti\nIl genere e la nascita della criminologia\ndi Silvano Montaldo \nLa donna delinquente e la prostituta. L’eredità di Lombroso nella cultura e nella società italiane\, a cura di Liliosa Azara e Luca Tedesco \nPresiede\nCarmela Covato\, Università degli Studi Roma Tre  \nIntervengono\nEdoardo Bressan\, Università degli Studi di Macerata\nRenato Foschi\, Università degli Studi “La Sapienza”\nChiara Lucrezio Monticelli\, Università degli Studi di Tor Vergata\nSaranno presenti l’autore e i curatori dei volumi
URL:https://www.sissco.it/calendario/donne-delinquenti-e-prostitute/
LOCATION:Biblioteca di Storia moderna e contemporanea – Palazzo Mattei di Giove\, Via Michelangelo Caetani\, 32\, Roma\, 00186\, Italia
CATEGORIES:Presentazione di libro/i
ORGANIZER;CN="Luca Tedesco":MAILTO:luca.tedesco@uniroma3.it
END:VEVENT
BEGIN:VEVENT
DTSTART;TZID=Europe/Rome:20200319T190000
DTEND;TZID=Europe/Rome:20200405T235900
DTSTAMP:20260420T121337
CREATED:20200319T175814Z
LAST-MODIFIED:20200319T190833Z
UID:10000857-1584644400-1586131140@www.sissco.it
SUMMARY:#iorestoacasaeviaggionellastoria
DESCRIPTION:La Biblioteca di storia moderna e contemporanea sostiene la campagna MIbact #iorestoacasa\, mostrando le proprie collezioni.  \nDa questo momento sul profilo Facebook https://www.facebook.com/BSMCstoriamoderna/ propone un viaggio nella storia attraverso le numerose risorse digitali – volumi\, giornali\, materiale iconografico – in libera consultazione.
URL:https://www.sissco.it/calendario/iorestoacasaeviaggionellastoria-2/
LOCATION:Roma
CATEGORIES:Altro
ATTACH;FMTTYPE=image/jpeg:https://www.sissco.it/wp-content/uploads/2020/03/repubblica_romana3.jpg
ORGANIZER;CN="Oriana Rizzuto":MAILTO:b-stmo.info@beniculturali.it
END:VEVENT
END:VCALENDAR