BEGIN:VCALENDAR
VERSION:2.0
PRODID:-//SISSCO - ECPv6.15.20//NONSGML v1.0//EN
CALSCALE:GREGORIAN
METHOD:PUBLISH
X-ORIGINAL-URL:https://www.sissco.it
X-WR-CALDESC:Eventi per SISSCO
REFRESH-INTERVAL;VALUE=DURATION:PT1H
X-Robots-Tag:noindex
X-PUBLISHED-TTL:PT1H
BEGIN:VTIMEZONE
TZID:Europe/Rome
BEGIN:DAYLIGHT
TZOFFSETFROM:+0100
TZOFFSETTO:+0200
TZNAME:CEST
DTSTART:20190331T010000
END:DAYLIGHT
BEGIN:STANDARD
TZOFFSETFROM:+0200
TZOFFSETTO:+0100
TZNAME:CET
DTSTART:20191027T010000
END:STANDARD
BEGIN:DAYLIGHT
TZOFFSETFROM:+0100
TZOFFSETTO:+0200
TZNAME:CEST
DTSTART:20200329T010000
END:DAYLIGHT
BEGIN:STANDARD
TZOFFSETFROM:+0200
TZOFFSETTO:+0100
TZNAME:CET
DTSTART:20201025T010000
END:STANDARD
BEGIN:DAYLIGHT
TZOFFSETFROM:+0100
TZOFFSETTO:+0200
TZNAME:CEST
DTSTART:20210328T010000
END:DAYLIGHT
BEGIN:STANDARD
TZOFFSETFROM:+0200
TZOFFSETTO:+0100
TZNAME:CET
DTSTART:20211031T010000
END:STANDARD
END:VTIMEZONE
BEGIN:VEVENT
DTSTART;TZID=Europe/Rome:20200518T160000
DTEND;TZID=Europe/Rome:20200518T235900
DTSTAMP:20260420T082350
CREATED:20200516T165245Z
LAST-MODIFIED:20200516T165615Z
UID:10000859-1589817600-1589846340@www.sissco.it
SUMMARY:Comunicare la storia\, le memorie e il patrimonio. Messico il caso di un paese pluriculturale
DESCRIPTION:Il seminario virtuale nasce con l\’obiettivo di riflettere su come la storia e la memoria di un paese composito e pluriculturale come il Messico possano dialogare e attraverso quali canali di comunicazione possano generare forme innovative di divulgazione in un contesto sempre più \”glocal\”. Tra esigenza della ricerca\, public history\, tutela della pluralità della memoria e delle cangianti tradizioni etno-linguistiche\, il seminario toccherà diversi punti: dalla genesi della piattaforma virtuale \”Memorica\”\, che ha coinvolto i principali archivi e centri di ricerca messicani\, al rapporto storia/memorie. \nProgramma: \nSaluto: Giovanna Rocca (Prorettore alla Ricerca\, Università IULM) \nRelazioni: \nGabriela Pulido Llano\, Storica\, Coordinación Nacional Memoria Histórica y Cultural de México \nClementina Battcock\, Storica\, Dirección de Estudios Históricos del Instituto Nacional de Antropología e Historia (INAH) \nDiscussant e moderatore: Massimo De Giuseppe\, Storico\, Università IULM \nTestimonianza: Giuseppe Carrieri\, il progetto di un docu-film tra due oceani \nPer partecipare contattare: master.micri@iulm.it
URL:https://www.sissco.it/calendario/comunicare-la-storia-le-memorie-e-il-patrimonio-messico-il-caso-di-un-paese-pluriculturale/
LOCATION:Università IULM  (aula virtuale)\, Via Carlo Bo\, 1\, Milano\, 20143\, Italia
CATEGORIES:Seminario
ORGANIZER;CN="Massimo De Giuseppe":MAILTO:massimo.degiuseppe@iulm.it
END:VEVENT
BEGIN:VEVENT
DTSTART;TZID=Europe/Rome:20200526T150000
DTEND;TZID=Europe/Rome:20200526T235900
DTSTAMP:20260420T082350
CREATED:20200526T184734Z
LAST-MODIFIED:20200526T184816Z
UID:10002110-1590505200-1590537540@www.sissco.it
SUMMARY:Living Under the Evil Pope: The Hebrew Chronicle of Pope Paul IV by Benjamin Nehemiah Ben Elnathan from Civitanova Marche (16th Cent.)
DESCRIPTION:Oggi\, sul canale Youtube della Biblioteca di storia moderna e contemporanea\, per il Maggio dei libri 2020\, si è tenuta la presentazione del volume di Martina Mampieri\, Living Under the Evil Pope: The Hebrew Chronicle of Pope Paul IV by Benjamin Nehemiah Ben Elnathan from Civitanova Marche (16th Cent.)\, (Brill\, 2019).  \nSaluti di Oriana Rizzuto\, per la biblioteca di storia moderna e contemporanea; sono intervenuti\, con l’Autrice\, Anna Foa\, Michael Gasperoni\, Andrea Vanni\, con il coordinamento di Andrea Broggio.
URL:https://www.sissco.it/calendario/living-under-the-evil-pope-the-hebrew-chronicle-of-pope-paul-iv-by-benjamin-nehemiah-ben-elnathan-from-civitanova-marche-16th-cent/
LOCATION:https://www.youtube.com/watch?v=Bz3oI1HET58\, Via Michelangelo Caetani\, 32\, Roma\, 00186\, Italia
CATEGORIES:Presentazione di libro/i
ORGANIZER;CN="Oriana Rizzuto":MAILTO:b-stmo.info@beniculturali.it
END:VEVENT
BEGIN:VEVENT
DTSTART;VALUE=DATE:20200527
DTEND;VALUE=DATE:20200531
DTSTAMP:20260420T082350
CREATED:20200523T092136Z
LAST-MODIFIED:20200524T062933Z
UID:10002108-1590537600-1590883199@www.sissco.it
SUMMARY:Spring School Terrorism and Security Politics IPSE 2020
DESCRIPTION:IPSE – International Politics and Security Spring School originates in the MA Program in European and Global Studies\, held by the Department of Political Science\, Law and International Studies of the University of Padua.IPSE addresses the main changes in International Politics & Security\, thanks to an historical and integrated approach: it relies on a network of 10 European Universities\, involving worldwide well-known experts that study in-depth this phenomenon from a multidisciplinary perspective.\nIn the last decades\, due to a pressing rise of terrorists attacks\, the studies related to political violence have known a new wave of interest among academics\, scholars\, intellectuals in general. From history to political science\, from sociology to economy and international relations\, IPSE offers a unique opportunity to learn the most relevant scientific developments in this area of knowledge. IPSE is open to MA and PhD students\, and early postdoctoral students who have a specific interest in these topics.\nThe first edition (May 27-30\, 2020) is dedicated to the analysis of the terrorist threat and security politics. Main topics will be: the impact of terrorism over international and national systems; mobility and security; cybersecurity; radicalization. Given the seminar structure of the Spring School\, IPSE wants to be a fertile moment of discussion among senior scholars and young researchers on the most updated research in the field.
URL:https://www.sissco.it/calendario/spring-school-terrorism-and-security-politics-ipse-2020-universita-di-padova-27-30-maggio-2020/
LOCATION:Luogo Senza Nome\, Padova
CATEGORIES:Workshop
END:VEVENT
BEGIN:VEVENT
DTSTART;TZID=Europe/Rome:20200527T150000
DTEND;TZID=Europe/Rome:20200527T170000
DTSTAMP:20260420T082350
CREATED:20200522T151935Z
LAST-MODIFIED:20200523T074556Z
UID:10002107-1590591600-1590598800@www.sissco.it
SUMMARY:Between mobile privatization and privatized mobility. Looking at mobile media in historical perspective
DESCRIPTION:  \nSeminario telematico di Gabriele Balbi (USI Università della Svizzera italiana) e Paolo Magaudda (Università di Padova) \nSeminario organizzato nell’ambito del ciclo Mobility&Humanities Seminar Series – Nodo “Teorie e Metodi” \n Zoom meeting registration (prenotazione obbligatoria)
URL:https://www.sissco.it/calendario/between-mobile-privatization-and-privatized-mobility-looking-at-mobile-media-in-historical-perspective/
LOCATION:Online
CATEGORIES:Seminario
ORGANIZER;CN="Centro d'Eccellenza Mobility & Humanties (MOHU)":MAILTO:mobilab.dissgea@unipd.it
END:VEVENT
BEGIN:VEVENT
DTSTART;TZID=Europe/Rome:20200529T173000
DTEND;TZID=Europe/Rome:20200529T235900
DTSTAMP:20260420T082350
CREATED:20200521T130819Z
LAST-MODIFIED:20200521T130819Z
UID:10000860-1590773400-1590796740@www.sissco.it
SUMMARY:Separate in casa. Lavoratrici domestiche\, femministe e sindacaliste: una mancata alleanza\,
DESCRIPTION:Il 29 maggio\, dalle 17.30 alle 19.30\, la Società italiana delle storiche\, in collaborazione con il Dipartimento di Scienze della Comunicazione\, Studi Umanistici e Internazionali dell’Università di Urbino Carlo Bo. presenta il volume \nSeparate in casa. Lavoratrici domestiche\, femministe e sindacaliste: una mancata alleanza\, a cura di Beatrice Busi\n(Ediesse\, 2020). \nIntervengono: Simona Feci – Presidente SIS; Sabrina Marchetti – Coordinatrice del progetto ERC DomEQUAL; Beatrice Busi – curatrice del volume; le autrici Alisa Del Re\, Alessandra Pescarolo\, Valeria Ribeiro Corossacz\, Vincenza Perilli\, Alessandra Gissi\, Anna Frisone\, Elena Petricola\, Raffaella Sarti. \nLink al quale collegarsi*: \n \nIl libro\, pubblicato in open access\, può essere scaricato in formato Epub e Pdf dal sito del progetto ERC DomEQUAL  https://domequal.eu/output/separate-in-casa-lavoratrici-domestiche-femministe-e-sindacaliste-una-mancata-alleanza/?fbclid=IwAR0yHZcSa6u4WIy51tRzP236wVURnWbnhMPwksfm77JQ5n8fzFzKxyYFuXA  \n_______________________________________________________ \nINDICE \nIndice\nIntroduzione – Genere\, “razza” e composizione di classe nel lavoro domestico e di cura\, di Beatrice Busi\nCapitolo primo – Il lavoro di riproduzione e il mercato\, di Alisa Del Re\nCapitolo secondo – Lavoro produttivo e riproduttivo: categorie da riscrivere per una rivalorizzazione della cura\, di Alessandra Pescarolo\nCapitolo terzo – “Domestic work is work”. Le lotte delle lavoratrici domestiche e la divisione socio-sessuata del lavoro\, di Valeria Ribeiro Corossacz\nCapitolo quarto – «La donna». Una lettura intersezionale delle rappresentazioni visuali del lavoro domestico in Italia dal secondo dopoguerra alla fine degli anni Settanta\, di Vincenza Perilli\nCapitolo quinto – Migrazioni femminili e neofemminismo: una prospettiva storica\, di Alessandra Gissi\nCapitolo sesto – Lavoro domestico e femminismo sindacale: un incontro mancato? Alcune riflessioni\, di Anna Frisone\nCapitolo settimo – Soldi per vivere\, non per lavorare. Il lavoro nei femminismi italiani e il reddito di autodeterminazione\, di Elena Petricola\nCapitolo ottavo – Casalinghe e colf: gerarchie domestiche o comune oppressione? Tentativi di riforma\, mancate sinergie e prospettive future\, di Raffaella Sarti
URL:https://www.sissco.it/calendario/separate-in-casa-lavoratrici-domestiche-femministe-e-sindacaliste-una-mancata-alleanza/
LOCATION:Urbino\, https://eu.bbcollab.com/collab/ui/session/guest/ae1d219df60e4d649b44fea58d6d1a83?fbclid=IwAR0YeIpa6y-FzCc1PKsOKmfG2eYYBWa90xv4k7l28zbRRC3WUaQqdKcYXfs\, Urbino\, Italia
CATEGORIES:Presentazione di libro/i
END:VEVENT
END:VCALENDAR