BEGIN:VCALENDAR
VERSION:2.0
PRODID:-//SISSCO - ECPv6.15.20//NONSGML v1.0//EN
CALSCALE:GREGORIAN
METHOD:PUBLISH
X-WR-CALNAME:SISSCO
X-ORIGINAL-URL:https://www.sissco.it
X-WR-CALDESC:Eventi per SISSCO
REFRESH-INTERVAL;VALUE=DURATION:PT1H
X-Robots-Tag:noindex
X-PUBLISHED-TTL:PT1H
BEGIN:VTIMEZONE
TZID:Europe/Rome
BEGIN:DAYLIGHT
TZOFFSETFROM:+0100
TZOFFSETTO:+0200
TZNAME:CEST
DTSTART:20190331T010000
END:DAYLIGHT
BEGIN:STANDARD
TZOFFSETFROM:+0200
TZOFFSETTO:+0100
TZNAME:CET
DTSTART:20191027T010000
END:STANDARD
BEGIN:DAYLIGHT
TZOFFSETFROM:+0100
TZOFFSETTO:+0200
TZNAME:CEST
DTSTART:20200329T010000
END:DAYLIGHT
BEGIN:STANDARD
TZOFFSETFROM:+0200
TZOFFSETTO:+0100
TZNAME:CET
DTSTART:20201025T010000
END:STANDARD
BEGIN:DAYLIGHT
TZOFFSETFROM:+0100
TZOFFSETTO:+0200
TZNAME:CEST
DTSTART:20210328T010000
END:DAYLIGHT
BEGIN:STANDARD
TZOFFSETFROM:+0200
TZOFFSETTO:+0100
TZNAME:CET
DTSTART:20211031T010000
END:STANDARD
END:VTIMEZONE
BEGIN:VEVENT
DTSTART;TZID=Europe/Rome:20201001T090000
DTEND;TZID=Europe/Rome:20201002T235900
DTSTAMP:20260419T231503
CREATED:20200921T150551Z
LAST-MODIFIED:20200922T075249Z
UID:10000866-1601542800-1601683140@www.sissco.it
SUMMARY:La Breccia di Porta Pia
DESCRIPTION:Convegno Internazionale di Studi nel 150° anniversario (1870-2020)
URL:https://www.sissco.it/calendario/la-breccia-di-porta-2/
LOCATION:1 ottobre: LUMSA-Libera Università “Maria SS.ma Assunta”\, Aula Magna\, Borgo Sant’Angelo 13\, Roma; 2 ottobre Sala Capitolare del Chiostro di Santa Maria sopra Minerva presso il Senato della Repubblica\, Piazza della Minerva 38\, Roma\, 1 ottobre Borgo Sant'Angelo 13\, Roma; 2 ottobre Piazza della Minerva 38\, Roma\, 10085\, Italia
CATEGORIES:Convegno
ORGANIZER;CN="Ester Capuzzo":MAILTO:ester.capuzzo@uniroma1.it
END:VEVENT
BEGIN:VEVENT
DTSTART;TZID=Europe/Rome:20201007T190000
DTEND;TZID=Europe/Rome:20201007T235900
DTSTAMP:20260419T231503
CREATED:20201005T182921Z
LAST-MODIFIED:20201005T182921Z
UID:10002116-1602097200-1602115140@www.sissco.it
SUMMARY:Separate in casa. Lavoratrici domestiche\, femministe e sindacaliste: una mancata alleanza
DESCRIPTION:Nell’ambito di Feminism 3 – Fiera dell’editoria delle donne\, a Roma\, presso la Casa Internazionale delle donne – Sala Carla Lonzi (via della Lungara 19\, Roma)\, il 7 ottobre p.v. alle 19.00\, verrà presentato il volume Separate in casa. Lavoratrici domestiche\, femministe e sindacaliste: una mancata alleanza\, a cura di Beatrice Busi (Ediesse\, 2020). \nCon scritti di: Alisa Del Re\, Anna Frisone\, Alessandra Gissi\, Vincenza Perilli\, Alessandra Pescarolo\, Valeria Ribeiro Corossacz\, Elena Petricola\, Raffaella Sarti \nNe discutono: Beatrice Busi\,  Alessandra Gissi\, Valeria Ribeiro Corossacz; coordina Sara Picchi \nIn ottemperanza alle disposizioni inerenti il distanziamento fisico per partecipare all’evento è necessaria la prenotazione e la ricezione di sua conferma all’indirizzo email:  stefaniavulterini@gmail.com
URL:https://www.sissco.it/calendario/separate-in-casa-lavoratrici-domestiche-femministe-e-sindacaliste-una-mancata-alleanza-2/
LOCATION:Roma\, Casa internazionale delle donne - Via della Lungara\, 19\, Roma\, 00165\, Italia
CATEGORIES:Presentazione di libro/i
ORGANIZER;CN="Stefania Vulterini":MAILTO:stefaniavulterini@gmail.com
END:VEVENT
BEGIN:VEVENT
DTSTART;TZID=Europe/Rome:20201012T150000
DTEND;TZID=Europe/Rome:20201012T235900
DTSTAMP:20260419T231503
CREATED:20201008T132215Z
LAST-MODIFIED:20201008T132215Z
UID:10002117-1602514800-1602547140@www.sissco.it
SUMMARY:Passati Ingombranti - Traumi\, rimozioni e iconoclastia nelle storie del tempo presente
DESCRIPTION:La serie imponente di proteste su scala globale scatenatesi a partire dall’uccisione di George Floyd ha mostrato l’esistenza di ferite ancora aperte in molte società occidentali. Prendendo spunto da queste vicende\, l’area di Storia contemporanea dell’Università di Roma Tor Vergata propone un ciclo di incontri che si apre il 12 ottobre 2020 e si concluderà nell’autunno 2021. Con uno sguardo globale\, il ciclo Passati ingombranti si concentra su tre focus tematici\, dedicati rispettivamente a Imperi (autunno 2020)\, Genocidi (primavera 2021)\, Dittature (autunno 2021). \nPrimo incontro: Stati Uniti \nIntervengono:\nMario del Pero (SciencesPo Paris)\,\nFraser Ottanelli (University of South Florida)\,\nMatteo Pretelli (Università degli Studi di Napoli L’Orientale) \nIntroduce: Lucia Ceci\nModera: Gianluca Fiocco \nL’evento si potrà seguire sulla piattaforma Teams
URL:https://www.sissco.it/calendario/passati-ingombranti-traumi-rimozioni-e-iconoclastia-nelle-storie-del-tempo-presente/
LOCATION:Università degli Studi di Roma “Tor Vergata”\, Italia
CATEGORIES:Seminario
ORGANIZER;CN="Enrico Acciai":MAILTO:enrico.acciai@uniroma.it
END:VEVENT
BEGIN:VEVENT
DTSTART;TZID=Europe/Rome:20201015T173000
DTEND;TZID=Europe/Rome:20201015T193000
DTSTAMP:20260419T231503
CREATED:20201015T122526Z
LAST-MODIFIED:20201015T122751Z
UID:10002118-1602783000-1602790200@www.sissco.it
SUMMARY:Il razzismo sottopelle. L'eredità coloniale nell'Italia repubblicana
DESCRIPTION:A cura di Andrea Bui. Interventi di Valeria Deplano e Alessandro Pes. \nParte del ciclo di incontri “Ti porterò dall’Africa un bel fior. Storie e scorie dell’Italia coloniale”\, organizzato da Centro Studi Movimenti Parma e Storie in Movimento. \nIn diretta su Youtube Giovedì 15 ottobre 2020 dalle ore 17.30\, all’indirizzo https://www.youtube.com/watch?v=olkOpxuRaGw&feature=youtu.be \n 
URL:https://www.sissco.it/calendario/il-razzismo-sottopelle-leredita-coloniale-nellitalia-repubblicana/
CATEGORIES:Seminario
ORGANIZER;CN="Centro Studi Movimenti Parma":MAILTO:centrostudimovimenti@gmail.com
END:VEVENT
BEGIN:VEVENT
DTSTART;TZID=Europe/Rome:20201016T150000
DTEND;TZID=Europe/Rome:20201017T235900
DTSTAMP:20260419T231503
CREATED:20200922T100730Z
LAST-MODIFIED:20201011T085935Z
UID:10000867-1602860400-1602979140@www.sissco.it
SUMMARY:Il reclutamento di manodopera dall'area veneta per l'economia di guerra nazionalsocialista 1943-1945
DESCRIPTION:Seminario di studi in prosecuzione della ricerca sul tema\, progetto finanziato dall’Auswärtiges Amt della BRD. \nRelazioni di: Brunello Mantelli\, Francesca Cavarocchi\, Sonia Residori\, Alessia Bussola\, Andrea Ferrari\, Adriana Lotto\, Antonella Tiburzi\, Sara Bergamasco\, Luciano Zani\, Enrico Serventi Longhi\, Rosina Zucco\, Lutz Klinkhammer. \nAll’interno del seminario presentazione di Lavorare per il Reich\, guida alle fonti per lo studio del prelievo e dell’utilizzo di manodopera coatta italiana 1943-1945 (Roma\, Novalogos\, 2020). Ne discono con i curatori (Giovanna D’Amico\, Irene Guerrini\, Brunello Mantelli) Gian Paolo Romagnani e Antonio Varsori. \nModerano Antonella Toffanello\, Enzo Orlanducci\, Floriana Rizzetto. \nIniziativa promossa da Fondazione “Memoria per il Futuro”\, ANRP\, Accademia dei Concordi\, ANPI di Padova e di Rovigo\, ANEI di Vicenza\, SISCALT
URL:https://www.sissco.it/calendario/il-reclutamento-di-manodopera-dallarea-veneta-per-leconomia-di-guerra-nazionalsocialista-1943-1945/
LOCATION:Accademia dei Concordi\, Piazza Vittorio Emanuele II\, 14\, Rovigo\, 45100\, Italia
CATEGORIES:Seminario
ORGANIZER;CN="Brunello Mantelli":MAILTO:prof.brunello.mantelli@gmail.com
END:VEVENT
BEGIN:VEVENT
DTSTART;TZID=Europe/Rome:20201017T093000
DTEND;TZID=Europe/Rome:20201017T235900
DTSTAMP:20260419T231503
CREATED:20201003T094150Z
LAST-MODIFIED:20201003T094150Z
UID:10000868-1602927000-1602979140@www.sissco.it
SUMMARY:1920-2020 Un secolo d'informazione anarchica
DESCRIPTION:Giornata di studi per “Umanità Nova”
URL:https://www.sissco.it/calendario/1920-2020-un-secolo-dinformazione-anarchica/
LOCATION:CIDRA (Centro Imolese di Documentazione sulla Resistenza e Storia Contemporanea)\, via Fratelli Bandiera 23\, Imola\, 40026\, Italia
CATEGORIES:Convegno
ORGANIZER;CN="Giorgio Sacchetti":MAILTO:info.asfai@libero.it
END:VEVENT
BEGIN:VEVENT
DTSTART;TZID=Europe/Rome:20201022T173000
DTEND;TZID=Europe/Rome:20201022T173000
DTSTAMP:20260419T231503
CREATED:20201015T124133Z
LAST-MODIFIED:20201015T125700Z
UID:10002119-1603387800-1603387800@www.sissco.it
SUMMARY:Le fotografie raccontano l'esperienza coloniale
DESCRIPTION:A cura di Latino Taddei. Interventi di Costantino Di Sante e Domenico Vitale. \nParte del ciclo di incontri “Ti porterò dall’Africa un bel fior. Storie e scorie dell’Italia coloniale”\, organizzato da Centro Studi Movimenti Parma e Storie in Movimento. \nIn diretta su Youtube Giovedì 22 ottobre 2020 dalle ore 17.30\, all’indirizzo https://www.youtube.com/watch?v=olkOpxuRaGw&feature=youtu.be
URL:https://www.sissco.it/calendario/le-fotografie-raccontano-lesperienza-coloniale/
LOCATION:YouTube
CATEGORIES:Seminario
ORGANIZER;CN="Centro Studi Movimenti Parma":MAILTO:centrostudimovimenti@gmail.com
END:VEVENT
END:VCALENDAR