BEGIN:VCALENDAR
VERSION:2.0
PRODID:-//SISSCO - ECPv6.15.20//NONSGML v1.0//EN
CALSCALE:GREGORIAN
METHOD:PUBLISH
X-WR-CALNAME:SISSCO
X-ORIGINAL-URL:https://www.sissco.it
X-WR-CALDESC:Eventi per SISSCO
REFRESH-INTERVAL;VALUE=DURATION:PT1H
X-Robots-Tag:noindex
X-PUBLISHED-TTL:PT1H
BEGIN:VTIMEZONE
TZID:Europe/Rome
BEGIN:DAYLIGHT
TZOFFSETFROM:+0100
TZOFFSETTO:+0200
TZNAME:CEST
DTSTART:20200329T010000
END:DAYLIGHT
BEGIN:STANDARD
TZOFFSETFROM:+0200
TZOFFSETTO:+0100
TZNAME:CET
DTSTART:20201025T010000
END:STANDARD
BEGIN:DAYLIGHT
TZOFFSETFROM:+0100
TZOFFSETTO:+0200
TZNAME:CEST
DTSTART:20210328T010000
END:DAYLIGHT
BEGIN:STANDARD
TZOFFSETFROM:+0200
TZOFFSETTO:+0100
TZNAME:CET
DTSTART:20211031T010000
END:STANDARD
BEGIN:DAYLIGHT
TZOFFSETFROM:+0100
TZOFFSETTO:+0200
TZNAME:CEST
DTSTART:20220327T010000
END:DAYLIGHT
BEGIN:STANDARD
TZOFFSETFROM:+0200
TZOFFSETTO:+0100
TZNAME:CET
DTSTART:20221030T010000
END:STANDARD
END:VTIMEZONE
BEGIN:VEVENT
DTSTART;TZID=Europe/Rome:20210112T180000
DTEND;TZID=Europe/Rome:20210112T235900
DTSTAMP:20260419T180534
CREATED:20210109T214535Z
LAST-MODIFIED:20210109T214626Z
UID:10000887-1610474400-1610495940@www.sissco.it
SUMMARY:'I conti con la storia' (WebDoc)
DESCRIPTION:Martedì 12 gennaio alle ore 18 verrà presentato il WebDoc “I conti con la storia”\, di Leonardo Campus\, assegnista del Venice Centre for Digital and Public Humanities dell’Università Ca’Foscari: www.iconticonlastoria.it\nUn viaggio interattivo nella memoria delle leggi razziali\, attraverso testi\, video\, infografiche\, link\, etc. Un percorso di approfondimento innovativo\, digitale\, pensato sia per gli studiosi che per il pubblico\, sul modo in cui una delle pagine più oscure della storia nazionale è stata analizzata e raccontata agli italiani dalla televisione pubblica\, oltre che dalla storiografia e dalle istituzioni\, dal Dopoguerra ad oggi.\nGrazie a uno speciale accordo con Rai Teche e a una lunga ricerca d’archivio\, il WebDoc riporta alla luce e rende accessibili al pubblico estratti di preziosi documenti video\, alcuni dei quali dimenticati\, firmati da maestri come Sergio Zavoli\, Liliana Cavani\, Enzo Biagi\, Arrigo Levi\, o arricchiti dalle testimonianze di Primo Levi\, Nedo Fiano\, Liliana Segre. \nLeonardo Campus – storico e autore tv di programmi storici – ne parlerà con Simon Levis Sullam (Univ. Ca’Foscari) e Gadi Luzzatto Voghera (direttore della fondazione CDEC – Centro di Documentazione Ebraica Contemporanea). Modera Stefano Dall’Aglio (VeDPH) \nPer partecipare è necessario registrarsi tramite Zoom al link bit.ly/37dMCC8
URL:https://www.sissco.it/calendario/i-conti-con-la-storia-webdoc/
CATEGORIES:Altro
END:VEVENT
BEGIN:VEVENT
DTSTART;TZID=Europe/Rome:20210120T170000
DTEND;TZID=Europe/Rome:20210120T235900
DTSTAMP:20260419T180534
CREATED:20210114T164535Z
LAST-MODIFIED:20210114T235136Z
UID:10000888-1611162000-1611187140@www.sissco.it
SUMMARY:Contagi fra razze\, classi e generi.  Vaiolo e colera a Istanbul\, in Algeria e a Napoli (XVIII e XX secolo)
DESCRIPTION:Mercoledì 20 gennaio 2021\, alle ore 17.00\,\nper il ciclo \nContagi. Saperi\, pratiche\, esperienze dal Medioevo all’età contemporanea \nIn diretta facebook e youtube alle pagine\nhttps://www.facebook.com/SISstoriche.1989/\nhttps://www.youtube.com/channel/UCYv5wXGxBT0gvQ_lWlLg_GQ \nla Società italiana delle storiche presenta una discussione sul tema \nContagi fra razze\, classi e generi.\nVaiolo e colera a Istanbul\, in Algeria e a Napoli (XVIII e XX secolo) \nIntervengono\nGiulia Calvi\, Francesca Arena\, Marcello Anselmo \nCoordina\nAdelisa Malena
URL:https://www.sissco.it/calendario/contagi-fra-razze-classi-e-generi-vaiolo-e-colera-a-istanbul-in-algeria-e-a-napoli-xviii-e-xx-secolo/
LOCATION:Società italiana delle storiche\, Via della Lungara\, 19\, Roma\, 00165\, Italia
CATEGORIES:Workshop
ORGANIZER;CN="Societ%C3%A0 italiana delle storiche":MAILTO:segreteria@societadellestoriche.it
END:VEVENT
BEGIN:VEVENT
DTSTART;TZID=Europe/Rome:20210125T173000
DTEND;TZID=Europe/Rome:20210125T235900
DTSTAMP:20260419T180534
CREATED:20210123T171842Z
LAST-MODIFIED:20210123T173001Z
UID:10002137-1611595800-1611619140@www.sissco.it
SUMMARY:Le forme attuali dell'antisemitismo
DESCRIPTION:Valentino Baldacci introduce un incontro con Barbara Pontecorvo (Presidente di Solomon – Osservatorio contro le discriminazioni) e David Meghnagi (Prof. senior Università Roma Tre – Ordinario Società Psicoanalitica Italiana). L’incontro avviene sulla piattaforma Zoom. Per collgarsi usare il link https://us02web.zoom.us/j/82367251245?pwd=Um5wL243enNkVm9UVVc5Wkg0S01LQT09\nID riunione 823 6725 1245\nPass code 249031 \nVedi anche invito allegato
URL:https://www.sissco.it/calendario/le-forme-attuali-dellantisemitismo/
LOCATION:Piattaforma Zoom\, Italia
CATEGORIES:Convegno
ORGANIZER;CN="Valentino Baldacci":MAILTO:valentinobaldacci@gmail.com
END:VEVENT
BEGIN:VEVENT
DTSTART;TZID=Europe/Rome:20210128T160000
DTEND;TZID=Europe/Rome:20210128T235900
DTSTAMP:20260419T180534
CREATED:20210125T150419Z
LAST-MODIFIED:20210125T150419Z
UID:10002138-1611849600-1611878340@www.sissco.it
SUMMARY:Stefano Fenoaltea\, Reconstructing the Past. Revised Estimates of ltaly's Product1 1861-1913
DESCRIPTION:FONDAZIONE LUIGI EINAUDI di TORINO \nStefano Fenoaltea\, Reconstructing the Past.\nRevised Estimates of ltaly’s Product 1861-1913\,\nFondazione Luigi Einaudi\, Torino 2020 \nNe discutono: Gianni Toniolo\, Alberto Baffigi\, Giovanni Vecchi\nCoordina: Pierluigi Ciocca
URL:https://www.sissco.it/calendario/stefano-fenoaltea-reconstructing-the-past-revised-estimates-of-ltalys-product1-1861-1913/
LOCATION:Fondazione Eianudi\, Torino\, Italia
CATEGORIES:Presentazione di libro/i
ORGANIZER;CN="":MAILTO:segreteria@fondazioneeinaudi.it
END:VEVENT
BEGIN:VEVENT
DTSTART;VALUE=DATE:20210129
DTEND;VALUE=DATE:20210130
DTSTAMP:20260419T180534
CREATED:20210122T193120Z
LAST-MODIFIED:20210122T193542Z
UID:10000889-1611878400-1611964799@www.sissco.it
SUMMARY:Una storia dimenticata: l'esperienza dei profughi ebrei e il riconoscimento del diritto alla fuga
DESCRIPTION:29 gennaio 2021\, ore 18 su piattaforma zoom \nDialogo fra Valeria Galimi (Università di Firenze)\, Chiara Renzo (Università di Firenze) e Silvia Salvatici (Università di Milano)
URL:https://www.sissco.it/calendario/una-storia-dimenticata-lesperienza-dei-profughi-ebrei-e-il-riconoscimento-del-diritto-alla-fuga/
LOCATION:Istituto storico toscano della Resistenza e dell’età contemporanea con il patrocinio del Dipartimento Sagas\, Università di FIrenze\, Italia
CATEGORIES:Seminario
ORGANIZER;CN="Per info e prenotazioni":MAILTO:isrt@istoresistenzatoscana.it
END:VEVENT
BEGIN:VEVENT
DTSTART;TZID=Europe/Rome:20210129T180000
DTEND;TZID=Europe/Rome:20210129T235900
DTSTAMP:20260419T180534
CREATED:20210122T133330Z
LAST-MODIFIED:20210122T134051Z
UID:10000890-1611943200-1611964740@www.sissco.it
SUMMARY:Quando gli italiani invasero la Cina.Prove tecniche di colonialismo
DESCRIPTION:All’interno del ciclo Lezioni di Storia 2020-2021\, il Comitato provinciale di Foggia dell’Istituto di Storia del Risorgimento è lieto di invitarvi all’incontro “Quando gli italiani invasero la Cina. Prove tecniche di colonialismo” tenuto da Raffaele Letterio\, introduce Michele Presutto \nL’incontro di terrà su facebook al seguente link: \n\n  \n 
URL:https://www.sissco.it/calendario/quando-gli-italiani-invasero-la-cina-prove-tecniche-di-colonialismo/
CATEGORIES:Workshop
END:VEVENT
END:VCALENDAR